BEGIN:VCALENDAR
VERSION:2.0
PRODID:-//ON Stage Arizona - ECPv6.15.18//NONSGML v1.0//EN
CALSCALE:GREGORIAN
METHOD:PUBLISH
X-WR-CALNAME:ON Stage Arizona
X-ORIGINAL-URL:https://onstageaz.com
X-WR-CALDESC:Events for ON Stage Arizona
REFRESH-INTERVAL;VALUE=DURATION:PT1H
X-Robots-Tag:noindex
X-PUBLISHED-TTL:PT1H
BEGIN:VTIMEZONE
TZID:America/Phoenix
BEGIN:STANDARD
TZOFFSETFROM:-0700
TZOFFSETTO:-0700
TZNAME:MST
DTSTART:20260101T000000
END:STANDARD
END:VTIMEZONE
BEGIN:VEVENT
DTSTART;TZID=America/Phoenix:20270502T130000
DTEND;TZID=America/Phoenix:20270502T150000
DTSTAMP:20260425T185031
CREATED:20260425T221429Z
LAST-MODIFIED:20260425T221429Z
UID:10018429-1809262800-1809270000@onstageaz.com
SUMMARY:The Notebook
DESCRIPTION:Based on the best-selling novel that inspired the iconic film\, THE NOTEBOOK tells the story of Allie and Noah\, both from different worlds\, who share a lifetime of love despite the forces that threaten to pull them apart. “Full of butterfly-inducing highs and beautiful songs” (Entertainment Weekly)\, THE NOTEBOOK is a deeply moving portrait of the enduring power of love.THE NOTEBOOK is directed by Michael Greif (Dear Evan Hansen\, Next to Normal\, RENT) and Schele Williams (The Wiz\, Aida)\, and features music and lyrics by multi-platinum singer-songwriter Ingrid Michaelson\, book by Bekah Brunstetter (NBC’s “This Is Us”)\, and choreography by Katie Spelman.
URL:https://onstageaz.com/event/the-notebook-2/2027-05-02/1/
LOCATION:Centennial Hall\, 1020 E. University Blvd\, Tucson\, AZ\, 85719\, United States
CATEGORIES:Music,Stage,Theatrical
ATTACH;FMTTYPE=image/jpeg:https://onstageaz.com/wp-content/uploads/2026/04/Wa0bKC6w.jpg
ORGANIZER;CN="Broadway In Tucson":MAILTO:info@broadwayintucson.com
END:VEVENT
BEGIN:VEVENT
DTSTART;TZID=America/Phoenix:20270502T150000
DTEND;TZID=America/Phoenix:20270502T170000
DTSTAMP:20260425T185031
CREATED:20260413T235658Z
LAST-MODIFIED:20260413T235658Z
UID:10017376-1809270000-1809277200@onstageaz.com
SUMMARY:Killing Kit – A Shakespeare Murder Mystery
DESCRIPTION:Shakespeare\, the greatest playwright who ever lived\, meets the greatest mystery he never solved – the assassination of poet\, playwright and spy Christopher “Kit” Marlowe. After six years\, Kit’s ghost is back\, with one command for his successful friend and rival – find the killer! Reluctant sleuth Will Shakespeare must follow the trail from London’s darkest gutters to the halls of power to solve this original “true crime” mystery. A World Premiere from John Stephens\, New York Times best-selling author and writer/producer of television hits “Gotham\,” “Gossip Girl\,” “Gilmore Girls\,” “The O.C.\,” and “Pennyworth”
URL:https://onstageaz.com/event/killing-kit-a-shakespeare-murder-mystery/2027-05-02/
LOCATION:Temple of Music and Art\, 330 S Scott Ave\, Tucson\, AZ\, 85701\, United States
CATEGORIES:Stage,Theatrical
ATTACH;FMTTYPE=image/jpeg:https://onstageaz.com/wp-content/uploads/2026/04/Y7ol7S7g.jpg
ORGANIZER;CN="Arizona Theatre Company":MAILTO:boxoffice@atc.org
END:VEVENT
BEGIN:VEVENT
DTSTART;TZID=America/Phoenix:20270502T183000
DTEND;TZID=America/Phoenix:20270502T203000
DTSTAMP:20260425T185031
CREATED:20260425T221429Z
LAST-MODIFIED:20260425T221429Z
UID:10018430-1809282600-1809289800@onstageaz.com
SUMMARY:The Notebook
DESCRIPTION:Based on the best-selling novel that inspired the iconic film\, THE NOTEBOOK tells the story of Allie and Noah\, both from different worlds\, who share a lifetime of love despite the forces that threaten to pull them apart. “Full of butterfly-inducing highs and beautiful songs” (Entertainment Weekly)\, THE NOTEBOOK is a deeply moving portrait of the enduring power of love.THE NOTEBOOK is directed by Michael Greif (Dear Evan Hansen\, Next to Normal\, RENT) and Schele Williams (The Wiz\, Aida)\, and features music and lyrics by multi-platinum singer-songwriter Ingrid Michaelson\, book by Bekah Brunstetter (NBC’s “This Is Us”)\, and choreography by Katie Spelman.
URL:https://onstageaz.com/event/the-notebook-2/2027-05-02/2/
LOCATION:Centennial Hall\, 1020 E. University Blvd\, Tucson\, AZ\, 85719\, United States
CATEGORIES:Music,Stage,Theatrical
ATTACH;FMTTYPE=image/jpeg:https://onstageaz.com/wp-content/uploads/2026/04/Wa0bKC6w.jpg
ORGANIZER;CN="Broadway In Tucson":MAILTO:info@broadwayintucson.com
END:VEVENT
BEGIN:VEVENT
DTSTART;TZID=America/Phoenix:20270505T140000
DTEND;TZID=America/Phoenix:20270505T160000
DTSTAMP:20260425T185031
CREATED:20260413T235658Z
LAST-MODIFIED:20260413T235658Z
UID:10017377-1809525600-1809532800@onstageaz.com
SUMMARY:Killing Kit – A Shakespeare Murder Mystery
DESCRIPTION:Shakespeare\, the greatest playwright who ever lived\, meets the greatest mystery he never solved – the assassination of poet\, playwright and spy Christopher “Kit” Marlowe. After six years\, Kit’s ghost is back\, with one command for his successful friend and rival – find the killer! Reluctant sleuth Will Shakespeare must follow the trail from London’s darkest gutters to the halls of power to solve this original “true crime” mystery. A World Premiere from John Stephens\, New York Times best-selling author and writer/producer of television hits “Gotham\,” “Gossip Girl\,” “Gilmore Girls\,” “The O.C.\,” and “Pennyworth”
URL:https://onstageaz.com/event/killing-kit-a-shakespeare-murder-mystery/2027-05-05/1/
LOCATION:Temple of Music and Art\, 330 S Scott Ave\, Tucson\, AZ\, 85701\, United States
CATEGORIES:Stage,Theatrical
ATTACH;FMTTYPE=image/jpeg:https://onstageaz.com/wp-content/uploads/2026/04/Y7ol7S7g.jpg
ORGANIZER;CN="Arizona Theatre Company":MAILTO:boxoffice@atc.org
END:VEVENT
BEGIN:VEVENT
DTSTART;TZID=America/Phoenix:20270505T193000
DTEND;TZID=America/Phoenix:20270505T213000
DTSTAMP:20260425T185031
CREATED:20260413T235658Z
LAST-MODIFIED:20260413T235658Z
UID:10017378-1809545400-1809552600@onstageaz.com
SUMMARY:Killing Kit – A Shakespeare Murder Mystery
DESCRIPTION:Shakespeare\, the greatest playwright who ever lived\, meets the greatest mystery he never solved – the assassination of poet\, playwright and spy Christopher “Kit” Marlowe. After six years\, Kit’s ghost is back\, with one command for his successful friend and rival – find the killer! Reluctant sleuth Will Shakespeare must follow the trail from London’s darkest gutters to the halls of power to solve this original “true crime” mystery. A World Premiere from John Stephens\, New York Times best-selling author and writer/producer of television hits “Gotham\,” “Gossip Girl\,” “Gilmore Girls\,” “The O.C.\,” and “Pennyworth”
URL:https://onstageaz.com/event/killing-kit-a-shakespeare-murder-mystery/2027-05-05/2/
LOCATION:Temple of Music and Art\, 330 S Scott Ave\, Tucson\, AZ\, 85701\, United States
CATEGORIES:Stage,Theatrical
ATTACH;FMTTYPE=image/jpeg:https://onstageaz.com/wp-content/uploads/2026/04/Y7ol7S7g.jpg
ORGANIZER;CN="Arizona Theatre Company":MAILTO:boxoffice@atc.org
END:VEVENT
BEGIN:VEVENT
DTSTART;TZID=America/Phoenix:20270506T193000
DTEND;TZID=America/Phoenix:20270506T213000
DTSTAMP:20260425T185031
CREATED:20260413T235658Z
LAST-MODIFIED:20260413T235658Z
UID:10017379-1809631800-1809639000@onstageaz.com
SUMMARY:Killing Kit – A Shakespeare Murder Mystery
DESCRIPTION:Shakespeare\, the greatest playwright who ever lived\, meets the greatest mystery he never solved – the assassination of poet\, playwright and spy Christopher “Kit” Marlowe. After six years\, Kit’s ghost is back\, with one command for his successful friend and rival – find the killer! Reluctant sleuth Will Shakespeare must follow the trail from London’s darkest gutters to the halls of power to solve this original “true crime” mystery. A World Premiere from John Stephens\, New York Times best-selling author and writer/producer of television hits “Gotham\,” “Gossip Girl\,” “Gilmore Girls\,” “The O.C.\,” and “Pennyworth”
URL:https://onstageaz.com/event/killing-kit-a-shakespeare-murder-mystery/2027-05-06/
LOCATION:Temple of Music and Art\, 330 S Scott Ave\, Tucson\, AZ\, 85701\, United States
CATEGORIES:Stage,Theatrical
ATTACH;FMTTYPE=image/jpeg:https://onstageaz.com/wp-content/uploads/2026/04/Y7ol7S7g.jpg
ORGANIZER;CN="Arizona Theatre Company":MAILTO:boxoffice@atc.org
END:VEVENT
BEGIN:VEVENT
DTSTART;TZID=America/Phoenix:20270507T190000
DTEND;TZID=America/Phoenix:20270507T210000
DTSTAMP:20260425T185031
CREATED:20260320T232312Z
LAST-MODIFIED:20260320T232312Z
UID:10016816-1809716400-1809723600@onstageaz.com
SUMMARY:Home\, I’m Darling by Laura Wade
DESCRIPTION:What happens when retro dreams collide with modern realities? Home\, I’m Darling takes you inside the life of Judy\, a woman who’s reinvented herself as the perfect 1950s housewife—complete with cocktail dresses\, impeccable manners\, and a picture-perfect home. But when the pressure of maintaining her vintage fantasy begins to crack\, Judy must confront the cost of living in an idealized past. Funny\, sharp\, and unexpectedly poignant\, this play explores identity\, marriage\, and the struggle to balance fantasy with reality. A captivating\, thought-provoking ride through a world where appearances can be deceiving and the search for happiness takes surprising turns. \nFridays at 7:00pm – May 1\, 8\, 15\, & 22\, 2026\nSaturdays at 7:00pm – May 2 & 9\, 2026 || Saturdays at 2:00pm – May 16 & 23\, 2026\nSundays at 2:00pm – May 3\, 10\, 17\, & 24\, 2026
URL:https://onstageaz.com/event/home-im-darling-by-laura-wade/2027-05-07/
LOCATION:Live Theatre Workshop\, 3322 E Fort Lowell Rd\, Tucson\, AZ\, 85716\, United States
CATEGORIES:Stage,Theatrical
ATTACH;FMTTYPE=image/png:https://onstageaz.com/wp-content/uploads/2026/02/Home-Im-Darling-1920x1080-1.png
ORGANIZER;CN="Live Theatre Workshop":MAILTO:livetheatreworkshop@gmail.com
END:VEVENT
BEGIN:VEVENT
DTSTART;TZID=America/Phoenix:20270507T193000
DTEND;TZID=America/Phoenix:20270507T213000
DTSTAMP:20260425T185031
CREATED:20260413T235658Z
LAST-MODIFIED:20260413T235658Z
UID:10017380-1809718200-1809725400@onstageaz.com
SUMMARY:Killing Kit – A Shakespeare Murder Mystery
DESCRIPTION:Shakespeare\, the greatest playwright who ever lived\, meets the greatest mystery he never solved – the assassination of poet\, playwright and spy Christopher “Kit” Marlowe. After six years\, Kit’s ghost is back\, with one command for his successful friend and rival – find the killer! Reluctant sleuth Will Shakespeare must follow the trail from London’s darkest gutters to the halls of power to solve this original “true crime” mystery. A World Premiere from John Stephens\, New York Times best-selling author and writer/producer of television hits “Gotham\,” “Gossip Girl\,” “Gilmore Girls\,” “The O.C.\,” and “Pennyworth”
URL:https://onstageaz.com/event/killing-kit-a-shakespeare-murder-mystery/2027-05-07/
LOCATION:Temple of Music and Art\, 330 S Scott Ave\, Tucson\, AZ\, 85701\, United States
CATEGORIES:Stage,Theatrical
ATTACH;FMTTYPE=image/jpeg:https://onstageaz.com/wp-content/uploads/2026/04/Y7ol7S7g.jpg
ORGANIZER;CN="Arizona Theatre Company":MAILTO:boxoffice@atc.org
END:VEVENT
BEGIN:VEVENT
DTSTART;TZID=America/Phoenix:20270508T140000
DTEND;TZID=America/Phoenix:20270508T160000
DTSTAMP:20260425T185031
CREATED:20260413T235658Z
LAST-MODIFIED:20260413T235658Z
UID:10017381-1809784800-1809792000@onstageaz.com
SUMMARY:Killing Kit – A Shakespeare Murder Mystery
DESCRIPTION:Shakespeare\, the greatest playwright who ever lived\, meets the greatest mystery he never solved – the assassination of poet\, playwright and spy Christopher “Kit” Marlowe. After six years\, Kit’s ghost is back\, with one command for his successful friend and rival – find the killer! Reluctant sleuth Will Shakespeare must follow the trail from London’s darkest gutters to the halls of power to solve this original “true crime” mystery. A World Premiere from John Stephens\, New York Times best-selling author and writer/producer of television hits “Gotham\,” “Gossip Girl\,” “Gilmore Girls\,” “The O.C.\,” and “Pennyworth”
URL:https://onstageaz.com/event/killing-kit-a-shakespeare-murder-mystery/2027-05-08/1/
LOCATION:Temple of Music and Art\, 330 S Scott Ave\, Tucson\, AZ\, 85701\, United States
CATEGORIES:Stage,Theatrical
ATTACH;FMTTYPE=image/jpeg:https://onstageaz.com/wp-content/uploads/2026/04/Y7ol7S7g.jpg
ORGANIZER;CN="Arizona Theatre Company":MAILTO:boxoffice@atc.org
END:VEVENT
BEGIN:VEVENT
DTSTART;TZID=America/Phoenix:20270508T193000
DTEND;TZID=America/Phoenix:20270508T213000
DTSTAMP:20260425T185031
CREATED:20260413T235658Z
LAST-MODIFIED:20260413T235658Z
UID:10017382-1809804600-1809811800@onstageaz.com
SUMMARY:Killing Kit – A Shakespeare Murder Mystery
DESCRIPTION:Shakespeare\, the greatest playwright who ever lived\, meets the greatest mystery he never solved – the assassination of poet\, playwright and spy Christopher “Kit” Marlowe. After six years\, Kit’s ghost is back\, with one command for his successful friend and rival – find the killer! Reluctant sleuth Will Shakespeare must follow the trail from London’s darkest gutters to the halls of power to solve this original “true crime” mystery. A World Premiere from John Stephens\, New York Times best-selling author and writer/producer of television hits “Gotham\,” “Gossip Girl\,” “Gilmore Girls\,” “The O.C.\,” and “Pennyworth”
URL:https://onstageaz.com/event/killing-kit-a-shakespeare-murder-mystery/2027-05-08/2/
LOCATION:Temple of Music and Art\, 330 S Scott Ave\, Tucson\, AZ\, 85701\, United States
CATEGORIES:Stage,Theatrical
ATTACH;FMTTYPE=image/jpeg:https://onstageaz.com/wp-content/uploads/2026/04/Y7ol7S7g.jpg
ORGANIZER;CN="Arizona Theatre Company":MAILTO:boxoffice@atc.org
END:VEVENT
END:VCALENDAR