BEGIN:VCALENDAR
VERSION:2.0
PRODID:-//ON Stage Arizona - ECPv6.15.18//NONSGML v1.0//EN
CALSCALE:GREGORIAN
METHOD:PUBLISH
X-WR-CALNAME:ON Stage Arizona
X-ORIGINAL-URL:https://onstageaz.com
X-WR-CALDESC:Events for ON Stage Arizona
REFRESH-INTERVAL;VALUE=DURATION:PT1H
X-Robots-Tag:noindex
X-PUBLISHED-TTL:PT1H
BEGIN:VTIMEZONE
TZID:America/Phoenix
BEGIN:STANDARD
TZOFFSETFROM:-0700
TZOFFSETTO:-0700
TZNAME:MST
DTSTART:20260101T000000
END:STANDARD
END:VTIMEZONE
BEGIN:VEVENT
DTSTART;TZID=America/Phoenix:20270314T130000
DTEND;TZID=America/Phoenix:20270314T150000
DTSTAMP:20260425T173244
CREATED:20260425T221319Z
LAST-MODIFIED:20260425T221319Z
UID:10018414-1805029200-1805036400@onstageaz.com
SUMMARY:Disney's The Lion King
DESCRIPTION:More than 100 million people around the world have experienced the phenomenon of Disney’s THE LION KING\, and now you can\, too\, when Tucson’s best-loved musical returns to Centennial Hall. Winner of six Tony Awards®\, including Best Musical\, this landmark musical event brings together one of the most imaginative creative teams on Broadway. Tony Award®-winning director Julie Taymor brings to life a story filled with hope and adventure set against an amazing backdrop of stunning visuals. THE LION KING also features some of Broadway’s most recognizable music\, crafted by Tony Award®-winning artists Elton John and Tim Rice. There is simply nothing else like THE LION KING.
URL:https://onstageaz.com/event/disneys-the-lion-king/2027-03-14/1/
LOCATION:Centennial Hall\, 1020 E. University Blvd\, Tucson\, AZ\, 85719\, United States
CATEGORIES:Music,Stage,Theatrical
ATTACH;FMTTYPE=image/png:https://onstageaz.com/wp-content/uploads/2026/04/DIEHfrOw.png
ORGANIZER;CN="Broadway In Tucson":MAILTO:info@broadwayintucson.com
END:VEVENT
BEGIN:VEVENT
DTSTART;TZID=America/Phoenix:20270314T140000
DTEND;TZID=America/Phoenix:20270314T160000
DTSTAMP:20260425T173244
CREATED:20260413T060133Z
LAST-MODIFIED:20260413T060133Z
UID:10017534-1805032800-1805040000@onstageaz.com
SUMMARY:Mozart & Brahms
DESCRIPTION:“A big\, luscious tone and a technique as natural as breathing\,” raves The Washington Post of Paul Huang who joins José Luis Gómez and the Tucson Symphony for Brahms’ romantic Violin Concerto. The 22-year-old Mozart composed his joyous Symphony No. 31 during his eight months in Paris. And discover Grammy-nominated Spanish-American composer Andrea Casarrubios. Her elegiac Herencia honors both her heritage\, and that of the listener.
URL:https://onstageaz.com/event/mozart-brahms/2027-03-14/
LOCATION:Catalina Foothills High School\, AZ\, United States
CATEGORIES:Music,Stage
ATTACH;FMTTYPE=image/png:https://onstageaz.com/wp-content/uploads/2026/04/Screenshot-2026-04-12-at-11.00.05-PM.png
END:VEVENT
BEGIN:VEVENT
DTSTART;TZID=America/Phoenix:20270314T140000
DTEND;TZID=America/Phoenix:20270314T160000
DTSTAMP:20260425T173244
CREATED:20260413T230825Z
LAST-MODIFIED:20260413T230825Z
UID:10017094-1805032800-1805040000@onstageaz.com
SUMMARY:La Traviata
DESCRIPTION:One of the most cherished operas ever written\, La Traviata tells the heartbreaking story of Violetta Valéry\, a woman torn between independence and love. Featuring some of the most recognizable and emotionally powerful music in the operatic canon\, Verdi’s masterpiece has captivated audiences for more than 170 years.
URL:https://onstageaz.com/event/la-traviata/2027-03-14/
LOCATION:The Linda Ronstadt Music Hall\, 260 S Church Ave\, Tucson\, AZ\, 85701\, United States
CATEGORIES:Music,Stage
ATTACH;FMTTYPE=image/png:https://onstageaz.com/wp-content/uploads/2026/04/1UXbCHig.png
ORGANIZER;CN="Arizona Opera":MAILTO:INFO@AZOPERA.ORG
END:VEVENT
BEGIN:VEVENT
DTSTART;TZID=America/Phoenix:20270314T183000
DTEND;TZID=America/Phoenix:20270314T203000
DTSTAMP:20260425T173244
CREATED:20260425T221319Z
LAST-MODIFIED:20260425T221319Z
UID:10018415-1805049000-1805056200@onstageaz.com
SUMMARY:Disney's The Lion King
DESCRIPTION:More than 100 million people around the world have experienced the phenomenon of Disney’s THE LION KING\, and now you can\, too\, when Tucson’s best-loved musical returns to Centennial Hall. Winner of six Tony Awards®\, including Best Musical\, this landmark musical event brings together one of the most imaginative creative teams on Broadway. Tony Award®-winning director Julie Taymor brings to life a story filled with hope and adventure set against an amazing backdrop of stunning visuals. THE LION KING also features some of Broadway’s most recognizable music\, crafted by Tony Award®-winning artists Elton John and Tim Rice. There is simply nothing else like THE LION KING.
URL:https://onstageaz.com/event/disneys-the-lion-king/2027-03-14/2/
LOCATION:Centennial Hall\, 1020 E. University Blvd\, Tucson\, AZ\, 85719\, United States
CATEGORIES:Music,Stage,Theatrical
ATTACH;FMTTYPE=image/png:https://onstageaz.com/wp-content/uploads/2026/04/DIEHfrOw.png
ORGANIZER;CN="Broadway In Tucson":MAILTO:info@broadwayintucson.com
END:VEVENT
BEGIN:VEVENT
DTSTART;TZID=America/Phoenix:20270314T190000
DTEND;TZID=America/Phoenix:20270314T213000
DTSTAMP:20260425T173244
CREATED:20260414T000329Z
LAST-MODIFIED:20260414T000329Z
UID:10017043-1805050800-1805059800@onstageaz.com
SUMMARY:Gem of the Ocean
DESCRIPTION:When a young man arrives in 1904 Pittsburgh seeking a fresh start\, he becomes entangled in a local dispute. Aunt Ester\, a 285-year old spiritual matriarch\, takes him on a journey to a mythological city which connects him to his ancestors\, defines his duty to the town\, and introduces him to the love of his life. The first chronological play in August Wilson’s ten-play American Century Cycle\, “Gem of the Ocean” is a powerful and poetic story of redemption\, history\, and self-determination.
URL:https://onstageaz.com/event/gem-of-the-ocean-2/2027-03-14/
LOCATION:Temple of Music and Art\, 330 S Scott Ave\, Tucson\, AZ\, 85701\, United States
CATEGORIES:Stage,Theatrical
ATTACH;FMTTYPE=image/jpeg:https://onstageaz.com/wp-content/uploads/2026/04/jevhkLiO.jpg
ORGANIZER;CN="Arizona Theatre Company":MAILTO:boxoffice@atc.org
END:VEVENT
BEGIN:VEVENT
DTSTART;TZID=America/Phoenix:20270316T193000
DTEND;TZID=America/Phoenix:20270316T213000
DTSTAMP:20260425T173244
CREATED:20260414T000329Z
LAST-MODIFIED:20260414T000329Z
UID:10017309-1805225400-1805232600@onstageaz.com
SUMMARY:Gem of the Ocean
DESCRIPTION:When a young man arrives in 1904 Pittsburgh seeking a fresh start\, he becomes entangled in a local dispute. Aunt Ester\, a 285-year old spiritual matriarch\, takes him on a journey to a mythological city which connects him to his ancestors\, defines his duty to the town\, and introduces him to the love of his life. The first chronological play in August Wilson’s ten-play American Century Cycle\, “Gem of the Ocean” is a powerful and poetic story of redemption\, history\, and self-determination.
URL:https://onstageaz.com/event/gem-of-the-ocean-2/2027-03-16/
LOCATION:Temple of Music and Art\, 330 S Scott Ave\, Tucson\, AZ\, 85701\, United States
CATEGORIES:Stage,Theatrical
ATTACH;FMTTYPE=image/jpeg:https://onstageaz.com/wp-content/uploads/2026/04/jevhkLiO.jpg
ORGANIZER;CN="Arizona Theatre Company":MAILTO:boxoffice@atc.org
END:VEVENT
BEGIN:VEVENT
DTSTART;TZID=America/Phoenix:20270316T193000
DTEND;TZID=America/Phoenix:20270316T213000
DTSTAMP:20260425T173244
CREATED:20260425T221319Z
LAST-MODIFIED:20260425T221319Z
UID:10018416-1805225400-1805232600@onstageaz.com
SUMMARY:Disney's The Lion King
DESCRIPTION:More than 100 million people around the world have experienced the phenomenon of Disney’s THE LION KING\, and now you can\, too\, when Tucson’s best-loved musical returns to Centennial Hall. Winner of six Tony Awards®\, including Best Musical\, this landmark musical event brings together one of the most imaginative creative teams on Broadway. Tony Award®-winning director Julie Taymor brings to life a story filled with hope and adventure set against an amazing backdrop of stunning visuals. THE LION KING also features some of Broadway’s most recognizable music\, crafted by Tony Award®-winning artists Elton John and Tim Rice. There is simply nothing else like THE LION KING.
URL:https://onstageaz.com/event/disneys-the-lion-king/2027-03-16/
LOCATION:Centennial Hall\, 1020 E. University Blvd\, Tucson\, AZ\, 85719\, United States
CATEGORIES:Music,Stage,Theatrical
ATTACH;FMTTYPE=image/png:https://onstageaz.com/wp-content/uploads/2026/04/DIEHfrOw.png
ORGANIZER;CN="Broadway In Tucson":MAILTO:info@broadwayintucson.com
END:VEVENT
BEGIN:VEVENT
DTSTART;TZID=America/Phoenix:20270317T193000
DTEND;TZID=America/Phoenix:20270317T213000
DTSTAMP:20260425T173244
CREATED:20260414T000329Z
LAST-MODIFIED:20260414T000329Z
UID:10017310-1805311800-1805319000@onstageaz.com
SUMMARY:Gem of the Ocean
DESCRIPTION:When a young man arrives in 1904 Pittsburgh seeking a fresh start\, he becomes entangled in a local dispute. Aunt Ester\, a 285-year old spiritual matriarch\, takes him on a journey to a mythological city which connects him to his ancestors\, defines his duty to the town\, and introduces him to the love of his life. The first chronological play in August Wilson’s ten-play American Century Cycle\, “Gem of the Ocean” is a powerful and poetic story of redemption\, history\, and self-determination.
URL:https://onstageaz.com/event/gem-of-the-ocean-2/2027-03-17/
LOCATION:Temple of Music and Art\, 330 S Scott Ave\, Tucson\, AZ\, 85701\, United States
CATEGORIES:Stage,Theatrical
ATTACH;FMTTYPE=image/jpeg:https://onstageaz.com/wp-content/uploads/2026/04/jevhkLiO.jpg
ORGANIZER;CN="Arizona Theatre Company":MAILTO:boxoffice@atc.org
END:VEVENT
BEGIN:VEVENT
DTSTART;TZID=America/Phoenix:20270317T193000
DTEND;TZID=America/Phoenix:20270317T213000
DTSTAMP:20260425T173244
CREATED:20260425T221319Z
LAST-MODIFIED:20260425T221319Z
UID:10018417-1805311800-1805319000@onstageaz.com
SUMMARY:Disney's The Lion King
DESCRIPTION:More than 100 million people around the world have experienced the phenomenon of Disney’s THE LION KING\, and now you can\, too\, when Tucson’s best-loved musical returns to Centennial Hall. Winner of six Tony Awards®\, including Best Musical\, this landmark musical event brings together one of the most imaginative creative teams on Broadway. Tony Award®-winning director Julie Taymor brings to life a story filled with hope and adventure set against an amazing backdrop of stunning visuals. THE LION KING also features some of Broadway’s most recognizable music\, crafted by Tony Award®-winning artists Elton John and Tim Rice. There is simply nothing else like THE LION KING.
URL:https://onstageaz.com/event/disneys-the-lion-king/2027-03-17/
LOCATION:Centennial Hall\, 1020 E. University Blvd\, Tucson\, AZ\, 85719\, United States
CATEGORIES:Music,Stage,Theatrical
ATTACH;FMTTYPE=image/png:https://onstageaz.com/wp-content/uploads/2026/04/DIEHfrOw.png
ORGANIZER;CN="Broadway In Tucson":MAILTO:info@broadwayintucson.com
END:VEVENT
BEGIN:VEVENT
DTSTART;TZID=America/Phoenix:20270318T193000
DTEND;TZID=America/Phoenix:20270318T213000
DTSTAMP:20260425T173244
CREATED:20260414T000329Z
LAST-MODIFIED:20260414T000329Z
UID:10017311-1805398200-1805405400@onstageaz.com
SUMMARY:Gem of the Ocean
DESCRIPTION:When a young man arrives in 1904 Pittsburgh seeking a fresh start\, he becomes entangled in a local dispute. Aunt Ester\, a 285-year old spiritual matriarch\, takes him on a journey to a mythological city which connects him to his ancestors\, defines his duty to the town\, and introduces him to the love of his life. The first chronological play in August Wilson’s ten-play American Century Cycle\, “Gem of the Ocean” is a powerful and poetic story of redemption\, history\, and self-determination.
URL:https://onstageaz.com/event/gem-of-the-ocean-2/2027-03-18/
LOCATION:Temple of Music and Art\, 330 S Scott Ave\, Tucson\, AZ\, 85701\, United States
CATEGORIES:Stage,Theatrical
ATTACH;FMTTYPE=image/jpeg:https://onstageaz.com/wp-content/uploads/2026/04/jevhkLiO.jpg
ORGANIZER;CN="Arizona Theatre Company":MAILTO:boxoffice@atc.org
END:VEVENT
BEGIN:VEVENT
DTSTART;TZID=America/Phoenix:20270318T193000
DTEND;TZID=America/Phoenix:20270318T213000
DTSTAMP:20260425T173244
CREATED:20260425T221319Z
LAST-MODIFIED:20260425T221319Z
UID:10018418-1805398200-1805405400@onstageaz.com
SUMMARY:Disney's The Lion King
DESCRIPTION:More than 100 million people around the world have experienced the phenomenon of Disney’s THE LION KING\, and now you can\, too\, when Tucson’s best-loved musical returns to Centennial Hall. Winner of six Tony Awards®\, including Best Musical\, this landmark musical event brings together one of the most imaginative creative teams on Broadway. Tony Award®-winning director Julie Taymor brings to life a story filled with hope and adventure set against an amazing backdrop of stunning visuals. THE LION KING also features some of Broadway’s most recognizable music\, crafted by Tony Award®-winning artists Elton John and Tim Rice. There is simply nothing else like THE LION KING.
URL:https://onstageaz.com/event/disneys-the-lion-king/2027-03-18/
LOCATION:Centennial Hall\, 1020 E. University Blvd\, Tucson\, AZ\, 85719\, United States
CATEGORIES:Music,Stage,Theatrical
ATTACH;FMTTYPE=image/png:https://onstageaz.com/wp-content/uploads/2026/04/DIEHfrOw.png
ORGANIZER;CN="Broadway In Tucson":MAILTO:info@broadwayintucson.com
END:VEVENT
BEGIN:VEVENT
DTSTART;TZID=America/Phoenix:20270319T190000
DTEND;TZID=America/Phoenix:20270319T210000
DTSTAMP:20260425T173244
CREATED:20260320T232312Z
LAST-MODIFIED:20260320T232312Z
UID:10016809-1805482800-1805490000@onstageaz.com
SUMMARY:Home\, I’m Darling by Laura Wade
DESCRIPTION:What happens when retro dreams collide with modern realities? Home\, I’m Darling takes you inside the life of Judy\, a woman who’s reinvented herself as the perfect 1950s housewife—complete with cocktail dresses\, impeccable manners\, and a picture-perfect home. But when the pressure of maintaining her vintage fantasy begins to crack\, Judy must confront the cost of living in an idealized past. Funny\, sharp\, and unexpectedly poignant\, this play explores identity\, marriage\, and the struggle to balance fantasy with reality. A captivating\, thought-provoking ride through a world where appearances can be deceiving and the search for happiness takes surprising turns. \nFridays at 7:00pm – May 1\, 8\, 15\, & 22\, 2026\nSaturdays at 7:00pm – May 2 & 9\, 2026 || Saturdays at 2:00pm – May 16 & 23\, 2026\nSundays at 2:00pm – May 3\, 10\, 17\, & 24\, 2026
URL:https://onstageaz.com/event/home-im-darling-by-laura-wade/2027-03-19/
LOCATION:Live Theatre Workshop\, 3322 E Fort Lowell Rd\, Tucson\, AZ\, 85716\, United States
CATEGORIES:Stage,Theatrical
ATTACH;FMTTYPE=image/png:https://onstageaz.com/wp-content/uploads/2026/02/Home-Im-Darling-1920x1080-1.png
ORGANIZER;CN="Live Theatre Workshop":MAILTO:livetheatreworkshop@gmail.com
END:VEVENT
BEGIN:VEVENT
DTSTART;TZID=America/Phoenix:20270319T193000
DTEND;TZID=America/Phoenix:20270319T213000
DTSTAMP:20260425T173244
CREATED:20260413T055910Z
LAST-MODIFIED:20260413T055910Z
UID:10017075-1805484600-1805491800@onstageaz.com
SUMMARY:Rachmaninoff Paganini Rhapsody
DESCRIPTION:Sergei Rachmaninoff declared\, “I try to make my music speak simply and directly that which is in my heart.” Michael Davidman\, who triumphed to win the American Piano Awards\, plays Rachmaninoff’s ravishing Rhapsody on a Theme of Paganini. 44 years earlier\, Rachmaninoff’s now-too-rarely-heard Youth Symphony showed more than mere promise. The mastery of the 18-year-old composer is astonishing. Tchaikovsky infused Ukrainian folk melodies and colorful orchestration into his blazing “Little Russian” Symphony\, his first masterpiece in the form.
URL:https://onstageaz.com/event/rachmaninoff-paganini-rhapsody/2027-03-19/
LOCATION:The Linda Ronstadt Music Hall\, 260 S Church Ave\, Tucson\, AZ\, 85701\, United States
CATEGORIES:Music,Stage
ATTACH;FMTTYPE=image/png:https://onstageaz.com/wp-content/uploads/2026/04/Screenshot-2026-04-12-at-10.57.51-PM.png
END:VEVENT
BEGIN:VEVENT
DTSTART;TZID=America/Phoenix:20270319T193000
DTEND;TZID=America/Phoenix:20270319T213000
DTSTAMP:20260425T173244
CREATED:20260414T000329Z
LAST-MODIFIED:20260414T000329Z
UID:10017312-1805484600-1805491800@onstageaz.com
SUMMARY:Gem of the Ocean
DESCRIPTION:When a young man arrives in 1904 Pittsburgh seeking a fresh start\, he becomes entangled in a local dispute. Aunt Ester\, a 285-year old spiritual matriarch\, takes him on a journey to a mythological city which connects him to his ancestors\, defines his duty to the town\, and introduces him to the love of his life. The first chronological play in August Wilson’s ten-play American Century Cycle\, “Gem of the Ocean” is a powerful and poetic story of redemption\, history\, and self-determination.
URL:https://onstageaz.com/event/gem-of-the-ocean-2/2027-03-19/
LOCATION:Temple of Music and Art\, 330 S Scott Ave\, Tucson\, AZ\, 85701\, United States
CATEGORIES:Stage,Theatrical
ATTACH;FMTTYPE=image/jpeg:https://onstageaz.com/wp-content/uploads/2026/04/jevhkLiO.jpg
ORGANIZER;CN="Arizona Theatre Company":MAILTO:boxoffice@atc.org
END:VEVENT
BEGIN:VEVENT
DTSTART;TZID=America/Phoenix:20270319T193000
DTEND;TZID=America/Phoenix:20270319T213000
DTSTAMP:20260425T173244
CREATED:20260425T221319Z
LAST-MODIFIED:20260425T221319Z
UID:10018419-1805484600-1805491800@onstageaz.com
SUMMARY:Disney's The Lion King
DESCRIPTION:More than 100 million people around the world have experienced the phenomenon of Disney’s THE LION KING\, and now you can\, too\, when Tucson’s best-loved musical returns to Centennial Hall. Winner of six Tony Awards®\, including Best Musical\, this landmark musical event brings together one of the most imaginative creative teams on Broadway. Tony Award®-winning director Julie Taymor brings to life a story filled with hope and adventure set against an amazing backdrop of stunning visuals. THE LION KING also features some of Broadway’s most recognizable music\, crafted by Tony Award®-winning artists Elton John and Tim Rice. There is simply nothing else like THE LION KING.
URL:https://onstageaz.com/event/disneys-the-lion-king/2027-03-19/
LOCATION:Centennial Hall\, 1020 E. University Blvd\, Tucson\, AZ\, 85719\, United States
CATEGORIES:Music,Stage,Theatrical
ATTACH;FMTTYPE=image/png:https://onstageaz.com/wp-content/uploads/2026/04/DIEHfrOw.png
ORGANIZER;CN="Broadway In Tucson":MAILTO:info@broadwayintucson.com
END:VEVENT
BEGIN:VEVENT
DTSTART;TZID=America/Phoenix:20270320T140000
DTEND;TZID=America/Phoenix:20270320T160000
DTSTAMP:20260425T173244
CREATED:20260414T000329Z
LAST-MODIFIED:20260414T000329Z
UID:10017313-1805551200-1805558400@onstageaz.com
SUMMARY:Gem of the Ocean
DESCRIPTION:When a young man arrives in 1904 Pittsburgh seeking a fresh start\, he becomes entangled in a local dispute. Aunt Ester\, a 285-year old spiritual matriarch\, takes him on a journey to a mythological city which connects him to his ancestors\, defines his duty to the town\, and introduces him to the love of his life. The first chronological play in August Wilson’s ten-play American Century Cycle\, “Gem of the Ocean” is a powerful and poetic story of redemption\, history\, and self-determination.
URL:https://onstageaz.com/event/gem-of-the-ocean-2/2027-03-20/1/
LOCATION:Temple of Music and Art\, 330 S Scott Ave\, Tucson\, AZ\, 85701\, United States
CATEGORIES:Stage,Theatrical
ATTACH;FMTTYPE=image/jpeg:https://onstageaz.com/wp-content/uploads/2026/04/jevhkLiO.jpg
ORGANIZER;CN="Arizona Theatre Company":MAILTO:boxoffice@atc.org
END:VEVENT
BEGIN:VEVENT
DTSTART;TZID=America/Phoenix:20270320T140000
DTEND;TZID=America/Phoenix:20270320T160000
DTSTAMP:20260425T173244
CREATED:20260425T221319Z
LAST-MODIFIED:20260425T221319Z
UID:10018420-1805551200-1805558400@onstageaz.com
SUMMARY:Disney's The Lion King
DESCRIPTION:More than 100 million people around the world have experienced the phenomenon of Disney’s THE LION KING\, and now you can\, too\, when Tucson’s best-loved musical returns to Centennial Hall. Winner of six Tony Awards®\, including Best Musical\, this landmark musical event brings together one of the most imaginative creative teams on Broadway. Tony Award®-winning director Julie Taymor brings to life a story filled with hope and adventure set against an amazing backdrop of stunning visuals. THE LION KING also features some of Broadway’s most recognizable music\, crafted by Tony Award®-winning artists Elton John and Tim Rice. There is simply nothing else like THE LION KING.
URL:https://onstageaz.com/event/disneys-the-lion-king/2027-03-20/1/
LOCATION:Centennial Hall\, 1020 E. University Blvd\, Tucson\, AZ\, 85719\, United States
CATEGORIES:Music,Stage,Theatrical
ATTACH;FMTTYPE=image/png:https://onstageaz.com/wp-content/uploads/2026/04/DIEHfrOw.png
ORGANIZER;CN="Broadway In Tucson":MAILTO:info@broadwayintucson.com
END:VEVENT
BEGIN:VEVENT
DTSTART;TZID=America/Phoenix:20270320T193000
DTEND;TZID=America/Phoenix:20270320T213000
DTSTAMP:20260425T173244
CREATED:20260414T000329Z
LAST-MODIFIED:20260414T000329Z
UID:10017314-1805571000-1805578200@onstageaz.com
SUMMARY:Gem of the Ocean
DESCRIPTION:When a young man arrives in 1904 Pittsburgh seeking a fresh start\, he becomes entangled in a local dispute. Aunt Ester\, a 285-year old spiritual matriarch\, takes him on a journey to a mythological city which connects him to his ancestors\, defines his duty to the town\, and introduces him to the love of his life. The first chronological play in August Wilson’s ten-play American Century Cycle\, “Gem of the Ocean” is a powerful and poetic story of redemption\, history\, and self-determination.
URL:https://onstageaz.com/event/gem-of-the-ocean-2/2027-03-20/2/
LOCATION:Temple of Music and Art\, 330 S Scott Ave\, Tucson\, AZ\, 85701\, United States
CATEGORIES:Stage,Theatrical
ATTACH;FMTTYPE=image/jpeg:https://onstageaz.com/wp-content/uploads/2026/04/jevhkLiO.jpg
ORGANIZER;CN="Arizona Theatre Company":MAILTO:boxoffice@atc.org
END:VEVENT
BEGIN:VEVENT
DTSTART;TZID=America/Phoenix:20270320T193000
DTEND;TZID=America/Phoenix:20270320T213000
DTSTAMP:20260425T173244
CREATED:20260425T221319Z
LAST-MODIFIED:20260425T221319Z
UID:10018421-1805571000-1805578200@onstageaz.com
SUMMARY:Disney's The Lion King
DESCRIPTION:More than 100 million people around the world have experienced the phenomenon of Disney’s THE LION KING\, and now you can\, too\, when Tucson’s best-loved musical returns to Centennial Hall. Winner of six Tony Awards®\, including Best Musical\, this landmark musical event brings together one of the most imaginative creative teams on Broadway. Tony Award®-winning director Julie Taymor brings to life a story filled with hope and adventure set against an amazing backdrop of stunning visuals. THE LION KING also features some of Broadway’s most recognizable music\, crafted by Tony Award®-winning artists Elton John and Tim Rice. There is simply nothing else like THE LION KING.
URL:https://onstageaz.com/event/disneys-the-lion-king/2027-03-20/2/
LOCATION:Centennial Hall\, 1020 E. University Blvd\, Tucson\, AZ\, 85719\, United States
CATEGORIES:Music,Stage,Theatrical
ATTACH;FMTTYPE=image/png:https://onstageaz.com/wp-content/uploads/2026/04/DIEHfrOw.png
ORGANIZER;CN="Broadway In Tucson":MAILTO:info@broadwayintucson.com
END:VEVENT
END:VCALENDAR