BEGIN:VCALENDAR
VERSION:2.0
PRODID:-//ON Stage Arizona - ECPv6.15.18//NONSGML v1.0//EN
CALSCALE:GREGORIAN
METHOD:PUBLISH
X-WR-CALNAME:ON Stage Arizona
X-ORIGINAL-URL:https://onstageaz.com
X-WR-CALDESC:Events for ON Stage Arizona
REFRESH-INTERVAL;VALUE=DURATION:PT1H
X-Robots-Tag:noindex
X-PUBLISHED-TTL:PT1H
BEGIN:VTIMEZONE
TZID:America/Phoenix
BEGIN:STANDARD
TZOFFSETFROM:-0700
TZOFFSETTO:-0700
TZNAME:MST
DTSTART:20260101T000000
END:STANDARD
END:VTIMEZONE
BEGIN:VEVENT
DTSTART;TZID=America/Phoenix:20270307T140000
DTEND;TZID=America/Phoenix:20270307T160000
DTSTAMP:20260425T184024
CREATED:20260413T060358Z
LAST-MODIFIED:20260413T060358Z
UID:10017532-1804428000-1804435200@onstageaz.com
SUMMARY:Sounds of Laurel Canyon: 60s & 70s Rock Legends
DESCRIPTION:Laurel Canyon was the birthplace of the California Sound\, filled with harmonies of peace\, love and musical innovation. Revel in the timeless melodies of The Mamas & The Papas\, Joni Mitchell\, Carole King\, James Taylor\, Linda Ronstadt\, The Eagles\, Fleetwood Mac and others.
URL:https://onstageaz.com/event/sounds-of-laurel-canyon-60s-70s-rock-legends/2027-03-07/
LOCATION:The Linda Ronstadt Music Hall\, 260 S Church Ave\, Tucson\, AZ\, 85701\, United States
CATEGORIES:Music,Stage
ATTACH;FMTTYPE=image/png:https://onstageaz.com/wp-content/uploads/2026/04/Screenshot-2026-04-12-at-11.02.24-PM.png
END:VEVENT
BEGIN:VEVENT
DTSTART;TZID=America/Phoenix:20270310T193000
DTEND;TZID=America/Phoenix:20270310T213000
DTSTAMP:20260425T184024
CREATED:20260425T221319Z
LAST-MODIFIED:20260425T221319Z
UID:10017955-1804707000-1804714200@onstageaz.com
SUMMARY:Disney's The Lion King
DESCRIPTION:More than 100 million people around the world have experienced the phenomenon of Disney’s THE LION KING\, and now you can\, too\, when Tucson’s best-loved musical returns to Centennial Hall. Winner of six Tony Awards®\, including Best Musical\, this landmark musical event brings together one of the most imaginative creative teams on Broadway. Tony Award®-winning director Julie Taymor brings to life a story filled with hope and adventure set against an amazing backdrop of stunning visuals. THE LION KING also features some of Broadway’s most recognizable music\, crafted by Tony Award®-winning artists Elton John and Tim Rice. There is simply nothing else like THE LION KING.
URL:https://onstageaz.com/event/disneys-the-lion-king/2027-03-10/
LOCATION:Centennial Hall\, 1020 E. University Blvd\, Tucson\, AZ\, 85719\, United States
CATEGORIES:Music,Stage,Theatrical
ATTACH;FMTTYPE=image/png:https://onstageaz.com/wp-content/uploads/2026/04/DIEHfrOw.png
ORGANIZER;CN="Broadway In Tucson":MAILTO:info@broadwayintucson.com
END:VEVENT
BEGIN:VEVENT
DTSTART;TZID=America/Phoenix:20270311T140000
DTEND;TZID=America/Phoenix:20270311T160000
DTSTAMP:20260425T184024
CREATED:20260425T221319Z
LAST-MODIFIED:20260425T221319Z
UID:10018409-1804773600-1804780800@onstageaz.com
SUMMARY:Disney's The Lion King
DESCRIPTION:More than 100 million people around the world have experienced the phenomenon of Disney’s THE LION KING\, and now you can\, too\, when Tucson’s best-loved musical returns to Centennial Hall. Winner of six Tony Awards®\, including Best Musical\, this landmark musical event brings together one of the most imaginative creative teams on Broadway. Tony Award®-winning director Julie Taymor brings to life a story filled with hope and adventure set against an amazing backdrop of stunning visuals. THE LION KING also features some of Broadway’s most recognizable music\, crafted by Tony Award®-winning artists Elton John and Tim Rice. There is simply nothing else like THE LION KING.
URL:https://onstageaz.com/event/disneys-the-lion-king/2027-03-11/1/
LOCATION:Centennial Hall\, 1020 E. University Blvd\, Tucson\, AZ\, 85719\, United States
CATEGORIES:Music,Stage,Theatrical
ATTACH;FMTTYPE=image/png:https://onstageaz.com/wp-content/uploads/2026/04/DIEHfrOw.png
ORGANIZER;CN="Broadway In Tucson":MAILTO:info@broadwayintucson.com
END:VEVENT
BEGIN:VEVENT
DTSTART;TZID=America/Phoenix:20270311T193000
DTEND;TZID=America/Phoenix:20270311T213000
DTSTAMP:20260425T184024
CREATED:20260425T221319Z
LAST-MODIFIED:20260425T221319Z
UID:10018410-1804793400-1804800600@onstageaz.com
SUMMARY:Disney's The Lion King
DESCRIPTION:More than 100 million people around the world have experienced the phenomenon of Disney’s THE LION KING\, and now you can\, too\, when Tucson’s best-loved musical returns to Centennial Hall. Winner of six Tony Awards®\, including Best Musical\, this landmark musical event brings together one of the most imaginative creative teams on Broadway. Tony Award®-winning director Julie Taymor brings to life a story filled with hope and adventure set against an amazing backdrop of stunning visuals. THE LION KING also features some of Broadway’s most recognizable music\, crafted by Tony Award®-winning artists Elton John and Tim Rice. There is simply nothing else like THE LION KING.
URL:https://onstageaz.com/event/disneys-the-lion-king/2027-03-11/2/
LOCATION:Centennial Hall\, 1020 E. University Blvd\, Tucson\, AZ\, 85719\, United States
CATEGORIES:Music,Stage,Theatrical
ATTACH;FMTTYPE=image/png:https://onstageaz.com/wp-content/uploads/2026/04/DIEHfrOw.png
ORGANIZER;CN="Broadway In Tucson":MAILTO:info@broadwayintucson.com
END:VEVENT
BEGIN:VEVENT
DTSTART;TZID=America/Phoenix:20270312T190000
DTEND;TZID=America/Phoenix:20270312T210000
DTSTAMP:20260425T184024
CREATED:20260320T232312Z
LAST-MODIFIED:20260320T232312Z
UID:10016808-1804878000-1804885200@onstageaz.com
SUMMARY:Home\, I’m Darling by Laura Wade
DESCRIPTION:What happens when retro dreams collide with modern realities? Home\, I’m Darling takes you inside the life of Judy\, a woman who’s reinvented herself as the perfect 1950s housewife—complete with cocktail dresses\, impeccable manners\, and a picture-perfect home. But when the pressure of maintaining her vintage fantasy begins to crack\, Judy must confront the cost of living in an idealized past. Funny\, sharp\, and unexpectedly poignant\, this play explores identity\, marriage\, and the struggle to balance fantasy with reality. A captivating\, thought-provoking ride through a world where appearances can be deceiving and the search for happiness takes surprising turns. \nFridays at 7:00pm – May 1\, 8\, 15\, & 22\, 2026\nSaturdays at 7:00pm – May 2 & 9\, 2026 || Saturdays at 2:00pm – May 16 & 23\, 2026\nSundays at 2:00pm – May 3\, 10\, 17\, & 24\, 2026
URL:https://onstageaz.com/event/home-im-darling-by-laura-wade/2027-03-12/
LOCATION:Live Theatre Workshop\, 3322 E Fort Lowell Rd\, Tucson\, AZ\, 85716\, United States
CATEGORIES:Stage,Theatrical
ATTACH;FMTTYPE=image/png:https://onstageaz.com/wp-content/uploads/2026/02/Home-Im-Darling-1920x1080-1.png
ORGANIZER;CN="Live Theatre Workshop":MAILTO:livetheatreworkshop@gmail.com
END:VEVENT
BEGIN:VEVENT
DTSTART;TZID=America/Phoenix:20270312T193000
DTEND;TZID=America/Phoenix:20270312T213000
DTSTAMP:20260425T184024
CREATED:20260425T221319Z
LAST-MODIFIED:20260425T221319Z
UID:10018411-1804879800-1804887000@onstageaz.com
SUMMARY:Disney's The Lion King
DESCRIPTION:More than 100 million people around the world have experienced the phenomenon of Disney’s THE LION KING\, and now you can\, too\, when Tucson’s best-loved musical returns to Centennial Hall. Winner of six Tony Awards®\, including Best Musical\, this landmark musical event brings together one of the most imaginative creative teams on Broadway. Tony Award®-winning director Julie Taymor brings to life a story filled with hope and adventure set against an amazing backdrop of stunning visuals. THE LION KING also features some of Broadway’s most recognizable music\, crafted by Tony Award®-winning artists Elton John and Tim Rice. There is simply nothing else like THE LION KING.
URL:https://onstageaz.com/event/disneys-the-lion-king/2027-03-12/
LOCATION:Centennial Hall\, 1020 E. University Blvd\, Tucson\, AZ\, 85719\, United States
CATEGORIES:Music,Stage,Theatrical
ATTACH;FMTTYPE=image/png:https://onstageaz.com/wp-content/uploads/2026/04/DIEHfrOw.png
ORGANIZER;CN="Broadway In Tucson":MAILTO:info@broadwayintucson.com
END:VEVENT
BEGIN:VEVENT
DTSTART;TZID=America/Phoenix:20270313T140000
DTEND;TZID=America/Phoenix:20270313T160000
DTSTAMP:20260425T184024
CREATED:20260413T060133Z
LAST-MODIFIED:20260413T060133Z
UID:10017074-1804946400-1804953600@onstageaz.com
SUMMARY:Mozart & Brahms
DESCRIPTION:“A big\, luscious tone and a technique as natural as breathing\,” raves The Washington Post of Paul Huang who joins José Luis Gómez and the Tucson Symphony for Brahms’ romantic Violin Concerto. The 22-year-old Mozart composed his joyous Symphony No. 31 during his eight months in Paris. And discover Grammy-nominated Spanish-American composer Andrea Casarrubios. Her elegiac Herencia honors both her heritage\, and that of the listener.
URL:https://onstageaz.com/event/mozart-brahms/2027-03-13/1/
LOCATION:Catalina Foothills High School\, AZ\, United States
CATEGORIES:Music,Stage
ATTACH;FMTTYPE=image/png:https://onstageaz.com/wp-content/uploads/2026/04/Screenshot-2026-04-12-at-11.00.05-PM.png
END:VEVENT
BEGIN:VEVENT
DTSTART;TZID=America/Phoenix:20270313T140000
DTEND;TZID=America/Phoenix:20270313T160000
DTSTAMP:20260425T184024
CREATED:20260425T221319Z
LAST-MODIFIED:20260425T221319Z
UID:10018412-1804946400-1804953600@onstageaz.com
SUMMARY:Disney's The Lion King
DESCRIPTION:More than 100 million people around the world have experienced the phenomenon of Disney’s THE LION KING\, and now you can\, too\, when Tucson’s best-loved musical returns to Centennial Hall. Winner of six Tony Awards®\, including Best Musical\, this landmark musical event brings together one of the most imaginative creative teams on Broadway. Tony Award®-winning director Julie Taymor brings to life a story filled with hope and adventure set against an amazing backdrop of stunning visuals. THE LION KING also features some of Broadway’s most recognizable music\, crafted by Tony Award®-winning artists Elton John and Tim Rice. There is simply nothing else like THE LION KING.
URL:https://onstageaz.com/event/disneys-the-lion-king/2027-03-13/1/
LOCATION:Centennial Hall\, 1020 E. University Blvd\, Tucson\, AZ\, 85719\, United States
CATEGORIES:Music,Stage,Theatrical
ATTACH;FMTTYPE=image/png:https://onstageaz.com/wp-content/uploads/2026/04/DIEHfrOw.png
ORGANIZER;CN="Broadway In Tucson":MAILTO:info@broadwayintucson.com
END:VEVENT
BEGIN:VEVENT
DTSTART;TZID=America/Phoenix:20270313T193000
DTEND;TZID=America/Phoenix:20270313T213000
DTSTAMP:20260425T184024
CREATED:20260413T060133Z
LAST-MODIFIED:20260413T060133Z
UID:10017533-1804966200-1804973400@onstageaz.com
SUMMARY:Mozart & Brahms
DESCRIPTION:“A big\, luscious tone and a technique as natural as breathing\,” raves The Washington Post of Paul Huang who joins José Luis Gómez and the Tucson Symphony for Brahms’ romantic Violin Concerto. The 22-year-old Mozart composed his joyous Symphony No. 31 during his eight months in Paris. And discover Grammy-nominated Spanish-American composer Andrea Casarrubios. Her elegiac Herencia honors both her heritage\, and that of the listener.
URL:https://onstageaz.com/event/mozart-brahms/2027-03-13/2/
LOCATION:Catalina Foothills High School\, AZ\, United States
CATEGORIES:Music,Stage
ATTACH;FMTTYPE=image/png:https://onstageaz.com/wp-content/uploads/2026/04/Screenshot-2026-04-12-at-11.00.05-PM.png
END:VEVENT
BEGIN:VEVENT
DTSTART;TZID=America/Phoenix:20270313T193000
DTEND;TZID=America/Phoenix:20270313T213000
DTSTAMP:20260425T184024
CREATED:20260413T230825Z
LAST-MODIFIED:20260413T230825Z
UID:10017093-1804966200-1804973400@onstageaz.com
SUMMARY:La Traviata
DESCRIPTION:One of the most cherished operas ever written\, La Traviata tells the heartbreaking story of Violetta Valéry\, a woman torn between independence and love. Featuring some of the most recognizable and emotionally powerful music in the operatic canon\, Verdi’s masterpiece has captivated audiences for more than 170 years.
URL:https://onstageaz.com/event/la-traviata/2027-03-13/
LOCATION:The Linda Ronstadt Music Hall\, 260 S Church Ave\, Tucson\, AZ\, 85701\, United States
CATEGORIES:Music,Stage
ATTACH;FMTTYPE=image/png:https://onstageaz.com/wp-content/uploads/2026/04/1UXbCHig.png
ORGANIZER;CN="Arizona Opera":MAILTO:INFO@AZOPERA.ORG
END:VEVENT
BEGIN:VEVENT
DTSTART;TZID=America/Phoenix:20270313T193000
DTEND;TZID=America/Phoenix:20270313T213000
DTSTAMP:20260425T184024
CREATED:20260425T221319Z
LAST-MODIFIED:20260425T221319Z
UID:10018413-1804966200-1804973400@onstageaz.com
SUMMARY:Disney's The Lion King
DESCRIPTION:More than 100 million people around the world have experienced the phenomenon of Disney’s THE LION KING\, and now you can\, too\, when Tucson’s best-loved musical returns to Centennial Hall. Winner of six Tony Awards®\, including Best Musical\, this landmark musical event brings together one of the most imaginative creative teams on Broadway. Tony Award®-winning director Julie Taymor brings to life a story filled with hope and adventure set against an amazing backdrop of stunning visuals. THE LION KING also features some of Broadway’s most recognizable music\, crafted by Tony Award®-winning artists Elton John and Tim Rice. There is simply nothing else like THE LION KING.
URL:https://onstageaz.com/event/disneys-the-lion-king/2027-03-13/2/
LOCATION:Centennial Hall\, 1020 E. University Blvd\, Tucson\, AZ\, 85719\, United States
CATEGORIES:Music,Stage,Theatrical
ATTACH;FMTTYPE=image/png:https://onstageaz.com/wp-content/uploads/2026/04/DIEHfrOw.png
ORGANIZER;CN="Broadway In Tucson":MAILTO:info@broadwayintucson.com
END:VEVENT
END:VCALENDAR