BEGIN:VCALENDAR
VERSION:2.0
PRODID:-//ON Stage Arizona - ECPv6.15.18//NONSGML v1.0//EN
CALSCALE:GREGORIAN
METHOD:PUBLISH
X-WR-CALNAME:ON Stage Arizona
X-ORIGINAL-URL:https://onstageaz.com
X-WR-CALDESC:Events for ON Stage Arizona
REFRESH-INTERVAL;VALUE=DURATION:PT1H
X-Robots-Tag:noindex
X-PUBLISHED-TTL:PT1H
BEGIN:VTIMEZONE
TZID:America/Phoenix
BEGIN:STANDARD
TZOFFSETFROM:-0700
TZOFFSETTO:-0700
TZNAME:MST
DTSTART:20260101T000000
END:STANDARD
END:VTIMEZONE
BEGIN:VEVENT
DTSTART;TZID=America/Phoenix:20270228T140000
DTEND;TZID=America/Phoenix:20270228T160000
DTSTAMP:20260425T142453
CREATED:20260413T060833Z
LAST-MODIFIED:20260413T060833Z
UID:10017531-1803823200-1803830400@onstageaz.com
SUMMARY:Brahms’ Requiem
DESCRIPTION:It was a work Brahms labored over for a dozen years. Consoled by the psalms\, the gospels\, and the prophets\, he set their words to his music. Music that would be his grandest. Perhaps even his greatest. José Luis Gómez conducts Brahms’ poetic settings from the Bible\, A German Requiem. Plus\, arias of Mozart and Carlos Chávez’ colorful realization of the organ Chaconne of Buxtehude.
URL:https://onstageaz.com/event/brahms-requiem/2027-02-28/
LOCATION:The Linda Ronstadt Music Hall\, 260 S Church Ave\, Tucson\, AZ\, 85701\, United States
CATEGORIES:Music,Stage
ATTACH;FMTTYPE=image/png:https://onstageaz.com/wp-content/uploads/2026/04/Screenshot-2026-04-12-at-11.05.33-PM.png
END:VEVENT
BEGIN:VEVENT
DTSTART;TZID=America/Phoenix:20270305T190000
DTEND;TZID=America/Phoenix:20270305T210000
DTSTAMP:20260425T142453
CREATED:20260320T232312Z
LAST-MODIFIED:20260320T232312Z
UID:10016807-1804273200-1804280400@onstageaz.com
SUMMARY:Home\, I’m Darling by Laura Wade
DESCRIPTION:What happens when retro dreams collide with modern realities? Home\, I’m Darling takes you inside the life of Judy\, a woman who’s reinvented herself as the perfect 1950s housewife—complete with cocktail dresses\, impeccable manners\, and a picture-perfect home. But when the pressure of maintaining her vintage fantasy begins to crack\, Judy must confront the cost of living in an idealized past. Funny\, sharp\, and unexpectedly poignant\, this play explores identity\, marriage\, and the struggle to balance fantasy with reality. A captivating\, thought-provoking ride through a world where appearances can be deceiving and the search for happiness takes surprising turns. \nFridays at 7:00pm – May 1\, 8\, 15\, & 22\, 2026\nSaturdays at 7:00pm – May 2 & 9\, 2026 || Saturdays at 2:00pm – May 16 & 23\, 2026\nSundays at 2:00pm – May 3\, 10\, 17\, & 24\, 2026
URL:https://onstageaz.com/event/home-im-darling-by-laura-wade/2027-03-05/
LOCATION:Live Theatre Workshop\, 3322 E Fort Lowell Rd\, Tucson\, AZ\, 85716\, United States
CATEGORIES:Stage,Theatrical
ATTACH;FMTTYPE=image/png:https://onstageaz.com/wp-content/uploads/2026/02/Home-Im-Darling-1920x1080-1.png
ORGANIZER;CN="Live Theatre Workshop":MAILTO:livetheatreworkshop@gmail.com
END:VEVENT
BEGIN:VEVENT
DTSTART;TZID=America/Phoenix:20270306T193000
DTEND;TZID=America/Phoenix:20270306T213000
DTSTAMP:20260425T142453
CREATED:20260413T060358Z
LAST-MODIFIED:20260413T060358Z
UID:10017073-1804361400-1804368600@onstageaz.com
SUMMARY:Sounds of Laurel Canyon: 60s & 70s Rock Legends
DESCRIPTION:Laurel Canyon was the birthplace of the California Sound\, filled with harmonies of peace\, love and musical innovation. Revel in the timeless melodies of The Mamas & The Papas\, Joni Mitchell\, Carole King\, James Taylor\, Linda Ronstadt\, The Eagles\, Fleetwood Mac and others.
URL:https://onstageaz.com/event/sounds-of-laurel-canyon-60s-70s-rock-legends/2027-03-06/
LOCATION:The Linda Ronstadt Music Hall\, 260 S Church Ave\, Tucson\, AZ\, 85701\, United States
CATEGORIES:Music,Stage
ATTACH;FMTTYPE=image/png:https://onstageaz.com/wp-content/uploads/2026/04/Screenshot-2026-04-12-at-11.02.24-PM.png
END:VEVENT
END:VCALENDAR