BEGIN:VCALENDAR
VERSION:2.0
PRODID:-//ON Stage Arizona - ECPv6.15.18//NONSGML v1.0//EN
CALSCALE:GREGORIAN
METHOD:PUBLISH
X-WR-CALNAME:ON Stage Arizona
X-ORIGINAL-URL:https://onstageaz.com
X-WR-CALDESC:Events for ON Stage Arizona
REFRESH-INTERVAL;VALUE=DURATION:PT1H
X-Robots-Tag:noindex
X-PUBLISHED-TTL:PT1H
BEGIN:VTIMEZONE
TZID:America/Phoenix
BEGIN:STANDARD
TZOFFSETFROM:-0700
TZOFFSETTO:-0700
TZNAME:MST
DTSTART:20260101T000000
END:STANDARD
END:VTIMEZONE
BEGIN:VEVENT
DTSTART;TZID=America/Phoenix:20270214T140000
DTEND;TZID=America/Phoenix:20270214T160000
DTSTAMP:20260425T141521
CREATED:20260413T061229Z
LAST-MODIFIED:20260413T061229Z
UID:10017530-1802613600-1802620800@onstageaz.com
SUMMARY:Beethoven Symphony No. 2
DESCRIPTION:The symphonies of Beethoven speak to generation upon generation. His path-breaking Second Symphony reflects the lingering influence of his teacher\, Joseph Haydn. Dan Coleman\, too\, has spoken of his debt to Haydn. He composed his Motif or Memory especially for oboe virtuoso Gustav Highstein. And Stravinsky’s enchanting Pulcinella glances back to Baroque giant Giovanni Pergolesi.
URL:https://onstageaz.com/event/beethoven-symphony-no-2/2027-02-14/
LOCATION:Catalina Foothills High School\, AZ\, United States
CATEGORIES:Music,Stage
ATTACH;FMTTYPE=image/png:https://onstageaz.com/wp-content/uploads/2026/04/Screenshot-2026-04-12-at-11.10.49-PM.png
END:VEVENT
BEGIN:VEVENT
DTSTART;TZID=America/Phoenix:20270214T150000
DTEND;TZID=America/Phoenix:20270214T170000
DTSTAMP:20260425T141521
CREATED:20260414T000637Z
LAST-MODIFIED:20260414T000637Z
UID:10017260-1802617200-1802624400@onstageaz.com
SUMMARY:The Play that Goes Wrong
DESCRIPTION:It’s opening night of the Cornley Drama Society’s production of The Murder at Haversham Manor\, and despite the troupe’s best efforts\, mishaps are causing mayhem on stage. From wayward props to malfunctioning scenery and unexpected understudies\, the show must go on. But will the theater still be standing at the end of the performance? Fueled by energetic physical comedy and trick scenery\, this award-winning sensation is perfect for the whole family.
URL:https://onstageaz.com/event/the-play-that-goes-wrong-2/2027-02-14/
LOCATION:Temple of Music and Art\, 330 S Scott Ave\, Tucson\, AZ\, 85701\, United States
CATEGORIES:Stage,Theatrical
ATTACH;FMTTYPE=image/jpeg:https://onstageaz.com/wp-content/uploads/2026/04/saGtEkew.jpg
ORGANIZER;CN="Arizona Theatre Company":MAILTO:boxoffice@atc.org
END:VEVENT
BEGIN:VEVENT
DTSTART;TZID=America/Phoenix:20270216T140000
DTEND;TZID=America/Phoenix:20270216T160000
DTSTAMP:20260425T141521
CREATED:20260414T000637Z
LAST-MODIFIED:20260414T000637Z
UID:10017261-1802786400-1802793600@onstageaz.com
SUMMARY:The Play that Goes Wrong
DESCRIPTION:It’s opening night of the Cornley Drama Society’s production of The Murder at Haversham Manor\, and despite the troupe’s best efforts\, mishaps are causing mayhem on stage. From wayward props to malfunctioning scenery and unexpected understudies\, the show must go on. But will the theater still be standing at the end of the performance? Fueled by energetic physical comedy and trick scenery\, this award-winning sensation is perfect for the whole family.
URL:https://onstageaz.com/event/the-play-that-goes-wrong-2/2027-02-16/
LOCATION:Temple of Music and Art\, 330 S Scott Ave\, Tucson\, AZ\, 85701\, United States
CATEGORIES:Stage,Theatrical
ATTACH;FMTTYPE=image/jpeg:https://onstageaz.com/wp-content/uploads/2026/04/saGtEkew.jpg
ORGANIZER;CN="Arizona Theatre Company":MAILTO:boxoffice@atc.org
END:VEVENT
BEGIN:VEVENT
DTSTART;TZID=America/Phoenix:20270217T140000
DTEND;TZID=America/Phoenix:20270217T160000
DTSTAMP:20260425T141521
CREATED:20260414T000637Z
LAST-MODIFIED:20260414T000637Z
UID:10017262-1802872800-1802880000@onstageaz.com
SUMMARY:The Play that Goes Wrong
DESCRIPTION:It’s opening night of the Cornley Drama Society’s production of The Murder at Haversham Manor\, and despite the troupe’s best efforts\, mishaps are causing mayhem on stage. From wayward props to malfunctioning scenery and unexpected understudies\, the show must go on. But will the theater still be standing at the end of the performance? Fueled by energetic physical comedy and trick scenery\, this award-winning sensation is perfect for the whole family.
URL:https://onstageaz.com/event/the-play-that-goes-wrong-2/2027-02-17/1/
LOCATION:Temple of Music and Art\, 330 S Scott Ave\, Tucson\, AZ\, 85701\, United States
CATEGORIES:Stage,Theatrical
ATTACH;FMTTYPE=image/jpeg:https://onstageaz.com/wp-content/uploads/2026/04/saGtEkew.jpg
ORGANIZER;CN="Arizona Theatre Company":MAILTO:boxoffice@atc.org
END:VEVENT
BEGIN:VEVENT
DTSTART;TZID=America/Phoenix:20270217T193000
DTEND;TZID=America/Phoenix:20270217T213000
DTSTAMP:20260425T141521
CREATED:20260414T000637Z
LAST-MODIFIED:20260414T000637Z
UID:10017263-1802892600-1802899800@onstageaz.com
SUMMARY:The Play that Goes Wrong
DESCRIPTION:It’s opening night of the Cornley Drama Society’s production of The Murder at Haversham Manor\, and despite the troupe’s best efforts\, mishaps are causing mayhem on stage. From wayward props to malfunctioning scenery and unexpected understudies\, the show must go on. But will the theater still be standing at the end of the performance? Fueled by energetic physical comedy and trick scenery\, this award-winning sensation is perfect for the whole family.
URL:https://onstageaz.com/event/the-play-that-goes-wrong-2/2027-02-17/2/
LOCATION:Temple of Music and Art\, 330 S Scott Ave\, Tucson\, AZ\, 85701\, United States
CATEGORIES:Stage,Theatrical
ATTACH;FMTTYPE=image/jpeg:https://onstageaz.com/wp-content/uploads/2026/04/saGtEkew.jpg
ORGANIZER;CN="Arizona Theatre Company":MAILTO:boxoffice@atc.org
END:VEVENT
BEGIN:VEVENT
DTSTART;TZID=America/Phoenix:20270218T140000
DTEND;TZID=America/Phoenix:20270218T160000
DTSTAMP:20260425T141521
CREATED:20260414T000637Z
LAST-MODIFIED:20260414T000637Z
UID:10017264-1802959200-1802966400@onstageaz.com
SUMMARY:The Play that Goes Wrong
DESCRIPTION:It’s opening night of the Cornley Drama Society’s production of The Murder at Haversham Manor\, and despite the troupe’s best efforts\, mishaps are causing mayhem on stage. From wayward props to malfunctioning scenery and unexpected understudies\, the show must go on. But will the theater still be standing at the end of the performance? Fueled by energetic physical comedy and trick scenery\, this award-winning sensation is perfect for the whole family.
URL:https://onstageaz.com/event/the-play-that-goes-wrong-2/2027-02-18/1/
LOCATION:Temple of Music and Art\, 330 S Scott Ave\, Tucson\, AZ\, 85701\, United States
CATEGORIES:Stage,Theatrical
ATTACH;FMTTYPE=image/jpeg:https://onstageaz.com/wp-content/uploads/2026/04/saGtEkew.jpg
ORGANIZER;CN="Arizona Theatre Company":MAILTO:boxoffice@atc.org
END:VEVENT
BEGIN:VEVENT
DTSTART;TZID=America/Phoenix:20270218T193000
DTEND;TZID=America/Phoenix:20270218T213000
DTSTAMP:20260425T141521
CREATED:20260414T000637Z
LAST-MODIFIED:20260414T000637Z
UID:10017265-1802979000-1802986200@onstageaz.com
SUMMARY:The Play that Goes Wrong
DESCRIPTION:It’s opening night of the Cornley Drama Society’s production of The Murder at Haversham Manor\, and despite the troupe’s best efforts\, mishaps are causing mayhem on stage. From wayward props to malfunctioning scenery and unexpected understudies\, the show must go on. But will the theater still be standing at the end of the performance? Fueled by energetic physical comedy and trick scenery\, this award-winning sensation is perfect for the whole family.
URL:https://onstageaz.com/event/the-play-that-goes-wrong-2/2027-02-18/2/
LOCATION:Temple of Music and Art\, 330 S Scott Ave\, Tucson\, AZ\, 85701\, United States
CATEGORIES:Stage,Theatrical
ATTACH;FMTTYPE=image/jpeg:https://onstageaz.com/wp-content/uploads/2026/04/saGtEkew.jpg
ORGANIZER;CN="Arizona Theatre Company":MAILTO:boxoffice@atc.org
END:VEVENT
BEGIN:VEVENT
DTSTART;TZID=America/Phoenix:20270219T190000
DTEND;TZID=America/Phoenix:20270219T210000
DTSTAMP:20260425T141521
CREATED:20260320T232312Z
LAST-MODIFIED:20260320T232312Z
UID:10016805-1803063600-1803070800@onstageaz.com
SUMMARY:Home\, I’m Darling by Laura Wade
DESCRIPTION:What happens when retro dreams collide with modern realities? Home\, I’m Darling takes you inside the life of Judy\, a woman who’s reinvented herself as the perfect 1950s housewife—complete with cocktail dresses\, impeccable manners\, and a picture-perfect home. But when the pressure of maintaining her vintage fantasy begins to crack\, Judy must confront the cost of living in an idealized past. Funny\, sharp\, and unexpectedly poignant\, this play explores identity\, marriage\, and the struggle to balance fantasy with reality. A captivating\, thought-provoking ride through a world where appearances can be deceiving and the search for happiness takes surprising turns. \nFridays at 7:00pm – May 1\, 8\, 15\, & 22\, 2026\nSaturdays at 7:00pm – May 2 & 9\, 2026 || Saturdays at 2:00pm – May 16 & 23\, 2026\nSundays at 2:00pm – May 3\, 10\, 17\, & 24\, 2026
URL:https://onstageaz.com/event/home-im-darling-by-laura-wade/2027-02-19/
LOCATION:Live Theatre Workshop\, 3322 E Fort Lowell Rd\, Tucson\, AZ\, 85716\, United States
CATEGORIES:Stage,Theatrical
ATTACH;FMTTYPE=image/png:https://onstageaz.com/wp-content/uploads/2026/02/Home-Im-Darling-1920x1080-1.png
ORGANIZER;CN="Live Theatre Workshop":MAILTO:livetheatreworkshop@gmail.com
END:VEVENT
BEGIN:VEVENT
DTSTART;TZID=America/Phoenix:20270219T193000
DTEND;TZID=America/Phoenix:20270219T213000
DTSTAMP:20260425T141521
CREATED:20260414T000637Z
LAST-MODIFIED:20260414T000637Z
UID:10017266-1803065400-1803072600@onstageaz.com
SUMMARY:The Play that Goes Wrong
DESCRIPTION:It’s opening night of the Cornley Drama Society’s production of The Murder at Haversham Manor\, and despite the troupe’s best efforts\, mishaps are causing mayhem on stage. From wayward props to malfunctioning scenery and unexpected understudies\, the show must go on. But will the theater still be standing at the end of the performance? Fueled by energetic physical comedy and trick scenery\, this award-winning sensation is perfect for the whole family.
URL:https://onstageaz.com/event/the-play-that-goes-wrong-2/2027-02-19/
LOCATION:Temple of Music and Art\, 330 S Scott Ave\, Tucson\, AZ\, 85701\, United States
CATEGORIES:Stage,Theatrical
ATTACH;FMTTYPE=image/jpeg:https://onstageaz.com/wp-content/uploads/2026/04/saGtEkew.jpg
ORGANIZER;CN="Arizona Theatre Company":MAILTO:boxoffice@atc.org
END:VEVENT
BEGIN:VEVENT
DTSTART;TZID=America/Phoenix:20270220T140000
DTEND;TZID=America/Phoenix:20270220T160000
DTSTAMP:20260425T141521
CREATED:20260414T000637Z
LAST-MODIFIED:20260414T000637Z
UID:10017267-1803132000-1803139200@onstageaz.com
SUMMARY:The Play that Goes Wrong
DESCRIPTION:It’s opening night of the Cornley Drama Society’s production of The Murder at Haversham Manor\, and despite the troupe’s best efforts\, mishaps are causing mayhem on stage. From wayward props to malfunctioning scenery and unexpected understudies\, the show must go on. But will the theater still be standing at the end of the performance? Fueled by energetic physical comedy and trick scenery\, this award-winning sensation is perfect for the whole family.
URL:https://onstageaz.com/event/the-play-that-goes-wrong-2/2027-02-20/1/
LOCATION:Temple of Music and Art\, 330 S Scott Ave\, Tucson\, AZ\, 85701\, United States
CATEGORIES:Stage,Theatrical
ATTACH;FMTTYPE=image/jpeg:https://onstageaz.com/wp-content/uploads/2026/04/saGtEkew.jpg
ORGANIZER;CN="Arizona Theatre Company":MAILTO:boxoffice@atc.org
END:VEVENT
BEGIN:VEVENT
DTSTART;TZID=America/Phoenix:20270220T193000
DTEND;TZID=America/Phoenix:20270220T213000
DTSTAMP:20260425T141522
CREATED:20260414T000637Z
LAST-MODIFIED:20260414T000637Z
UID:10017268-1803151800-1803159000@onstageaz.com
SUMMARY:The Play that Goes Wrong
DESCRIPTION:It’s opening night of the Cornley Drama Society’s production of The Murder at Haversham Manor\, and despite the troupe’s best efforts\, mishaps are causing mayhem on stage. From wayward props to malfunctioning scenery and unexpected understudies\, the show must go on. But will the theater still be standing at the end of the performance? Fueled by energetic physical comedy and trick scenery\, this award-winning sensation is perfect for the whole family.
URL:https://onstageaz.com/event/the-play-that-goes-wrong-2/2027-02-20/2/
LOCATION:Temple of Music and Art\, 330 S Scott Ave\, Tucson\, AZ\, 85701\, United States
CATEGORIES:Stage,Theatrical
ATTACH;FMTTYPE=image/jpeg:https://onstageaz.com/wp-content/uploads/2026/04/saGtEkew.jpg
ORGANIZER;CN="Arizona Theatre Company":MAILTO:boxoffice@atc.org
END:VEVENT
END:VCALENDAR