BEGIN:VCALENDAR
VERSION:2.0
PRODID:-//ON Stage Arizona - ECPv6.15.18//NONSGML v1.0//EN
CALSCALE:GREGORIAN
METHOD:PUBLISH
X-WR-CALNAME:ON Stage Arizona
X-ORIGINAL-URL:https://onstageaz.com
X-WR-CALDESC:Events for ON Stage Arizona
REFRESH-INTERVAL;VALUE=DURATION:PT1H
X-Robots-Tag:noindex
X-PUBLISHED-TTL:PT1H
BEGIN:VTIMEZONE
TZID:America/Phoenix
BEGIN:STANDARD
TZOFFSETFROM:-0700
TZOFFSETTO:-0700
TZNAME:MST
DTSTART:20260101T000000
END:STANDARD
END:VTIMEZONE
BEGIN:VEVENT
DTSTART;TZID=America/Phoenix:20270131T140000
DTEND;TZID=America/Phoenix:20270131T160000
DTSTAMP:20260425T123837
CREATED:20260413T061542Z
LAST-MODIFIED:20260413T061542Z
UID:10017528-1801404000-1801411200@onstageaz.com
SUMMARY:The Music of Hans Zimmer
DESCRIPTION:Enjoy the stirring scores of Oscar®-winner Hans Zimmer\, including your favorite movie music from The Lion King\, Pirates of the Caribbean\, Gladiator\, Batman: The Dark Knight Rises\, and more.
URL:https://onstageaz.com/event/the-music-of-hans-zimmer/2027-01-31/
LOCATION:The Linda Ronstadt Music Hall\, 260 S Church Ave\, Tucson\, AZ\, 85701\, United States
CATEGORIES:Music,Stage
ATTACH;FMTTYPE=image/png:https://onstageaz.com/wp-content/uploads/2026/04/Screenshot-2026-04-12-at-11.13.29-PM.png
END:VEVENT
BEGIN:VEVENT
DTSTART;TZID=America/Phoenix:20270131T190000
DTEND;TZID=America/Phoenix:20270131T213000
DTSTAMP:20260425T123837
CREATED:20260414T000637Z
LAST-MODIFIED:20260414T000637Z
UID:10017042-1801422000-1801431000@onstageaz.com
SUMMARY:The Play that Goes Wrong
DESCRIPTION:It’s opening night of the Cornley Drama Society’s production of The Murder at Haversham Manor\, and despite the troupe’s best efforts\, mishaps are causing mayhem on stage. From wayward props to malfunctioning scenery and unexpected understudies\, the show must go on. But will the theater still be standing at the end of the performance? Fueled by energetic physical comedy and trick scenery\, this award-winning sensation is perfect for the whole family.
URL:https://onstageaz.com/event/the-play-that-goes-wrong-2/2027-01-31/
LOCATION:Temple of Music and Art\, 330 S Scott Ave\, Tucson\, AZ\, 85701\, United States
CATEGORIES:Stage,Theatrical
ATTACH;FMTTYPE=image/jpeg:https://onstageaz.com/wp-content/uploads/2026/04/saGtEkew.jpg
ORGANIZER;CN="Arizona Theatre Company":MAILTO:boxoffice@atc.org
END:VEVENT
BEGIN:VEVENT
DTSTART;TZID=America/Phoenix:20270202T193000
DTEND;TZID=America/Phoenix:20270202T213000
DTSTAMP:20260425T123837
CREATED:20260414T000637Z
LAST-MODIFIED:20260414T000637Z
UID:10017247-1801596600-1801603800@onstageaz.com
SUMMARY:The Play that Goes Wrong
DESCRIPTION:It’s opening night of the Cornley Drama Society’s production of The Murder at Haversham Manor\, and despite the troupe’s best efforts\, mishaps are causing mayhem on stage. From wayward props to malfunctioning scenery and unexpected understudies\, the show must go on. But will the theater still be standing at the end of the performance? Fueled by energetic physical comedy and trick scenery\, this award-winning sensation is perfect for the whole family.
URL:https://onstageaz.com/event/the-play-that-goes-wrong-2/2027-02-02/
LOCATION:Temple of Music and Art\, 330 S Scott Ave\, Tucson\, AZ\, 85701\, United States
CATEGORIES:Stage,Theatrical
ATTACH;FMTTYPE=image/jpeg:https://onstageaz.com/wp-content/uploads/2026/04/saGtEkew.jpg
ORGANIZER;CN="Arizona Theatre Company":MAILTO:boxoffice@atc.org
END:VEVENT
BEGIN:VEVENT
DTSTART;TZID=America/Phoenix:20270203T193000
DTEND;TZID=America/Phoenix:20270203T213000
DTSTAMP:20260425T123837
CREATED:20260414T000637Z
LAST-MODIFIED:20260414T000637Z
UID:10017248-1801683000-1801690200@onstageaz.com
SUMMARY:The Play that Goes Wrong
DESCRIPTION:It’s opening night of the Cornley Drama Society’s production of The Murder at Haversham Manor\, and despite the troupe’s best efforts\, mishaps are causing mayhem on stage. From wayward props to malfunctioning scenery and unexpected understudies\, the show must go on. But will the theater still be standing at the end of the performance? Fueled by energetic physical comedy and trick scenery\, this award-winning sensation is perfect for the whole family.
URL:https://onstageaz.com/event/the-play-that-goes-wrong-2/2027-02-03/
LOCATION:Temple of Music and Art\, 330 S Scott Ave\, Tucson\, AZ\, 85701\, United States
CATEGORIES:Stage,Theatrical
ATTACH;FMTTYPE=image/jpeg:https://onstageaz.com/wp-content/uploads/2026/04/saGtEkew.jpg
ORGANIZER;CN="Arizona Theatre Company":MAILTO:boxoffice@atc.org
END:VEVENT
BEGIN:VEVENT
DTSTART;TZID=America/Phoenix:20270204T193000
DTEND;TZID=America/Phoenix:20270204T213000
DTSTAMP:20260425T123837
CREATED:20260414T000637Z
LAST-MODIFIED:20260414T000637Z
UID:10017249-1801769400-1801776600@onstageaz.com
SUMMARY:The Play that Goes Wrong
DESCRIPTION:It’s opening night of the Cornley Drama Society’s production of The Murder at Haversham Manor\, and despite the troupe’s best efforts\, mishaps are causing mayhem on stage. From wayward props to malfunctioning scenery and unexpected understudies\, the show must go on. But will the theater still be standing at the end of the performance? Fueled by energetic physical comedy and trick scenery\, this award-winning sensation is perfect for the whole family.
URL:https://onstageaz.com/event/the-play-that-goes-wrong-2/2027-02-04/
LOCATION:Temple of Music and Art\, 330 S Scott Ave\, Tucson\, AZ\, 85701\, United States
CATEGORIES:Stage,Theatrical
ATTACH;FMTTYPE=image/jpeg:https://onstageaz.com/wp-content/uploads/2026/04/saGtEkew.jpg
ORGANIZER;CN="Arizona Theatre Company":MAILTO:boxoffice@atc.org
END:VEVENT
BEGIN:VEVENT
DTSTART;TZID=America/Phoenix:20270205T190000
DTEND;TZID=America/Phoenix:20270205T210000
DTSTAMP:20260425T123837
CREATED:20260320T232312Z
LAST-MODIFIED:20260320T232312Z
UID:10016803-1801854000-1801861200@onstageaz.com
SUMMARY:Home\, I’m Darling by Laura Wade
DESCRIPTION:What happens when retro dreams collide with modern realities? Home\, I’m Darling takes you inside the life of Judy\, a woman who’s reinvented herself as the perfect 1950s housewife—complete with cocktail dresses\, impeccable manners\, and a picture-perfect home. But when the pressure of maintaining her vintage fantasy begins to crack\, Judy must confront the cost of living in an idealized past. Funny\, sharp\, and unexpectedly poignant\, this play explores identity\, marriage\, and the struggle to balance fantasy with reality. A captivating\, thought-provoking ride through a world where appearances can be deceiving and the search for happiness takes surprising turns. \nFridays at 7:00pm – May 1\, 8\, 15\, & 22\, 2026\nSaturdays at 7:00pm – May 2 & 9\, 2026 || Saturdays at 2:00pm – May 16 & 23\, 2026\nSundays at 2:00pm – May 3\, 10\, 17\, & 24\, 2026
URL:https://onstageaz.com/event/home-im-darling-by-laura-wade/2027-02-05/
LOCATION:Live Theatre Workshop\, 3322 E Fort Lowell Rd\, Tucson\, AZ\, 85716\, United States
CATEGORIES:Stage,Theatrical
ATTACH;FMTTYPE=image/png:https://onstageaz.com/wp-content/uploads/2026/02/Home-Im-Darling-1920x1080-1.png
ORGANIZER;CN="Live Theatre Workshop":MAILTO:livetheatreworkshop@gmail.com
END:VEVENT
BEGIN:VEVENT
DTSTART;TZID=America/Phoenix:20270205T193000
DTEND;TZID=America/Phoenix:20270205T213000
DTSTAMP:20260425T123837
CREATED:20260414T000637Z
LAST-MODIFIED:20260414T000637Z
UID:10017250-1801855800-1801863000@onstageaz.com
SUMMARY:The Play that Goes Wrong
DESCRIPTION:It’s opening night of the Cornley Drama Society’s production of The Murder at Haversham Manor\, and despite the troupe’s best efforts\, mishaps are causing mayhem on stage. From wayward props to malfunctioning scenery and unexpected understudies\, the show must go on. But will the theater still be standing at the end of the performance? Fueled by energetic physical comedy and trick scenery\, this award-winning sensation is perfect for the whole family.
URL:https://onstageaz.com/event/the-play-that-goes-wrong-2/2027-02-05/
LOCATION:Temple of Music and Art\, 330 S Scott Ave\, Tucson\, AZ\, 85701\, United States
CATEGORIES:Stage,Theatrical
ATTACH;FMTTYPE=image/jpeg:https://onstageaz.com/wp-content/uploads/2026/04/saGtEkew.jpg
ORGANIZER;CN="Arizona Theatre Company":MAILTO:boxoffice@atc.org
END:VEVENT
BEGIN:VEVENT
DTSTART;TZID=America/Phoenix:20270206T140000
DTEND;TZID=America/Phoenix:20270206T160000
DTSTAMP:20260425T123837
CREATED:20260414T000637Z
LAST-MODIFIED:20260414T000637Z
UID:10017251-1801922400-1801929600@onstageaz.com
SUMMARY:The Play that Goes Wrong
DESCRIPTION:It’s opening night of the Cornley Drama Society’s production of The Murder at Haversham Manor\, and despite the troupe’s best efforts\, mishaps are causing mayhem on stage. From wayward props to malfunctioning scenery and unexpected understudies\, the show must go on. But will the theater still be standing at the end of the performance? Fueled by energetic physical comedy and trick scenery\, this award-winning sensation is perfect for the whole family.
URL:https://onstageaz.com/event/the-play-that-goes-wrong-2/2027-02-06/1/
LOCATION:Temple of Music and Art\, 330 S Scott Ave\, Tucson\, AZ\, 85701\, United States
CATEGORIES:Stage,Theatrical
ATTACH;FMTTYPE=image/jpeg:https://onstageaz.com/wp-content/uploads/2026/04/saGtEkew.jpg
ORGANIZER;CN="Arizona Theatre Company":MAILTO:boxoffice@atc.org
END:VEVENT
BEGIN:VEVENT
DTSTART;TZID=America/Phoenix:20270206T193000
DTEND;TZID=America/Phoenix:20270206T193000
DTSTAMP:20260425T123837
CREATED:20260413T231631Z
LAST-MODIFIED:20260413T231631Z
UID:10017888-1801942200-1801942200@onstageaz.com
SUMMARY:The Pirates of Penzance
DESCRIPTION:Gilbert and Sullivan’s beloved operetta returns in this fast-paced\, laugh-out-loud adventure filled with romance\, satire\, and iconic songs\, including “I Am the Very Model of a Modern Major-General.” With tender-hearted pirates\, leap-year logic\, and irresistible wordplay\, The Pirates of Penzance remains a timeless crowd-pleaser.
URL:https://onstageaz.com/event/the-pirates-of-penzance-2/2027-02-06/
LOCATION:The Linda Ronstadt Music Hall\, 260 S Church Ave\, Tucson\, AZ\, 85701\, United States
CATEGORIES:Music,Stage
ATTACH;FMTTYPE=image/png:https://onstageaz.com/wp-content/uploads/2026/04/TnTrpBOA.png
ORGANIZER;CN="Arizona Opera":MAILTO:INFO@AZOPERA.ORG
END:VEVENT
BEGIN:VEVENT
DTSTART;TZID=America/Phoenix:20270206T193000
DTEND;TZID=America/Phoenix:20270206T213000
DTSTAMP:20260425T123837
CREATED:20260414T000637Z
LAST-MODIFIED:20260414T000637Z
UID:10017252-1801942200-1801949400@onstageaz.com
SUMMARY:The Play that Goes Wrong
DESCRIPTION:It’s opening night of the Cornley Drama Society’s production of The Murder at Haversham Manor\, and despite the troupe’s best efforts\, mishaps are causing mayhem on stage. From wayward props to malfunctioning scenery and unexpected understudies\, the show must go on. But will the theater still be standing at the end of the performance? Fueled by energetic physical comedy and trick scenery\, this award-winning sensation is perfect for the whole family.
URL:https://onstageaz.com/event/the-play-that-goes-wrong-2/2027-02-06/2/
LOCATION:Temple of Music and Art\, 330 S Scott Ave\, Tucson\, AZ\, 85701\, United States
CATEGORIES:Stage,Theatrical
ATTACH;FMTTYPE=image/jpeg:https://onstageaz.com/wp-content/uploads/2026/04/saGtEkew.jpg
ORGANIZER;CN="Arizona Theatre Company":MAILTO:boxoffice@atc.org
END:VEVENT
END:VCALENDAR