BEGIN:VCALENDAR
VERSION:2.0
PRODID:-//ON Stage Arizona - ECPv6.15.18//NONSGML v1.0//EN
CALSCALE:GREGORIAN
METHOD:PUBLISH
X-WR-CALNAME:ON Stage Arizona
X-ORIGINAL-URL:https://onstageaz.com
X-WR-CALDESC:Events for ON Stage Arizona
REFRESH-INTERVAL;VALUE=DURATION:PT1H
X-Robots-Tag:noindex
X-PUBLISHED-TTL:PT1H
BEGIN:VTIMEZONE
TZID:America/Phoenix
BEGIN:STANDARD
TZOFFSETFROM:-0700
TZOFFSETTO:-0700
TZNAME:MST
DTSTART:20250101T000000
END:STANDARD
END:VTIMEZONE
BEGIN:VEVENT
DTSTART;TZID=America/Phoenix:20261011T150000
DTEND;TZID=America/Phoenix:20261011T170000
DTSTAMP:20260424T204452
CREATED:20260413T235953Z
LAST-MODIFIED:20260413T235953Z
UID:10017110-1791730800-1791738000@onstageaz.com
SUMMARY:Proof
DESCRIPTION:When Catherine\, the daughter of a late prize-winning mathematician\, allows her father’s protege access to his archives\, he discovers an impossible math proof – improbably solved. What follows is a debate over the proof’s true author\, a clash between sisters over plans for the estate\, and a romance that pushes Catherine to trust her heart. A story about escaping the isolation of genius and embracing the promise of love\, Proof is the inspirational story we all need right now.
URL:https://onstageaz.com/event/proof-2/2026-10-11/
LOCATION:Temple of Music and Art\, 330 S Scott Ave\, Tucson\, AZ\, 85701\, United States
CATEGORIES:Stage,Theatrical
ATTACH;FMTTYPE=image/jpeg:https://onstageaz.com/wp-content/uploads/2026/04/Z7MB6sg.jpg
ORGANIZER;CN="Arizona Theatre Company":MAILTO:boxoffice@atc.org
END:VEVENT
BEGIN:VEVENT
DTSTART;TZID=America/Phoenix:20261013T140000
DTEND;TZID=America/Phoenix:20261013T160000
DTSTAMP:20260424T204452
CREATED:20260413T235953Z
LAST-MODIFIED:20260413T235953Z
UID:10017111-1791900000-1791907200@onstageaz.com
SUMMARY:Proof
DESCRIPTION:When Catherine\, the daughter of a late prize-winning mathematician\, allows her father’s protege access to his archives\, he discovers an impossible math proof – improbably solved. What follows is a debate over the proof’s true author\, a clash between sisters over plans for the estate\, and a romance that pushes Catherine to trust her heart. A story about escaping the isolation of genius and embracing the promise of love\, Proof is the inspirational story we all need right now.
URL:https://onstageaz.com/event/proof-2/2026-10-13/
LOCATION:Temple of Music and Art\, 330 S Scott Ave\, Tucson\, AZ\, 85701\, United States
CATEGORIES:Stage,Theatrical
ATTACH;FMTTYPE=image/jpeg:https://onstageaz.com/wp-content/uploads/2026/04/Z7MB6sg.jpg
ORGANIZER;CN="Arizona Theatre Company":MAILTO:boxoffice@atc.org
END:VEVENT
BEGIN:VEVENT
DTSTART;TZID=America/Phoenix:20261014T140000
DTEND;TZID=America/Phoenix:20261014T160000
DTSTAMP:20260424T204452
CREATED:20260413T235953Z
LAST-MODIFIED:20260413T235953Z
UID:10017112-1791986400-1791993600@onstageaz.com
SUMMARY:Proof
DESCRIPTION:When Catherine\, the daughter of a late prize-winning mathematician\, allows her father’s protege access to his archives\, he discovers an impossible math proof – improbably solved. What follows is a debate over the proof’s true author\, a clash between sisters over plans for the estate\, and a romance that pushes Catherine to trust her heart. A story about escaping the isolation of genius and embracing the promise of love\, Proof is the inspirational story we all need right now.
URL:https://onstageaz.com/event/proof-2/2026-10-14/1/
LOCATION:Temple of Music and Art\, 330 S Scott Ave\, Tucson\, AZ\, 85701\, United States
CATEGORIES:Stage,Theatrical
ATTACH;FMTTYPE=image/jpeg:https://onstageaz.com/wp-content/uploads/2026/04/Z7MB6sg.jpg
ORGANIZER;CN="Arizona Theatre Company":MAILTO:boxoffice@atc.org
END:VEVENT
BEGIN:VEVENT
DTSTART;TZID=America/Phoenix:20261014T193000
DTEND;TZID=America/Phoenix:20261014T213000
DTSTAMP:20260424T204452
CREATED:20260413T235953Z
LAST-MODIFIED:20260413T235953Z
UID:10017113-1792006200-1792013400@onstageaz.com
SUMMARY:Proof
DESCRIPTION:When Catherine\, the daughter of a late prize-winning mathematician\, allows her father’s protege access to his archives\, he discovers an impossible math proof – improbably solved. What follows is a debate over the proof’s true author\, a clash between sisters over plans for the estate\, and a romance that pushes Catherine to trust her heart. A story about escaping the isolation of genius and embracing the promise of love\, Proof is the inspirational story we all need right now.
URL:https://onstageaz.com/event/proof-2/2026-10-14/2/
LOCATION:Temple of Music and Art\, 330 S Scott Ave\, Tucson\, AZ\, 85701\, United States
CATEGORIES:Stage,Theatrical
ATTACH;FMTTYPE=image/jpeg:https://onstageaz.com/wp-content/uploads/2026/04/Z7MB6sg.jpg
ORGANIZER;CN="Arizona Theatre Company":MAILTO:boxoffice@atc.org
END:VEVENT
BEGIN:VEVENT
DTSTART;TZID=America/Phoenix:20261015T140000
DTEND;TZID=America/Phoenix:20261015T160000
DTSTAMP:20260424T204452
CREATED:20260413T235953Z
LAST-MODIFIED:20260413T235953Z
UID:10017114-1792072800-1792080000@onstageaz.com
SUMMARY:Proof
DESCRIPTION:When Catherine\, the daughter of a late prize-winning mathematician\, allows her father’s protege access to his archives\, he discovers an impossible math proof – improbably solved. What follows is a debate over the proof’s true author\, a clash between sisters over plans for the estate\, and a romance that pushes Catherine to trust her heart. A story about escaping the isolation of genius and embracing the promise of love\, Proof is the inspirational story we all need right now.
URL:https://onstageaz.com/event/proof-2/2026-10-15/1/
LOCATION:Temple of Music and Art\, 330 S Scott Ave\, Tucson\, AZ\, 85701\, United States
CATEGORIES:Stage,Theatrical
ATTACH;FMTTYPE=image/jpeg:https://onstageaz.com/wp-content/uploads/2026/04/Z7MB6sg.jpg
ORGANIZER;CN="Arizona Theatre Company":MAILTO:boxoffice@atc.org
END:VEVENT
BEGIN:VEVENT
DTSTART;TZID=America/Phoenix:20261015T193000
DTEND;TZID=America/Phoenix:20261015T213000
DTSTAMP:20260424T204452
CREATED:20260413T235953Z
LAST-MODIFIED:20260413T235953Z
UID:10017115-1792092600-1792099800@onstageaz.com
SUMMARY:Proof
DESCRIPTION:When Catherine\, the daughter of a late prize-winning mathematician\, allows her father’s protege access to his archives\, he discovers an impossible math proof – improbably solved. What follows is a debate over the proof’s true author\, a clash between sisters over plans for the estate\, and a romance that pushes Catherine to trust her heart. A story about escaping the isolation of genius and embracing the promise of love\, Proof is the inspirational story we all need right now.
URL:https://onstageaz.com/event/proof-2/2026-10-15/2/
LOCATION:Temple of Music and Art\, 330 S Scott Ave\, Tucson\, AZ\, 85701\, United States
CATEGORIES:Stage,Theatrical
ATTACH;FMTTYPE=image/jpeg:https://onstageaz.com/wp-content/uploads/2026/04/Z7MB6sg.jpg
ORGANIZER;CN="Arizona Theatre Company":MAILTO:boxoffice@atc.org
END:VEVENT
BEGIN:VEVENT
DTSTART;TZID=America/Phoenix:20261016T190000
DTEND;TZID=America/Phoenix:20261016T210000
DTSTAMP:20260424T204452
CREATED:20260320T232312Z
LAST-MODIFIED:20260320T232312Z
UID:10016787-1792177200-1792184400@onstageaz.com
SUMMARY:Home\, I’m Darling by Laura Wade
DESCRIPTION:What happens when retro dreams collide with modern realities? Home\, I’m Darling takes you inside the life of Judy\, a woman who’s reinvented herself as the perfect 1950s housewife—complete with cocktail dresses\, impeccable manners\, and a picture-perfect home. But when the pressure of maintaining her vintage fantasy begins to crack\, Judy must confront the cost of living in an idealized past. Funny\, sharp\, and unexpectedly poignant\, this play explores identity\, marriage\, and the struggle to balance fantasy with reality. A captivating\, thought-provoking ride through a world where appearances can be deceiving and the search for happiness takes surprising turns. \nFridays at 7:00pm – May 1\, 8\, 15\, & 22\, 2026\nSaturdays at 7:00pm – May 2 & 9\, 2026 || Saturdays at 2:00pm – May 16 & 23\, 2026\nSundays at 2:00pm – May 3\, 10\, 17\, & 24\, 2026
URL:https://onstageaz.com/event/home-im-darling-by-laura-wade/2026-10-16/
LOCATION:Live Theatre Workshop\, 3322 E Fort Lowell Rd\, Tucson\, AZ\, 85716\, United States
CATEGORIES:Stage,Theatrical
ATTACH;FMTTYPE=image/png:https://onstageaz.com/wp-content/uploads/2026/02/Home-Im-Darling-1920x1080-1.png
ORGANIZER;CN="Live Theatre Workshop":MAILTO:livetheatreworkshop@gmail.com
END:VEVENT
BEGIN:VEVENT
DTSTART;TZID=America/Phoenix:20261016T193000
DTEND;TZID=America/Phoenix:20261016T213000
DTSTAMP:20260424T204452
CREATED:20260413T235953Z
LAST-MODIFIED:20260413T235953Z
UID:10017116-1792179000-1792186200@onstageaz.com
SUMMARY:Proof
DESCRIPTION:When Catherine\, the daughter of a late prize-winning mathematician\, allows her father’s protege access to his archives\, he discovers an impossible math proof – improbably solved. What follows is a debate over the proof’s true author\, a clash between sisters over plans for the estate\, and a romance that pushes Catherine to trust her heart. A story about escaping the isolation of genius and embracing the promise of love\, Proof is the inspirational story we all need right now.
URL:https://onstageaz.com/event/proof-2/2026-10-16/
LOCATION:Temple of Music and Art\, 330 S Scott Ave\, Tucson\, AZ\, 85701\, United States
CATEGORIES:Stage,Theatrical
ATTACH;FMTTYPE=image/jpeg:https://onstageaz.com/wp-content/uploads/2026/04/Z7MB6sg.jpg
ORGANIZER;CN="Arizona Theatre Company":MAILTO:boxoffice@atc.org
END:VEVENT
BEGIN:VEVENT
DTSTART;TZID=America/Phoenix:20261017T140000
DTEND;TZID=America/Phoenix:20261017T160000
DTSTAMP:20260424T204452
CREATED:20260413T235953Z
LAST-MODIFIED:20260413T235953Z
UID:10017117-1792245600-1792252800@onstageaz.com
SUMMARY:Proof
DESCRIPTION:When Catherine\, the daughter of a late prize-winning mathematician\, allows her father’s protege access to his archives\, he discovers an impossible math proof – improbably solved. What follows is a debate over the proof’s true author\, a clash between sisters over plans for the estate\, and a romance that pushes Catherine to trust her heart. A story about escaping the isolation of genius and embracing the promise of love\, Proof is the inspirational story we all need right now.
URL:https://onstageaz.com/event/proof-2/2026-10-17/1/
LOCATION:Temple of Music and Art\, 330 S Scott Ave\, Tucson\, AZ\, 85701\, United States
CATEGORIES:Stage,Theatrical
ATTACH;FMTTYPE=image/jpeg:https://onstageaz.com/wp-content/uploads/2026/04/Z7MB6sg.jpg
ORGANIZER;CN="Arizona Theatre Company":MAILTO:boxoffice@atc.org
END:VEVENT
BEGIN:VEVENT
DTSTART;TZID=America/Phoenix:20261017T193000
DTEND;TZID=America/Phoenix:20261017T213000
DTSTAMP:20260424T204452
CREATED:20260413T235953Z
LAST-MODIFIED:20260413T235953Z
UID:10017118-1792265400-1792272600@onstageaz.com
SUMMARY:Proof
DESCRIPTION:When Catherine\, the daughter of a late prize-winning mathematician\, allows her father’s protege access to his archives\, he discovers an impossible math proof – improbably solved. What follows is a debate over the proof’s true author\, a clash between sisters over plans for the estate\, and a romance that pushes Catherine to trust her heart. A story about escaping the isolation of genius and embracing the promise of love\, Proof is the inspirational story we all need right now.
URL:https://onstageaz.com/event/proof-2/2026-10-17/2/
LOCATION:Temple of Music and Art\, 330 S Scott Ave\, Tucson\, AZ\, 85701\, United States
CATEGORIES:Stage,Theatrical
ATTACH;FMTTYPE=image/jpeg:https://onstageaz.com/wp-content/uploads/2026/04/Z7MB6sg.jpg
ORGANIZER;CN="Arizona Theatre Company":MAILTO:boxoffice@atc.org
END:VEVENT
END:VCALENDAR