BEGIN:VCALENDAR
VERSION:2.0
PRODID:-//ON Stage Arizona - ECPv6.15.18//NONSGML v1.0//EN
CALSCALE:GREGORIAN
METHOD:PUBLISH
X-WR-CALNAME:ON Stage Arizona
X-ORIGINAL-URL:https://onstageaz.com
X-WR-CALDESC:Events for ON Stage Arizona
REFRESH-INTERVAL;VALUE=DURATION:PT1H
X-Robots-Tag:noindex
X-PUBLISHED-TTL:PT1H
BEGIN:VTIMEZONE
TZID:America/Phoenix
BEGIN:STANDARD
TZOFFSETFROM:-0700
TZOFFSETTO:-0700
TZNAME:MST
DTSTART:20250101T000000
END:STANDARD
END:VTIMEZONE
BEGIN:VEVENT
DTSTART;TZID=America/Phoenix:20260713T093000
DTEND;TZID=America/Phoenix:20260713T160000
DTSTAMP:20260424T145645
CREATED:20260414T004457Z
LAST-MODIFIED:20260414T004559Z
UID:10017904-1783935000-1783958400@onstageaz.com
SUMMARY:Summer Camp 2026: Session 2
DESCRIPTION:Step into the world of silent movies and discover how filmmakers worked story magic without words! This playful and imaginative silent film camp introduces younger students to the foundations of silent cinema with a focus on movie magic\, visual effects\, and creative expression.  \nCampers will learn expressive acting\, visual storytelling\, and classic silent film techniques\, with a special emphasis on green screen technology and cinematic effects. They bring these threads together by creating a high-energy silent movie scene\, experimenting with illusion\, movement\, and movie magic.  \nThe week culminates in a dazzling\, Hollywood-style\, red-carpet premiere\, where campers’ scenes will be showcased on the big screen with live Wurlitzer theatre organ accompaniment\, giving students and their families a true silent-film era experience. 
URL:https://onstageaz.com/event/summer-camp-2026-session-2/2026-07-13/
LOCATION:Fox Tucson Theatre\, 17 W Congress St\, Tucson\, AZ\, 85701\, United States
CATEGORIES:Family,film,Virtual / Streaming
ATTACH;FMTTYPE=image/png:https://onstageaz.com/wp-content/uploads/2026/04/Screenshot-2026-04-13-at-5.39.16-PM-1.png
ORGANIZER;CN="Fox Tucson Theatre":MAILTO:foxinfo@foxtucson.com
END:VEVENT
BEGIN:VEVENT
DTSTART;TZID=America/Phoenix:20260714T090000
DTEND;TZID=America/Phoenix:20260714T160000
DTSTAMP:20260424T145645
CREATED:20260414T004457Z
LAST-MODIFIED:20260414T004559Z
UID:10017905-1784019600-1784044800@onstageaz.com
SUMMARY:Summer Camp 2026: Session 2
DESCRIPTION:Step into the world of silent movies and discover how filmmakers worked story magic without words! This playful and imaginative silent film camp introduces younger students to the foundations of silent cinema with a focus on movie magic\, visual effects\, and creative expression.  \nCampers will learn expressive acting\, visual storytelling\, and classic silent film techniques\, with a special emphasis on green screen technology and cinematic effects. They bring these threads together by creating a high-energy silent movie scene\, experimenting with illusion\, movement\, and movie magic.  \nThe week culminates in a dazzling\, Hollywood-style\, red-carpet premiere\, where campers’ scenes will be showcased on the big screen with live Wurlitzer theatre organ accompaniment\, giving students and their families a true silent-film era experience. 
URL:https://onstageaz.com/event/summer-camp-2026-session-2/2026-07-14/
LOCATION:Fox Tucson Theatre\, 17 W Congress St\, Tucson\, AZ\, 85701\, United States
CATEGORIES:Family,film,Virtual / Streaming
ATTACH;FMTTYPE=image/png:https://onstageaz.com/wp-content/uploads/2026/04/Screenshot-2026-04-13-at-5.39.16-PM-1.png
ORGANIZER;CN="Fox Tucson Theatre":MAILTO:foxinfo@foxtucson.com
END:VEVENT
BEGIN:VEVENT
DTSTART;TZID=America/Phoenix:20260715T090000
DTEND;TZID=America/Phoenix:20260715T160000
DTSTAMP:20260424T145645
CREATED:20260414T004457Z
LAST-MODIFIED:20260414T004559Z
UID:10017906-1784106000-1784131200@onstageaz.com
SUMMARY:Summer Camp 2026: Session 2
DESCRIPTION:Step into the world of silent movies and discover how filmmakers worked story magic without words! This playful and imaginative silent film camp introduces younger students to the foundations of silent cinema with a focus on movie magic\, visual effects\, and creative expression.  \nCampers will learn expressive acting\, visual storytelling\, and classic silent film techniques\, with a special emphasis on green screen technology and cinematic effects. They bring these threads together by creating a high-energy silent movie scene\, experimenting with illusion\, movement\, and movie magic.  \nThe week culminates in a dazzling\, Hollywood-style\, red-carpet premiere\, where campers’ scenes will be showcased on the big screen with live Wurlitzer theatre organ accompaniment\, giving students and their families a true silent-film era experience. 
URL:https://onstageaz.com/event/summer-camp-2026-session-2/2026-07-15/
LOCATION:Fox Tucson Theatre\, 17 W Congress St\, Tucson\, AZ\, 85701\, United States
CATEGORIES:Family,film,Virtual / Streaming
ATTACH;FMTTYPE=image/png:https://onstageaz.com/wp-content/uploads/2026/04/Screenshot-2026-04-13-at-5.39.16-PM-1.png
ORGANIZER;CN="Fox Tucson Theatre":MAILTO:foxinfo@foxtucson.com
END:VEVENT
BEGIN:VEVENT
DTSTART;TZID=America/Phoenix:20260716T090000
DTEND;TZID=America/Phoenix:20260716T160000
DTSTAMP:20260424T145645
CREATED:20260414T004457Z
LAST-MODIFIED:20260414T004559Z
UID:10017907-1784192400-1784217600@onstageaz.com
SUMMARY:Summer Camp 2026: Session 2
DESCRIPTION:Step into the world of silent movies and discover how filmmakers worked story magic without words! This playful and imaginative silent film camp introduces younger students to the foundations of silent cinema with a focus on movie magic\, visual effects\, and creative expression.  \nCampers will learn expressive acting\, visual storytelling\, and classic silent film techniques\, with a special emphasis on green screen technology and cinematic effects. They bring these threads together by creating a high-energy silent movie scene\, experimenting with illusion\, movement\, and movie magic.  \nThe week culminates in a dazzling\, Hollywood-style\, red-carpet premiere\, where campers’ scenes will be showcased on the big screen with live Wurlitzer theatre organ accompaniment\, giving students and their families a true silent-film era experience. 
URL:https://onstageaz.com/event/summer-camp-2026-session-2/2026-07-16/
LOCATION:Fox Tucson Theatre\, 17 W Congress St\, Tucson\, AZ\, 85701\, United States
CATEGORIES:Family,film,Virtual / Streaming
ATTACH;FMTTYPE=image/png:https://onstageaz.com/wp-content/uploads/2026/04/Screenshot-2026-04-13-at-5.39.16-PM-1.png
ORGANIZER;CN="Fox Tucson Theatre":MAILTO:foxinfo@foxtucson.com
END:VEVENT
BEGIN:VEVENT
DTSTART;TZID=America/Phoenix:20260716T193000
DTEND;TZID=America/Phoenix:20260716T213000
DTSTAMP:20260424T145645
CREATED:20260414T004933Z
LAST-MODIFIED:20260414T004933Z
UID:10017909-1784230200-1784237400@onstageaz.com
SUMMARY:Happy Together Tour
DESCRIPTION:THE LINE-UP FEATURES RETURNING FAVORITES AND NEW ADDITIONS: THE ASSOCIATION\, THE TROGGS\, CHICAGO lead singer 1985-2016 JASON SCHEFF\, GARY PUCKETT\, THE FORTUNES\, RON DANTE from The Archies and The Turtles\, THE VOGUES and THE COWSILLS. 2026 will mark the 17th year of the highly successful\, hit-filled summer package\, THE “HAPPY TOGETHER” TOUR. The touring sensation that has crisscrossed the nation delighting audiences for over a decade and a half returns this summer with a show full of chart-topping hits from the ‘60s and ‘70s – an undeniable 60+ BILLBOARD Top 40 smashes. The Tour is once again joined by THE ASSOCIATION\, THE TROGGS\, CHICAGO lead singer 1985-2016 JASON SCHEFF\, GARY PUCKETT\, THE FORTUNES\, RON DANTE from The Archies and The Turtles\, THE VOGUES and THE COWSILLS. \n\n 
URL:https://onstageaz.com/event/happy-together-tour/
LOCATION:Fox Tucson Theatre\, 17 W Congress St\, Tucson\, AZ\, 85701\, United States
CATEGORIES:Music,Stage
ATTACH;FMTTYPE=image/png:https://onstageaz.com/wp-content/uploads/2026/04/Screenshot-2026-04-13-at-5.47.49-PM.png
ORGANIZER;CN="Fox Tucson Theatre":MAILTO:foxinfo@foxtucson.com
END:VEVENT
BEGIN:VEVENT
DTSTART;TZID=America/Phoenix:20260717T090000
DTEND;TZID=America/Phoenix:20260717T160000
DTSTAMP:20260424T145645
CREATED:20260414T004457Z
LAST-MODIFIED:20260414T004559Z
UID:10017908-1784278800-1784304000@onstageaz.com
SUMMARY:Summer Camp 2026: Session 2
DESCRIPTION:Step into the world of silent movies and discover how filmmakers worked story magic without words! This playful and imaginative silent film camp introduces younger students to the foundations of silent cinema with a focus on movie magic\, visual effects\, and creative expression.  \nCampers will learn expressive acting\, visual storytelling\, and classic silent film techniques\, with a special emphasis on green screen technology and cinematic effects. They bring these threads together by creating a high-energy silent movie scene\, experimenting with illusion\, movement\, and movie magic.  \nThe week culminates in a dazzling\, Hollywood-style\, red-carpet premiere\, where campers’ scenes will be showcased on the big screen with live Wurlitzer theatre organ accompaniment\, giving students and their families a true silent-film era experience. 
URL:https://onstageaz.com/event/summer-camp-2026-session-2/2026-07-17/
LOCATION:Fox Tucson Theatre\, 17 W Congress St\, Tucson\, AZ\, 85701\, United States
CATEGORIES:Family,film,Virtual / Streaming
ATTACH;FMTTYPE=image/png:https://onstageaz.com/wp-content/uploads/2026/04/Screenshot-2026-04-13-at-5.39.16-PM-1.png
ORGANIZER;CN="Fox Tucson Theatre":MAILTO:foxinfo@foxtucson.com
END:VEVENT
BEGIN:VEVENT
DTSTART;TZID=America/Phoenix:20260717T190000
DTEND;TZID=America/Phoenix:20260717T210000
DTSTAMP:20260424T145645
CREATED:20260320T232312Z
LAST-MODIFIED:20260320T232312Z
UID:10016774-1784314800-1784322000@onstageaz.com
SUMMARY:Home\, I’m Darling by Laura Wade
DESCRIPTION:What happens when retro dreams collide with modern realities? Home\, I’m Darling takes you inside the life of Judy\, a woman who’s reinvented herself as the perfect 1950s housewife—complete with cocktail dresses\, impeccable manners\, and a picture-perfect home. But when the pressure of maintaining her vintage fantasy begins to crack\, Judy must confront the cost of living in an idealized past. Funny\, sharp\, and unexpectedly poignant\, this play explores identity\, marriage\, and the struggle to balance fantasy with reality. A captivating\, thought-provoking ride through a world where appearances can be deceiving and the search for happiness takes surprising turns. \nFridays at 7:00pm – May 1\, 8\, 15\, & 22\, 2026\nSaturdays at 7:00pm – May 2 & 9\, 2026 || Saturdays at 2:00pm – May 16 & 23\, 2026\nSundays at 2:00pm – May 3\, 10\, 17\, & 24\, 2026
URL:https://onstageaz.com/event/home-im-darling-by-laura-wade/2026-07-17/
LOCATION:Live Theatre Workshop\, 3322 E Fort Lowell Rd\, Tucson\, AZ\, 85716\, United States
CATEGORIES:Stage,Theatrical
ATTACH;FMTTYPE=image/png:https://onstageaz.com/wp-content/uploads/2026/02/Home-Im-Darling-1920x1080-1.png
ORGANIZER;CN="Live Theatre Workshop":MAILTO:livetheatreworkshop@gmail.com
END:VEVENT
END:VCALENDAR