BEGIN:VCALENDAR
VERSION:2.0
PRODID:-//ON Stage Arizona - ECPv6.15.18//NONSGML v1.0//EN
CALSCALE:GREGORIAN
METHOD:PUBLISH
X-WR-CALNAME:ON Stage Arizona
X-ORIGINAL-URL:https://onstageaz.com
X-WR-CALDESC:Events for ON Stage Arizona
REFRESH-INTERVAL;VALUE=DURATION:PT1H
X-Robots-Tag:noindex
X-PUBLISHED-TTL:PT1H
BEGIN:VTIMEZONE
TZID:America/Phoenix
BEGIN:STANDARD
TZOFFSETFROM:-0700
TZOFFSETTO:-0700
TZNAME:MST
DTSTART:20250101T000000
END:STANDARD
END:VTIMEZONE
BEGIN:VEVENT
DTSTART;TZID=America/Phoenix:20260621T130000
DTEND;TZID=America/Phoenix:20260621T153000
DTSTAMP:20260424T131538
CREATED:20250527T204309Z
LAST-MODIFIED:20260325T191839Z
UID:10013199-1782046800-1782055800@onstageaz.com
SUMMARY:Disney’s Beauty & The Beast
DESCRIPTION:Disney’s Beauty & The Beast at Centennial Hall in Tucson\, Arizona\nBroadway in Tucson presents Disney’s Beauty & The Beast at Centennial Hall. This enchanting\, timeless tale is reimagined with spectacular new sets and dazzling costumes. \nAudiences of all ages are swept away by Belle’s journey from a quiet village to the magical castle of the Beast. Along the way\, she befriends whimsical characters like Lumière\, Cogsworth\, and Mrs. Potts. \nThe show features an Oscar®-winning and Tony Award®-nominated score by Alan Menken and Howard Ashman. Sing along to beloved songs such as “Be Our Guest\,” “Gaston\,” and the soaring title tune “Beauty and the Beast.” Each number bursts with memorable melodies and enchanting harmonies. \nTickets sell quickly for this must-see musical. Reserve your seats now. \nDon’t miss Disney’s Beauty & The Beast—a breathtaking celebration of magic\, music\, and the power of true love—only at Centennial Hall in Tucson!
URL:https://onstageaz.com/event/disneys-beauty-the-beast/2026-06-21/1/
LOCATION:Centennial Hall\, 1020 E. University Blvd\, Tucson\, AZ\, 85719\, United States
CATEGORIES:Music,Stage,Theatrical
ATTACH;FMTTYPE=image/jpeg:https://onstageaz.com/wp-content/uploads/2025/05/eFS8qE1A.jpg
ORGANIZER;CN="Broadway In Tucson":MAILTO:info@broadwayintucson.com
END:VEVENT
BEGIN:VEVENT
DTSTART;TZID=America/Phoenix:20260621T183000
DTEND;TZID=America/Phoenix:20260621T210000
DTSTAMP:20260424T131538
CREATED:20250527T204309Z
LAST-MODIFIED:20260325T191839Z
UID:10013200-1782066600-1782075600@onstageaz.com
SUMMARY:Disney’s Beauty & The Beast
DESCRIPTION:Disney’s Beauty & The Beast at Centennial Hall in Tucson\, Arizona\nBroadway in Tucson presents Disney’s Beauty & The Beast at Centennial Hall. This enchanting\, timeless tale is reimagined with spectacular new sets and dazzling costumes. \nAudiences of all ages are swept away by Belle’s journey from a quiet village to the magical castle of the Beast. Along the way\, she befriends whimsical characters like Lumière\, Cogsworth\, and Mrs. Potts. \nThe show features an Oscar®-winning and Tony Award®-nominated score by Alan Menken and Howard Ashman. Sing along to beloved songs such as “Be Our Guest\,” “Gaston\,” and the soaring title tune “Beauty and the Beast.” Each number bursts with memorable melodies and enchanting harmonies. \nTickets sell quickly for this must-see musical. Reserve your seats now. \nDon’t miss Disney’s Beauty & The Beast—a breathtaking celebration of magic\, music\, and the power of true love—only at Centennial Hall in Tucson!
URL:https://onstageaz.com/event/disneys-beauty-the-beast/2026-06-21/2/
LOCATION:Centennial Hall\, 1020 E. University Blvd\, Tucson\, AZ\, 85719\, United States
CATEGORIES:Music,Stage,Theatrical
ATTACH;FMTTYPE=image/jpeg:https://onstageaz.com/wp-content/uploads/2025/05/eFS8qE1A.jpg
ORGANIZER;CN="Broadway In Tucson":MAILTO:info@broadwayintucson.com
END:VEVENT
BEGIN:VEVENT
DTSTART;TZID=America/Phoenix:20260621T200000
DTEND;TZID=America/Phoenix:20260621T220000
DTSTAMP:20260424T131538
CREATED:20260406T191355Z
LAST-MODIFIED:20260406T191355Z
UID:10017245-1782072000-1782079200@onstageaz.com
SUMMARY:Chiquis
DESCRIPTION:“Alma De Luz: A Ceremony of Sound & Soul” is an immersive concert experience by Latin Grammy-winning artist Chiquis \nThree-time Latin GRAMMY® Award–winning singer\, entrepreneur\, and bestselling author Chiquis returns to the stage with a one-of-a-kind performance that transcends the traditional concert experience. This immersive evening is a full sensory journey\, blending music and storytelling. Joined by her new Honey Soul Band\, Chiquis performs songs from her latest album\, along with beloved hits and select covers — reimagined in her bold new soul and pop-folkloric sound. \nThe evening unfolds as a deeply personal concert\, where powerful storytelling weaves through each song. This segment also incorporates a wellness component\, inviting Chiquis and the audience to connect and vibrate on the same frequency as part of the Sound & Soul experience. \nIn the second part of the evening\, Chiquis hosts her acclaimed podcast live on stage\, offering an intimate and unfiltered look into her life\, her evolution\, and her journey. It concludes with an interactive Q&A\, creating a meaningful\, shared moment between the artist and her audience.
URL:https://onstageaz.com/event/chiquis/
LOCATION:Fox Tucson Theatre\, 17 W Congress St\, Tucson\, AZ\, 85701\, United States
CATEGORIES:Music,speakers,Stage
ATTACH;FMTTYPE=image/png:https://onstageaz.com/wp-content/uploads/2026/03/Screenshot-2026-03-27-at-11.45.22-AM.png
ORGANIZER;CN="Fox Tucson Theatre":MAILTO:foxinfo@foxtucson.com
END:VEVENT
BEGIN:VEVENT
DTSTART;TZID=America/Phoenix:20260625T193000
DTEND;TZID=America/Phoenix:20260625T213000
DTSTAMP:20260424T131538
CREATED:20260406T191757Z
LAST-MODIFIED:20260406T191757Z
UID:10017246-1782415800-1782423000@onstageaz.com
SUMMARY:Matteo Bocelli - Falling In Love World Tour
DESCRIPTION:When your father is the legendary tenor Andrea Bocelli – the voice that has wowed the world for over three decades – stepping into the spotlight isn’t just a career move for his son Matteo – it’s a birthright\, a burden\, and a generational breakthrough which has taken him from heir to innovator. \nWith his eagerly-anticipated second album\, Falling in Love\, Matteo steps confidently into the spotlight as the next generation artist\, with the heart of a poet and the reach of a global pop star. \nThis isn’t just a son riding coattails – it’s a star carving his own path while evolving his rich heritage. Like Enrique Iglesias brought his father Julio’s Latin passion to global pop in the early 2000’s\, Matteo is poised to launch his own unique niche of sensual and emotive music that transcends time and trends. \nBut it hasn’t always been easy. With the Bocelli name carrying an almost mythic weight\, it has meant living under a microscope. ‘My biggest critic has always been me\,’ 27-year-old Matteo admits. \nThe pressure to live up to his father’s extraordinary reputation has shaped his journey\, fueling his determination to prove his own extraordinary artistry. ‘Being a Bocelli is both a privilege and a responsibility\,’ he says. ‘I’ve never wanted to run from my father’s incredible legacy but I do want people to hear my voice\, my emotions and my version of love.’ \nVIP packages are available for this event: \n\nMatteo Bocelli Meet & Greet Package ($243.00): \n– One (1) premium reserved ticket\n– Exclusive meet & greet with Matteo Bocelli\n– Personal photograph with Matteo Bocelli\n– Autographed Matteo Bocelli VIP exclusive item\n– Official VIP wristband\n– Priority merchandise shopping\n– Limited availability
URL:https://onstageaz.com/event/matteo-bocelli-falling-in-love-world-tour-2/
LOCATION:Fox Tucson Theatre\, 17 W Congress St\, Tucson\, AZ\, 85701\, United States
CATEGORIES:Music,Stage
ATTACH;FMTTYPE=image/png:https://onstageaz.com/wp-content/uploads/2026/04/Screenshot-2026-04-06-at-12.15.41-PM.png
ORGANIZER;CN="Fox Tucson Theatre":MAILTO:foxinfo@foxtucson.com
END:VEVENT
BEGIN:VEVENT
DTSTART;TZID=America/Phoenix:20260626T190000
DTEND;TZID=America/Phoenix:20260626T210000
DTSTAMP:20260424T131538
CREATED:20260320T232312Z
LAST-MODIFIED:20260320T232312Z
UID:10016771-1782500400-1782507600@onstageaz.com
SUMMARY:Home\, I’m Darling by Laura Wade
DESCRIPTION:What happens when retro dreams collide with modern realities? Home\, I’m Darling takes you inside the life of Judy\, a woman who’s reinvented herself as the perfect 1950s housewife—complete with cocktail dresses\, impeccable manners\, and a picture-perfect home. But when the pressure of maintaining her vintage fantasy begins to crack\, Judy must confront the cost of living in an idealized past. Funny\, sharp\, and unexpectedly poignant\, this play explores identity\, marriage\, and the struggle to balance fantasy with reality. A captivating\, thought-provoking ride through a world where appearances can be deceiving and the search for happiness takes surprising turns. \nFridays at 7:00pm – May 1\, 8\, 15\, & 22\, 2026\nSaturdays at 7:00pm – May 2 & 9\, 2026 || Saturdays at 2:00pm – May 16 & 23\, 2026\nSundays at 2:00pm – May 3\, 10\, 17\, & 24\, 2026
URL:https://onstageaz.com/event/home-im-darling-by-laura-wade/2026-06-26/
LOCATION:Live Theatre Workshop\, 3322 E Fort Lowell Rd\, Tucson\, AZ\, 85716\, United States
CATEGORIES:Stage,Theatrical
ATTACH;FMTTYPE=image/png:https://onstageaz.com/wp-content/uploads/2026/02/Home-Im-Darling-1920x1080-1.png
ORGANIZER;CN="Live Theatre Workshop":MAILTO:livetheatreworkshop@gmail.com
END:VEVENT
END:VCALENDAR