BEGIN:VCALENDAR
VERSION:2.0
PRODID:-//ON Stage Arizona - ECPv6.15.18//NONSGML v1.0//EN
CALSCALE:GREGORIAN
METHOD:PUBLISH
X-WR-CALNAME:ON Stage Arizona
X-ORIGINAL-URL:https://onstageaz.com
X-WR-CALDESC:Events for ON Stage Arizona
REFRESH-INTERVAL;VALUE=DURATION:PT1H
X-Robots-Tag:noindex
X-PUBLISHED-TTL:PT1H
BEGIN:VTIMEZONE
TZID:America/Phoenix
BEGIN:STANDARD
TZOFFSETFROM:-0700
TZOFFSETTO:-0700
TZNAME:MST
DTSTART:20250101T000000
END:STANDARD
END:VTIMEZONE
BEGIN:VEVENT
DTSTART;TZID=America/Phoenix:20260524T140000
DTEND;TZID=America/Phoenix:20260524T160000
DTSTAMP:20260424T132513
CREATED:20251020T001644Z
LAST-MODIFIED:20251020T001644Z
UID:10016248-1779631200-1779638400@onstageaz.com
SUMMARY:Staged Reading of "Shining City"
DESCRIPTION:From the author of The Weir and The Seafarer\, this gripping ghost story set in modern-day Dublin sees a recent widower and a former priest come together in a series of confessional encounters to face down the phantoms that haunt them both.
URL:https://onstageaz.com/event/staged-reading-of-shining-city/2026-05-24/
LOCATION:The Rogue Theatre\, 300 E University Blvd Suite #150\, Tucson\, AZ\, 85705\, United States
CATEGORIES:Stage,Theatrical
ATTACH;FMTTYPE=image/jpeg:https://onstageaz.com/wp-content/uploads/2025/10/Rd35IiPM.jpg
ORGANIZER;CN="The Rogue Theatre":MAILTO:ticket@TheRogueTheatre.org
END:VEVENT
BEGIN:VEVENT
DTSTART;TZID=America/Phoenix:20260524T140000
DTEND;TZID=America/Phoenix:20260524T160000
DTSTAMP:20260424T132513
CREATED:20260320T232312Z
LAST-MODIFIED:20260320T232312Z
UID:10016766-1779631200-1779638400@onstageaz.com
SUMMARY:Home\, I’m Darling by Laura Wade
DESCRIPTION:What happens when retro dreams collide with modern realities? Home\, I’m Darling takes you inside the life of Judy\, a woman who’s reinvented herself as the perfect 1950s housewife—complete with cocktail dresses\, impeccable manners\, and a picture-perfect home. But when the pressure of maintaining her vintage fantasy begins to crack\, Judy must confront the cost of living in an idealized past. Funny\, sharp\, and unexpectedly poignant\, this play explores identity\, marriage\, and the struggle to balance fantasy with reality. A captivating\, thought-provoking ride through a world where appearances can be deceiving and the search for happiness takes surprising turns. \nFridays at 7:00pm – May 1\, 8\, 15\, & 22\, 2026\nSaturdays at 7:00pm – May 2 & 9\, 2026 || Saturdays at 2:00pm – May 16 & 23\, 2026\nSundays at 2:00pm – May 3\, 10\, 17\, & 24\, 2026
URL:https://onstageaz.com/event/home-im-darling-by-laura-wade/2026-05-24/
LOCATION:Live Theatre Workshop\, 3322 E Fort Lowell Rd\, Tucson\, AZ\, 85716\, United States
CATEGORIES:Stage,Theatrical
ATTACH;FMTTYPE=image/png:https://onstageaz.com/wp-content/uploads/2026/02/Home-Im-Darling-1920x1080-1.png
ORGANIZER;CN="Live Theatre Workshop":MAILTO:livetheatreworkshop@gmail.com
END:VEVENT
BEGIN:VEVENT
DTSTART;TZID=America/Phoenix:20260527T103000
DTEND;TZID=America/Phoenix:20260527T123000
DTSTAMP:20260424T132513
CREATED:20260331T210012Z
LAST-MODIFIED:20260331T210012Z
UID:10017038-1779877800-1779885000@onstageaz.com
SUMMARY:Storytime at the Fox!
DESCRIPTION:Come and experience a storytime like only a theatre can do it!  \nTake a wonderful children’s book\, put its pages up on the Fox’s movie screen\, throw in a dash of the theatrical and a bit of popcorn\, and voila– you get a storytime fit for a historic theatre! \nIn addition to being a relaxed way to introduce children to theatre spaces\, we’re working to make a splash around early childhood literacy!  Educators from Make Way for Books will be at the event to lead activities and provide resources to support your children’s learning journeys. \nThis event is free to attend\, but please register above! \n  \n¡Ven y vive una hora de cuentos como solo un teatro puede ofrecerla! \nTomamos un maravilloso libro infantil\, proyectamos sus páginas en la pantalla del cine del Fox (en inglés y español)\, le añadimos un toque teatral y un poco de palomitas\, ¡y voilà! Obtienes una hora de cuentos digna de un teatro histórico. \nAdemás de ser una manera relajada de introducir a los niños a los espacios teatrales\, ¡también buscamos causar un gran impacto en la alfabetización temprana!\nEducadores de Make Way for Books estarán presentes para dirigir actividades en inglés y español\, así como para ofrecer recursos que apoyen el aprendizaje de tus hijos. \nEste evento es gratuito\, pero por favor regístrate arriba.
URL:https://onstageaz.com/event/storytime-at-the-fox/
LOCATION:Fox Tucson Theatre\, 17 W Congress St\, Tucson\, AZ\, 85701\, United States
CATEGORIES:Exhibits,film,speakers,Stage
ATTACH;FMTTYPE=image/png:https://onstageaz.com/wp-content/uploads/2026/03/Screenshot-2026-03-31-at-1.58.57-PM.png
ORGANIZER;CN="Fox Tucson Theatre":MAILTO:foxinfo@foxtucson.com
END:VEVENT
BEGIN:VEVENT
DTSTART;TZID=America/Phoenix:20260527T190000
DTEND;TZID=America/Phoenix:20260527T210000
DTSTAMP:20260424T132513
CREATED:20260331T211308Z
LAST-MODIFIED:20260331T211308Z
UID:10017039-1779908400-1779915600@onstageaz.com
SUMMARY:Cinema Tucsón · May 2026
DESCRIPTION:Title TBA \nCinema Tropical and the Center for Latin American Studies at the University of Arizona present Cinema Tucsón\, a cultural initiative launched in 2021\, featuring monthly screenings of Mexican films at the historic Fox Tucson Theatre. \nProgrammed by Carlos A. Gutiérrez and Vicky Westover. \nAs Mexican cinema continues to generate world-wide enthusiasm\, the creative team behind the Tucson Cine Mexico film festival—which\, during seventeen years\, created a vital platform for the exhibition of Mexican cinema in the U.S—is presenting monthly screenings of a mix of classic films\, B movies\, and new cinema with exceptional filmmakers and special guests for dialogue with the Tucson community.
URL:https://onstageaz.com/event/cinema-tucson-%c2%b7-may-2026/
LOCATION:Fox Tucson Theatre\, 17 W Congress St\, Tucson\, AZ\, 85701\, United States
CATEGORIES:Exhibits,film,Stage
ATTACH;FMTTYPE=image/png:https://onstageaz.com/wp-content/uploads/2026/02/Screenshot-2026-02-18-at-5.55.31-PM.png
ORGANIZER;CN="Fox Tucson Theatre":MAILTO:foxinfo@foxtucson.com
END:VEVENT
BEGIN:VEVENT
DTSTART;TZID=America/Phoenix:20260529T190000
DTEND;TZID=America/Phoenix:20260529T210000
DTSTAMP:20260424T132513
CREATED:20260320T232312Z
LAST-MODIFIED:20260320T232312Z
UID:10016767-1780081200-1780088400@onstageaz.com
SUMMARY:Home\, I’m Darling by Laura Wade
DESCRIPTION:What happens when retro dreams collide with modern realities? Home\, I’m Darling takes you inside the life of Judy\, a woman who’s reinvented herself as the perfect 1950s housewife—complete with cocktail dresses\, impeccable manners\, and a picture-perfect home. But when the pressure of maintaining her vintage fantasy begins to crack\, Judy must confront the cost of living in an idealized past. Funny\, sharp\, and unexpectedly poignant\, this play explores identity\, marriage\, and the struggle to balance fantasy with reality. A captivating\, thought-provoking ride through a world where appearances can be deceiving and the search for happiness takes surprising turns. \nFridays at 7:00pm – May 1\, 8\, 15\, & 22\, 2026\nSaturdays at 7:00pm – May 2 & 9\, 2026 || Saturdays at 2:00pm – May 16 & 23\, 2026\nSundays at 2:00pm – May 3\, 10\, 17\, & 24\, 2026
URL:https://onstageaz.com/event/home-im-darling-by-laura-wade/2026-05-29/
LOCATION:Live Theatre Workshop\, 3322 E Fort Lowell Rd\, Tucson\, AZ\, 85716\, United States
CATEGORIES:Stage,Theatrical
ATTACH;FMTTYPE=image/png:https://onstageaz.com/wp-content/uploads/2026/02/Home-Im-Darling-1920x1080-1.png
ORGANIZER;CN="Live Theatre Workshop":MAILTO:livetheatreworkshop@gmail.com
END:VEVENT
BEGIN:VEVENT
DTSTART;TZID=America/Phoenix:20260529T190000
DTEND;TZID=America/Phoenix:20260529T210000
DTSTAMP:20260424T132513
CREATED:20260418T201029Z
LAST-MODIFIED:20260418T201029Z
UID:10017917-1780081200-1780088400@onstageaz.com
SUMMARY:7th Annual Young Playwrights of Tucson
DESCRIPTION:A short play festival featuring the winners of Live Theatre Workshop’s acclaimed Young Playwrights of Tucson Competition. Tucson is a hub for some of the most talented emerging playwrights in the country\, and these performances are a chance to catch their rising talents before they hit the big time. These student produced plays are full of outstanding wit\, humor\, and elevate the voices and stories of the next generation of playwrights and artists in our community and beyond. Under the mentorship of Live A short play festival featuring the winners of Live Theatre Workshop’s acclaimed Young Playwrights of Tucson Competition. Tucson is a hub for some of the most talented emerging playwrights in the country\, and these performances are a chance to catch their rising talents before they hit the big time. These student produced plays are full of outstanding wit\, humor\, and elevate the voices and stories of the next generation of playwrights and artists in our community and beyond. Under the mentorship of Live Theatre Workshop’s professional team\, year after year\, these new plays inspire\, delight\, and bring hope to sold-out audiences.Theatre Workshop’s professional team\, year after year\, these new plays inspire\, delight\, and bring hope to sold-out audiences.
URL:https://onstageaz.com/event/7th-annual-young-playwrights-of-tucson/2026-05-29/
LOCATION:Live Theatre Workshop\, 3322 E Fort Lowell Rd\, Tucson\, AZ\, 85716\, United States
CATEGORIES:Family,Theatrical
ATTACH;FMTTYPE=image/png:https://onstageaz.com/wp-content/uploads/2026/04/ltw-1080x1080-1.png
ORGANIZER;CN="Live Theatre Workshop":MAILTO:livetheatreworkshop@gmail.com
END:VEVENT
BEGIN:VEVENT
DTSTART;TZID=America/Phoenix:20260530T140000
DTEND;TZID=America/Phoenix:20260530T160000
DTSTAMP:20260424T132513
CREATED:20260418T201029Z
LAST-MODIFIED:20260418T201029Z
UID:10017918-1780149600-1780156800@onstageaz.com
SUMMARY:7th Annual Young Playwrights of Tucson
DESCRIPTION:A short play festival featuring the winners of Live Theatre Workshop’s acclaimed Young Playwrights of Tucson Competition. Tucson is a hub for some of the most talented emerging playwrights in the country\, and these performances are a chance to catch their rising talents before they hit the big time. These student produced plays are full of outstanding wit\, humor\, and elevate the voices and stories of the next generation of playwrights and artists in our community and beyond. Under the mentorship of Live A short play festival featuring the winners of Live Theatre Workshop’s acclaimed Young Playwrights of Tucson Competition. Tucson is a hub for some of the most talented emerging playwrights in the country\, and these performances are a chance to catch their rising talents before they hit the big time. These student produced plays are full of outstanding wit\, humor\, and elevate the voices and stories of the next generation of playwrights and artists in our community and beyond. Under the mentorship of Live Theatre Workshop’s professional team\, year after year\, these new plays inspire\, delight\, and bring hope to sold-out audiences.Theatre Workshop’s professional team\, year after year\, these new plays inspire\, delight\, and bring hope to sold-out audiences.
URL:https://onstageaz.com/event/7th-annual-young-playwrights-of-tucson/2026-05-30/
LOCATION:Live Theatre Workshop\, 3322 E Fort Lowell Rd\, Tucson\, AZ\, 85716\, United States
CATEGORIES:Family,Theatrical
ATTACH;FMTTYPE=image/png:https://onstageaz.com/wp-content/uploads/2026/04/ltw-1080x1080-1.png
ORGANIZER;CN="Live Theatre Workshop":MAILTO:livetheatreworkshop@gmail.com
END:VEVENT
END:VCALENDAR