BEGIN:VCALENDAR
VERSION:2.0
PRODID:-//ON Stage Arizona - ECPv6.15.18//NONSGML v1.0//EN
CALSCALE:GREGORIAN
METHOD:PUBLISH
X-WR-CALNAME:ON Stage Arizona
X-ORIGINAL-URL:https://onstageaz.com
X-WR-CALDESC:Events for ON Stage Arizona
REFRESH-INTERVAL;VALUE=DURATION:PT1H
X-Robots-Tag:noindex
X-PUBLISHED-TTL:PT1H
BEGIN:VTIMEZONE
TZID:America/Phoenix
BEGIN:STANDARD
TZOFFSETFROM:-0700
TZOFFSETTO:-0700
TZNAME:MST
DTSTART:20250101T000000
END:STANDARD
END:VTIMEZONE
BEGIN:VEVENT
DTSTART;TZID=America/Phoenix:20260517T140000
DTEND;TZID=America/Phoenix:20260517T160000
DTSTAMP:20260424T115246
CREATED:20250622T234204Z
LAST-MODIFIED:20250622T234204Z
UID:10013382-1779026400-1779033600@onstageaz.com
SUMMARY:Star Wars: A New Hope In Concert
DESCRIPTION:Luke Skywalker begins a journey that will change the galaxy. Nineteen years after the formation of the Empire\, Luke is thrust into the struggle of the Rebel Alliance when he meets Obi-Wan Kenobi\, who has lived for years in seclusion on the desert planet of Tatooine. Obi-Wan begins Luke’s Jedi training as Luke joins him on a daring mission to rescue Rebel leader Princess Leia from the clutches of Darth Vader and the evil Empire. Don’t miss this iconic film with John Williams’ score performed live on stage by your TSO!
URL:https://onstageaz.com/event/star-wars-a-new-hope-in-concert/2026-05-17/
LOCATION:AZ
CATEGORIES:Music,Stage
ATTACH;FMTTYPE=image/jpeg:https://onstageaz.com/wp-content/uploads/2025/05/St3CZRpg.jpg
END:VEVENT
BEGIN:VEVENT
DTSTART;TZID=America/Phoenix:20260517T140000
DTEND;TZID=America/Phoenix:20260517T160000
DTSTAMP:20260424T115246
CREATED:20251020T035431Z
LAST-MODIFIED:20251020T035431Z
UID:10016263-1779026400-1779033600@onstageaz.com
SUMMARY:The Tempest
DESCRIPTION:The classic tale of Prospero and his daughter Miranda and their effort to escape their enchanted island. The mature Shakespeare revisits magic with profound verse and invitations for striking theatrical effects.
URL:https://onstageaz.com/event/the-tempest/2026-05-17/
LOCATION:The Rogue Theatre\, 300 E University Blvd Suite #150\, Tucson\, AZ\, 85705\, United States
CATEGORIES:Stage,Theatrical
ATTACH;FMTTYPE=image/jpeg:https://onstageaz.com/wp-content/uploads/2025/10/5ya0xWH8.jpg
ORGANIZER;CN="The Rogue Theatre":MAILTO:ticket@TheRogueTheatre.org
END:VEVENT
BEGIN:VEVENT
DTSTART;TZID=America/Phoenix:20260517T140000
DTEND;TZID=America/Phoenix:20260517T160000
DTSTAMP:20260424T115246
CREATED:20260320T232312Z
LAST-MODIFIED:20260320T232312Z
UID:10016763-1779026400-1779033600@onstageaz.com
SUMMARY:Home\, I’m Darling by Laura Wade
DESCRIPTION:What happens when retro dreams collide with modern realities? Home\, I’m Darling takes you inside the life of Judy\, a woman who’s reinvented herself as the perfect 1950s housewife—complete with cocktail dresses\, impeccable manners\, and a picture-perfect home. But when the pressure of maintaining her vintage fantasy begins to crack\, Judy must confront the cost of living in an idealized past. Funny\, sharp\, and unexpectedly poignant\, this play explores identity\, marriage\, and the struggle to balance fantasy with reality. A captivating\, thought-provoking ride through a world where appearances can be deceiving and the search for happiness takes surprising turns. \nFridays at 7:00pm – May 1\, 8\, 15\, & 22\, 2026\nSaturdays at 7:00pm – May 2 & 9\, 2026 || Saturdays at 2:00pm – May 16 & 23\, 2026\nSundays at 2:00pm – May 3\, 10\, 17\, & 24\, 2026
URL:https://onstageaz.com/event/home-im-darling-by-laura-wade/2026-05-17/
LOCATION:Live Theatre Workshop\, 3322 E Fort Lowell Rd\, Tucson\, AZ\, 85716\, United States
CATEGORIES:Stage,Theatrical
ATTACH;FMTTYPE=image/png:https://onstageaz.com/wp-content/uploads/2026/02/Home-Im-Darling-1920x1080-1.png
ORGANIZER;CN="Live Theatre Workshop":MAILTO:livetheatreworkshop@gmail.com
END:VEVENT
BEGIN:VEVENT
DTSTART;TZID=America/Phoenix:20260522T190000
DTEND;TZID=America/Phoenix:20260522T210000
DTSTAMP:20260424T115246
CREATED:20260320T232312Z
LAST-MODIFIED:20260320T232312Z
UID:10016764-1779476400-1779483600@onstageaz.com
SUMMARY:Home\, I’m Darling by Laura Wade
DESCRIPTION:What happens when retro dreams collide with modern realities? Home\, I’m Darling takes you inside the life of Judy\, a woman who’s reinvented herself as the perfect 1950s housewife—complete with cocktail dresses\, impeccable manners\, and a picture-perfect home. But when the pressure of maintaining her vintage fantasy begins to crack\, Judy must confront the cost of living in an idealized past. Funny\, sharp\, and unexpectedly poignant\, this play explores identity\, marriage\, and the struggle to balance fantasy with reality. A captivating\, thought-provoking ride through a world where appearances can be deceiving and the search for happiness takes surprising turns. \nFridays at 7:00pm – May 1\, 8\, 15\, & 22\, 2026\nSaturdays at 7:00pm – May 2 & 9\, 2026 || Saturdays at 2:00pm – May 16 & 23\, 2026\nSundays at 2:00pm – May 3\, 10\, 17\, & 24\, 2026
URL:https://onstageaz.com/event/home-im-darling-by-laura-wade/2026-05-22/
LOCATION:Live Theatre Workshop\, 3322 E Fort Lowell Rd\, Tucson\, AZ\, 85716\, United States
CATEGORIES:Stage,Theatrical
ATTACH;FMTTYPE=image/png:https://onstageaz.com/wp-content/uploads/2026/02/Home-Im-Darling-1920x1080-1.png
ORGANIZER;CN="Live Theatre Workshop":MAILTO:livetheatreworkshop@gmail.com
END:VEVENT
BEGIN:VEVENT
DTSTART;TZID=America/Phoenix:20260523T100000
DTEND;TZID=America/Phoenix:20260523T170000
DTSTAMP:20260424T115246
CREATED:20251120T232346Z
LAST-MODIFIED:20251120T232346Z
UID:10016454-1779530400-1779555600@onstageaz.com
SUMMARY:Exhibit Opening: Arizona Biennial 2026
DESCRIPTION:Arizona Biennial 2026 is the Tucson Museum of Art and Historic Block’s longstanding survey of contemporary art in Arizona. This juried exhibition—first organized in 1948 as an annual exhibit that shifted to its current two-year format in 1980—showcases artwork from some of the most innovative and imaginative artists in the state. The 2026 iteration will open to the public on Saturday\, May 23\, 2026\, and will be accompanied by a series of public programs. For each biennial\, a new juror is chosen to select the works and create a cohesive exhibition that offers a snapshot of artistic creativity in Arizona. Stay tuned for more information including the announcement of the Arizona Biennial 2026 juror and key dates.
URL:https://onstageaz.com/event/exhibit-opening-arizona-biennial-2026/
LOCATION:Tucson Museum of Art\, 140 N. Main Ave\, Tucson\, 85701\, United States
CATEGORIES:Exdhibits,Stage
ATTACH;FMTTYPE=image/jpeg:https://onstageaz.com/wp-content/uploads/2025/11/c-j7ckIQ.jpg
END:VEVENT
BEGIN:VEVENT
DTSTART;TZID=America/Phoenix:20260523T140000
DTEND;TZID=America/Phoenix:20260523T160000
DTSTAMP:20260424T115246
CREATED:20251020T001644Z
LAST-MODIFIED:20251020T001644Z
UID:10016204-1779544800-1779552000@onstageaz.com
SUMMARY:Staged Reading of "Shining City"
DESCRIPTION:From the author of The Weir and The Seafarer\, this gripping ghost story set in modern-day Dublin sees a recent widower and a former priest come together in a series of confessional encounters to face down the phantoms that haunt them both.
URL:https://onstageaz.com/event/staged-reading-of-shining-city/2026-05-23/
LOCATION:The Rogue Theatre\, 300 E University Blvd Suite #150\, Tucson\, AZ\, 85705\, United States
CATEGORIES:Stage,Theatrical
ATTACH;FMTTYPE=image/jpeg:https://onstageaz.com/wp-content/uploads/2025/10/Rd35IiPM.jpg
ORGANIZER;CN="The Rogue Theatre":MAILTO:ticket@TheRogueTheatre.org
END:VEVENT
BEGIN:VEVENT
DTSTART;TZID=America/Phoenix:20260523T140000
DTEND;TZID=America/Phoenix:20260523T160000
DTSTAMP:20260424T115246
CREATED:20260320T232312Z
LAST-MODIFIED:20260320T232312Z
UID:10016765-1779544800-1779552000@onstageaz.com
SUMMARY:Home\, I’m Darling by Laura Wade
DESCRIPTION:What happens when retro dreams collide with modern realities? Home\, I’m Darling takes you inside the life of Judy\, a woman who’s reinvented herself as the perfect 1950s housewife—complete with cocktail dresses\, impeccable manners\, and a picture-perfect home. But when the pressure of maintaining her vintage fantasy begins to crack\, Judy must confront the cost of living in an idealized past. Funny\, sharp\, and unexpectedly poignant\, this play explores identity\, marriage\, and the struggle to balance fantasy with reality. A captivating\, thought-provoking ride through a world where appearances can be deceiving and the search for happiness takes surprising turns. \nFridays at 7:00pm – May 1\, 8\, 15\, & 22\, 2026\nSaturdays at 7:00pm – May 2 & 9\, 2026 || Saturdays at 2:00pm – May 16 & 23\, 2026\nSundays at 2:00pm – May 3\, 10\, 17\, & 24\, 2026
URL:https://onstageaz.com/event/home-im-darling-by-laura-wade/2026-05-23/
LOCATION:Live Theatre Workshop\, 3322 E Fort Lowell Rd\, Tucson\, AZ\, 85716\, United States
CATEGORIES:Stage,Theatrical
ATTACH;FMTTYPE=image/png:https://onstageaz.com/wp-content/uploads/2026/02/Home-Im-Darling-1920x1080-1.png
ORGANIZER;CN="Live Theatre Workshop":MAILTO:livetheatreworkshop@gmail.com
END:VEVENT
END:VCALENDAR