BEGIN:VCALENDAR
VERSION:2.0
PRODID:-//ON Stage Arizona - ECPv6.15.18//NONSGML v1.0//EN
CALSCALE:GREGORIAN
METHOD:PUBLISH
X-WR-CALNAME:ON Stage Arizona
X-ORIGINAL-URL:https://onstageaz.com
X-WR-CALDESC:Events for ON Stage Arizona
REFRESH-INTERVAL;VALUE=DURATION:PT1H
X-Robots-Tag:noindex
X-PUBLISHED-TTL:PT1H
BEGIN:VTIMEZONE
TZID:America/Phoenix
BEGIN:STANDARD
TZOFFSETFROM:-0700
TZOFFSETTO:-0700
TZNAME:MST
DTSTART:20250101T000000
END:STANDARD
END:VTIMEZONE
BEGIN:VEVENT
DTSTART;TZID=America/Phoenix:20260308T133000
DTEND;TZID=America/Phoenix:20260308T153000
DTSTAMP:20260424T114833
CREATED:20250710T031150Z
LAST-MODIFIED:20250710T031150Z
UID:10013901-1772976600-1772983800@onstageaz.com
SUMMARY:Almost\, Maine
DESCRIPTION:Welcome to Almost\, Maine\, a place that’s so far north\, it’s almost not in the United States. And it’s not quite a town\, because its residents never gotaround to getting organized\, so it almost doesn’t exist. One cold\, clear\, winter night\, the residents of Almost\, Maine\, find themselves falling in and out of love in unexpected and hilarious ways. Knees are bruised. Hearts are broken. But the bruises heal\, and the hearts mend—almost—in this delightful midwinter night’s dream.
URL:https://onstageaz.com/event/almost-maine/2026-03-08/
LOCATION:Tornabene Theatre\, 1025 N. Olive Rd.\, Tucson\, AZ\, 85721\, United States
CATEGORIES:Stage,Theatrical
ATTACH;FMTTYPE=image/jpeg:https://onstageaz.com/wp-content/uploads/2025/07/a0ZIBUkw.jpg
END:VEVENT
BEGIN:VEVENT
DTSTART;TZID=America/Phoenix:20260308T140000
DTEND;TZID=America/Phoenix:20260308T160000
DTSTAMP:20260424T114833
CREATED:20250623T001057Z
LAST-MODIFIED:20250623T001057Z
UID:10013378-1772978400-1772985600@onstageaz.com
SUMMARY:Debussy and Piazzolla
DESCRIPTION:TSO principal flute Alexander Lipay solos on Ibert’s flute concerto on a concert of impressionistic journeys from France to Latin America. Debussy’s charming Suite bergamasque is most well-known for its popular third movement\, “Clair de lune\,” while Jacques Ibert’s effervescent concerto is a supremely demanding showpiece of the flute concerto repertoire\, coaxing brilliant sounds and melodies from the soloist and orchestra. Argentinian conductor\, Fernanda Lastra\, takes us on a whirlwind Latin-American journey\, to Brazil (Clarice Assad)\, Argentina (Piazzolla)\, and the Mexican island of Janitzio (Revueltas). Hold on tight!
URL:https://onstageaz.com/event/debussy-and-piazzolla/2026-03-08/
LOCATION:Catalina Foothills High School\, AZ\, United States
CATEGORIES:Music,Stage
ATTACH;FMTTYPE=image/jpeg:https://onstageaz.com/wp-content/uploads/2025/05/Yuobnq4w.jpg
END:VEVENT
BEGIN:VEVENT
DTSTART;TZID=America/Phoenix:20260308T140000
DTEND;TZID=America/Phoenix:20260308T160000
DTSTAMP:20260424T114833
CREATED:20250917T233804Z
LAST-MODIFIED:20250917T233804Z
UID:10014827-1772978400-1772985600@onstageaz.com
SUMMARY:All Shook Up
DESCRIPTION:ELVIS IS IN THE BUILDING! The legendary songs of Elvis Presley ignite a rockin’ romp set in the Fabulous ’50s. When a guitar-playing stranger on a motorcycle roars into a sleepy town\, nothing will be the same. Boy meets girl and soon everybody can’t help falling in love. Mistaken identity\, mismatched lovers and the magic of romance come together in a free- wheeling rock and roll comedy with non-stop classics\, from “Heartbreak Hotel” and “Hound Dog\,” to “Love Me Tender” and “Don’t Be Cruel.”
URL:https://onstageaz.com/event/all-shook-up/2026-03-08/
LOCATION:Arts Express Theatre\, 5870 E. Broadway Blvd.\, Ste. 214\, Tucson\,\, AZ\, 85737\, United States
CATEGORIES:Stage,Theatrical
ATTACH;FMTTYPE=image/png:https://onstageaz.com/wp-content/uploads/2025/09/Screenshot-2025-09-17-at-4.35.56-PM.png
ORGANIZER;CN="Arts Express":MAILTO:info@arts-express.org
END:VEVENT
BEGIN:VEVENT
DTSTART;TZID=America/Phoenix:20260308T140000
DTEND;TZID=America/Phoenix:20260308T160000
DTSTAMP:20260424T114833
CREATED:20251020T001505Z
LAST-MODIFIED:20251020T001505Z
UID:10016242-1772978400-1772985600@onstageaz.com
SUMMARY:The River
DESCRIPTION:A piece of timeless and haunting chamber theatre\, The River captures a moment on a river\, a fisherman\, a woman\, another woman—but are they really there? Memories or ghosts?
URL:https://onstageaz.com/event/the-river/2026-03-08/
LOCATION:The Rogue Theatre\, 300 E University Blvd Suite #150\, Tucson\, AZ\, 85705\, United States
CATEGORIES:Stage,Theatrical
ATTACH;FMTTYPE=image/jpeg:https://onstageaz.com/wp-content/uploads/2025/10/Kws0dQvQ.jpg
ORGANIZER;CN="The Rogue Theatre":MAILTO:ticket@TheRogueTheatre.org
END:VEVENT
BEGIN:VEVENT
DTSTART;TZID=America/Phoenix:20260308T140000
DTEND;TZID=America/Phoenix:20260308T160000
DTSTAMP:20260424T114833
CREATED:20251123T230946Z
LAST-MODIFIED:20251123T231010Z
UID:10016502-1772978400-1772985600@onstageaz.com
SUMMARY:Pima Theater: Urinetown
DESCRIPTION:Set in a near-future dystopia suffering from severe drought\, “Urinetown” follows the story of Bobby Strong\, a courageous young man who challenges the oppressive UrineGood Company. This corporation controls all public toilets and enforces high fees\, creating a society where access to basic needs comes at a steep price. Through sharp satire and witty humor\, the musical explores themes of corporate greed\, social injustice\, and rebellion. Directed by Maryann Green\, this lively show delivers a wild\, comedic ride with memorable songs and a thought-provoking message.
URL:https://onstageaz.com/event/pima-theater-urinetown/2026-03-08/
LOCATION:Pima Community College Center for the Arts\, 2202 W Anklam Rd.\, Tucson\, AZ\, 85709\, United States
CATEGORIES:Stage,Theatrical
ATTACH;FMTTYPE=image/jpeg:https://onstageaz.com/wp-content/uploads/2025/11/zpokn8P8.jpg
ORGANIZER;CN="Pima Arts":MAILTO:centerforthearts@pima.edu
END:VEVENT
BEGIN:VEVENT
DTSTART;TZID=America/Phoenix:20260308T153000
DTEND;TZID=America/Phoenix:20260308T173000
DTSTAMP:20260424T114833
CREATED:20251020T043052Z
LAST-MODIFIED:20251020T043052Z
UID:10016182-1772983800-1772991000@onstageaz.com
SUMMARY:The Russians are Coming
DESCRIPTION:Polovtsian Dances ~ Alexander BorodinScheherazade ~ Nikolai Rimsky-Korsakov\nWaltz No. 2 ~ Dmitri Shostakovich\nMarch Slav ~ Pyotr Ilyich Tchaikovsky\nGalop from Masquarade ~ Aram Khachaturian
URL:https://onstageaz.com/event/the-russians-are-coming/
LOCATION:AZ
CATEGORIES:Music,Stage
ATTACH;FMTTYPE=image/png:https://onstageaz.com/wp-content/uploads/2025/10/cjGcO3r8.png
ORGANIZER;CN="Civic Orchestra Of Tucson":MAILTO:info@cotmusic.org
END:VEVENT
BEGIN:VEVENT
DTSTART;TZID=America/Phoenix:20260308T190000
DTEND;TZID=America/Phoenix:20260308T210000
DTSTAMP:20260424T114833
CREATED:20260218T212153Z
LAST-MODIFIED:20260218T212153Z
UID:10016720-1772996400-1773003600@onstageaz.com
SUMMARY:Banff Mountain Film Festival on Tour: Night Two
DESCRIPTION:Hold onto your seat—this year marks 50 years of adventure with the Banff Centre Mountain Film and Book Festival\, and the Banff World Tour is bringing the celebration to you! Get ready for adrenaline-fueled action\, breathtaking landscapes\, and stories that stir the soul. From first ascents and whitewater thrills to personal triumphs and impossible journeys\, this year’s lineup is a tribute to half a century of pushing boundaries and living boldly. Don’t miss the chance to be part of the legacy. This Banff World Tour stop in Tucson is proud to be part of the global celebration of 50 years of mountain stories—hosted by Fox Tucson Theatre.
URL:https://onstageaz.com/event/banff-mountain-film-festival-on-tour-night-two/
LOCATION:Fox Tucson Theatre\, 17 W Congress St\, Tucson\, AZ\, 85701\, United States
CATEGORIES:Exhibits,film,Literary
ATTACH;FMTTYPE=image/png:https://onstageaz.com/wp-content/uploads/2026/02/Screenshot-2026-02-18-at-2.16.56-PM.png
ORGANIZER;CN="Fox Tucson Theatre":MAILTO:foxinfo@foxtucson.com
END:VEVENT
BEGIN:VEVENT
DTSTART;TZID=America/Phoenix:20260311T183000
DTEND;TZID=America/Phoenix:20260311T203000
DTSTAMP:20260424T114833
CREATED:20260218T212533Z
LAST-MODIFIED:20260218T212604Z
UID:10016721-1773253800-1773261000@onstageaz.com
SUMMARY:Zen and the Art of Matcha: Guest Presenter
DESCRIPTION:Enter into the world of matcha within the tea culture and spiritual matrix of Japan. \nJoin us for a special screening and celebration of matcha\, community\, and the stories behind this ancient tradition. This premiere highlights the journey of matcha tea from farm to cup\, honoring culture and craftsmanship.
URL:https://onstageaz.com/event/zen-and-the-art-of-matcha-guest-presenter/
LOCATION:Fox Tucson Theatre\, 17 W Congress St\, Tucson\, AZ\, 85701\, United States
CATEGORIES:Exhibits,speakers,Stage
ATTACH;FMTTYPE=image/png:https://onstageaz.com/wp-content/uploads/2026/02/Screenshot-2026-02-18-at-2.23.15-PM.png
ORGANIZER;CN="Fox Tucson Theatre":MAILTO:foxinfo@foxtucson.com
END:VEVENT
BEGIN:VEVENT
DTSTART;TZID=America/Phoenix:20260312T193000
DTEND;TZID=America/Phoenix:20260312T213000
DTSTAMP:20260424T114833
CREATED:20260218T213010Z
LAST-MODIFIED:20260218T213010Z
UID:10016722-1773343800-1773351000@onstageaz.com
SUMMARY:On a Winter’s Night
DESCRIPTION:Presenting the Reunion Tour of “On A Winter’s Night” from veteran singer-songwriters that remain among the brightest stars of the singer-songwriter movement for the past three decades. In 1994 Christine Lavin gathered them together\, along with folk and Americana artists to showcase music of the Winter Season on the now-classic On A Winter’s Night CD\, followed by several years of touring collaborations. \nThese artists have released dozens of recordings and toured steadily through the decades\, with fond memories of their touring days together. The winter season is again celebrated by these unique and popular performers\, back together by popular demand.
URL:https://onstageaz.com/event/on-a-winters-night/
LOCATION:Fox Tucson Theatre\, 17 W Congress St\, Tucson\, AZ\, 85701\, United States
CATEGORIES:Music,Stage
ATTACH;FMTTYPE=image/png:https://onstageaz.com/wp-content/uploads/2026/02/Screenshot-2026-02-18-at-2.27.38-PM.png
ORGANIZER;CN="Fox Tucson Theatre":MAILTO:foxinfo@foxtucson.com
END:VEVENT
BEGIN:VEVENT
DTSTART;TZID=America/Phoenix:20260313T190000
DTEND;TZID=America/Phoenix:20260313T210000
DTSTAMP:20260424T114833
CREATED:20250917T233804Z
LAST-MODIFIED:20250917T233804Z
UID:10014828-1773428400-1773435600@onstageaz.com
SUMMARY:All Shook Up
DESCRIPTION:ELVIS IS IN THE BUILDING! The legendary songs of Elvis Presley ignite a rockin’ romp set in the Fabulous ’50s. When a guitar-playing stranger on a motorcycle roars into a sleepy town\, nothing will be the same. Boy meets girl and soon everybody can’t help falling in love. Mistaken identity\, mismatched lovers and the magic of romance come together in a free- wheeling rock and roll comedy with non-stop classics\, from “Heartbreak Hotel” and “Hound Dog\,” to “Love Me Tender” and “Don’t Be Cruel.”
URL:https://onstageaz.com/event/all-shook-up/2026-03-13/
LOCATION:Arts Express Theatre\, 5870 E. Broadway Blvd.\, Ste. 214\, Tucson\,\, AZ\, 85737\, United States
CATEGORIES:Stage,Theatrical
ATTACH;FMTTYPE=image/png:https://onstageaz.com/wp-content/uploads/2025/09/Screenshot-2025-09-17-at-4.35.56-PM.png
ORGANIZER;CN="Arts Express":MAILTO:info@arts-express.org
END:VEVENT
BEGIN:VEVENT
DTSTART;TZID=America/Phoenix:20260313T193000
DTEND;TZID=America/Phoenix:20260313T213000
DTSTAMP:20260424T114833
CREATED:20251020T001505Z
LAST-MODIFIED:20251020T001505Z
UID:10016243-1773430200-1773437400@onstageaz.com
SUMMARY:The River
DESCRIPTION:A piece of timeless and haunting chamber theatre\, The River captures a moment on a river\, a fisherman\, a woman\, another woman—but are they really there? Memories or ghosts?
URL:https://onstageaz.com/event/the-river/2026-03-13/
LOCATION:The Rogue Theatre\, 300 E University Blvd Suite #150\, Tucson\, AZ\, 85705\, United States
CATEGORIES:Stage,Theatrical
ATTACH;FMTTYPE=image/jpeg:https://onstageaz.com/wp-content/uploads/2025/10/Kws0dQvQ.jpg
ORGANIZER;CN="The Rogue Theatre":MAILTO:ticket@TheRogueTheatre.org
END:VEVENT
BEGIN:VEVENT
DTSTART;TZID=America/Phoenix:20260313T193000
DTEND;TZID=America/Phoenix:20260313T213000
DTSTAMP:20260424T114833
CREATED:20260219T004127Z
LAST-MODIFIED:20260219T004127Z
UID:10016724-1773430200-1773437400@onstageaz.com
SUMMARY:Danú
DESCRIPTION:Hailing from historic County Waterford\, Danú is one of the leading traditional Irish ensembles of today. The group’s standing room only concerts throughout Ireland are true events featuring high-energy performances and a glorious mix of ancient Irish music and new repertoire. \nFor over two decades\, Danú’s virtuosi players on flute\, tin whistle\, fiddle\, button accordion\, bouzouki\, and vocals (Irish and English)\, have performed around the globe and recorded seven critically acclaimed albums. Their live DVD\, One Night Stand\, was filmed at Vicar St. Dublin. Winners of numerous awards from the BBC and Irish Music Magazine\, Danú has toured throughout Europe\, the Middle East\, and North America with stops at The Hollywood Bowl in Los Angeles\, Symphony Space in New York City\, and major concert engagements in the United Kingdom\, India\, Israel\, and across Europe. Danú takes its audiences on a musical journey to their native Ireland\, offering a moving and memorable concert experience. Danú’s popular recordings are available on the Shanachie label and live performances are often broadcast on NPR\, the CBC\, and the BBC.
URL:https://onstageaz.com/event/danu/
LOCATION:Fox Tucson Theatre\, 17 W Congress St\, Tucson\, AZ\, 85701\, United States
CATEGORIES:Music,Stage
ATTACH;FMTTYPE=image/png:https://onstageaz.com/wp-content/uploads/2026/02/Screenshot-2026-02-18-at-5.39.43-PM.png
ORGANIZER;CN="Fox Tucson Theatre":MAILTO:foxinfo@foxtucson.com
END:VEVENT
BEGIN:VEVENT
DTSTART;TZID=America/Phoenix:20260314T140000
DTEND;TZID=America/Phoenix:20260314T160000
DTSTAMP:20260424T114833
CREATED:20250917T233804Z
LAST-MODIFIED:20250917T233804Z
UID:10014829-1773496800-1773504000@onstageaz.com
SUMMARY:All Shook Up
DESCRIPTION:ELVIS IS IN THE BUILDING! The legendary songs of Elvis Presley ignite a rockin’ romp set in the Fabulous ’50s. When a guitar-playing stranger on a motorcycle roars into a sleepy town\, nothing will be the same. Boy meets girl and soon everybody can’t help falling in love. Mistaken identity\, mismatched lovers and the magic of romance come together in a free- wheeling rock and roll comedy with non-stop classics\, from “Heartbreak Hotel” and “Hound Dog\,” to “Love Me Tender” and “Don’t Be Cruel.”
URL:https://onstageaz.com/event/all-shook-up/2026-03-14/1/
LOCATION:Arts Express Theatre\, 5870 E. Broadway Blvd.\, Ste. 214\, Tucson\,\, AZ\, 85737\, United States
CATEGORIES:Stage,Theatrical
ATTACH;FMTTYPE=image/png:https://onstageaz.com/wp-content/uploads/2025/09/Screenshot-2025-09-17-at-4.35.56-PM.png
ORGANIZER;CN="Arts Express":MAILTO:info@arts-express.org
END:VEVENT
BEGIN:VEVENT
DTSTART;TZID=America/Phoenix:20260314T140000
DTEND;TZID=America/Phoenix:20260314T160000
DTSTAMP:20260424T114833
CREATED:20251020T001505Z
LAST-MODIFIED:20251020T001505Z
UID:10016244-1773496800-1773504000@onstageaz.com
SUMMARY:The River
DESCRIPTION:A piece of timeless and haunting chamber theatre\, The River captures a moment on a river\, a fisherman\, a woman\, another woman—but are they really there? Memories or ghosts?
URL:https://onstageaz.com/event/the-river/2026-03-14/1/
LOCATION:The Rogue Theatre\, 300 E University Blvd Suite #150\, Tucson\, AZ\, 85705\, United States
CATEGORIES:Stage,Theatrical
ATTACH;FMTTYPE=image/jpeg:https://onstageaz.com/wp-content/uploads/2025/10/Kws0dQvQ.jpg
ORGANIZER;CN="The Rogue Theatre":MAILTO:ticket@TheRogueTheatre.org
END:VEVENT
BEGIN:VEVENT
DTSTART;TZID=America/Phoenix:20260314T190000
DTEND;TZID=America/Phoenix:20260314T210000
DTSTAMP:20260424T114833
CREATED:20250917T233804Z
LAST-MODIFIED:20250917T233804Z
UID:10014830-1773514800-1773522000@onstageaz.com
SUMMARY:All Shook Up
DESCRIPTION:ELVIS IS IN THE BUILDING! The legendary songs of Elvis Presley ignite a rockin’ romp set in the Fabulous ’50s. When a guitar-playing stranger on a motorcycle roars into a sleepy town\, nothing will be the same. Boy meets girl and soon everybody can’t help falling in love. Mistaken identity\, mismatched lovers and the magic of romance come together in a free- wheeling rock and roll comedy with non-stop classics\, from “Heartbreak Hotel” and “Hound Dog\,” to “Love Me Tender” and “Don’t Be Cruel.”
URL:https://onstageaz.com/event/all-shook-up/2026-03-14/2/
LOCATION:Arts Express Theatre\, 5870 E. Broadway Blvd.\, Ste. 214\, Tucson\,\, AZ\, 85737\, United States
CATEGORIES:Stage,Theatrical
ATTACH;FMTTYPE=image/png:https://onstageaz.com/wp-content/uploads/2025/09/Screenshot-2025-09-17-at-4.35.56-PM.png
ORGANIZER;CN="Arts Express":MAILTO:info@arts-express.org
END:VEVENT
BEGIN:VEVENT
DTSTART;TZID=America/Phoenix:20260314T193000
DTEND;TZID=America/Phoenix:20260314T213000
DTSTAMP:20260424T114833
CREATED:20251020T001505Z
LAST-MODIFIED:20251020T001505Z
UID:10016245-1773516600-1773523800@onstageaz.com
SUMMARY:The River
DESCRIPTION:A piece of timeless and haunting chamber theatre\, The River captures a moment on a river\, a fisherman\, a woman\, another woman—but are they really there? Memories or ghosts?
URL:https://onstageaz.com/event/the-river/2026-03-14/2/
LOCATION:The Rogue Theatre\, 300 E University Blvd Suite #150\, Tucson\, AZ\, 85705\, United States
CATEGORIES:Stage,Theatrical
ATTACH;FMTTYPE=image/jpeg:https://onstageaz.com/wp-content/uploads/2025/10/Kws0dQvQ.jpg
ORGANIZER;CN="The Rogue Theatre":MAILTO:ticket@TheRogueTheatre.org
END:VEVENT
BEGIN:VEVENT
DTSTART;TZID=America/Phoenix:20260314T200000
DTEND;TZID=America/Phoenix:20260314T220000
DTSTAMP:20260424T114833
CREATED:20260219T004957Z
LAST-MODIFIED:20260219T004957Z
UID:10016725-1773518400-1773525600@onstageaz.com
SUMMARY:Henry Cho: The Empty Nest Tour
DESCRIPTION:NASHVILLE – On February 11\, comedian Henry Cho was inducted as the 229th member of The Grand Ole Opry. This prestigious honor has not been extended to a comedian since 1973. \nHenry’s TV credits include appearances on NBC’s The Tonight Show\, CBS’s The Late\, Late\, Show\, and NBC’s Young Comedians Special. He served two years as host of NBC’s Friday Night Videos and had many guest roles on various network sitcoms. Henry was co-creator\, co- producer and co-writer of “The Henry Cho Show” on GAC. \nHenry’s one hour Comedy Central Special\, “What’s That Clickin Noise?” Was also on Netflix. Henry can also be heard daily on Sirius\, XM\, Blue Collar Radio and Pandora.\nSome of Henry’s film credits include Universal’s McHale’s Navy with Tom Arnold and David Allen Greer; Say It Isn’t So with Heather Graham and Sally Field; and Material Girls with Hilary Duff and Angelica Houston produced by Madonna.\nHenry was the keynote entertainer for The 59th Annual Radio & Television Correspondents’ Dinner and has worked extensively with Vince Gill\, Amy Grant\, Willie Nelson\, Carrie Underwood\, Reba and many others. Henry’s clean comedy is so versatile that he can headline Vegas and then tour with Michael W. Smith.\nHenry filmed the Faith-based Indy film “Saving Faith” in which he co-starred and also co-producer was released by Lions Gate. Henry has been nominated for Best Supporting Actor in a Feature Film by the International Christian Film Festival. Henry recently completed filming a Hallmark movie “The Farmer and the Belle- Saving Santaland”. He’ll start shooting a TV pilot\, “Double Occupancy” early July and also the film\, “Cheyenne”. He’s working on his own project with Triple Horse Studios\, the guys behind “Case for Christ”.
URL:https://onstageaz.com/event/henry-cho-the-empty-nest-tour/
LOCATION:Fox Tucson Theatre\, 17 W Congress St\, Tucson\, AZ\, 85701\, United States
CATEGORIES:Comedy,Comedy / Stand Up,speakers,Stage
ATTACH;FMTTYPE=image/png:https://onstageaz.com/wp-content/uploads/2026/02/Screenshot-2026-02-18-at-5.47.44-PM.png
ORGANIZER;CN="Fox Tucson Theatre":MAILTO:foxinfo@foxtucson.com
END:VEVENT
END:VCALENDAR