BEGIN:VCALENDAR
VERSION:2.0
PRODID:-//ON Stage Arizona - ECPv6.15.18//NONSGML v1.0//EN
CALSCALE:GREGORIAN
METHOD:PUBLISH
X-WR-CALNAME:ON Stage Arizona
X-ORIGINAL-URL:https://onstageaz.com
X-WR-CALDESC:Events for ON Stage Arizona
REFRESH-INTERVAL;VALUE=DURATION:PT1H
X-Robots-Tag:noindex
X-PUBLISHED-TTL:PT1H
BEGIN:VTIMEZONE
TZID:America/Phoenix
BEGIN:STANDARD
TZOFFSETFROM:-0700
TZOFFSETTO:-0700
TZNAME:MST
DTSTART:20250101T000000
END:STANDARD
END:VTIMEZONE
BEGIN:VEVENT
DTSTART;TZID=America/Phoenix:20260118T140000
DTEND;TZID=America/Phoenix:20260118T160000
DTSTAMP:20260424T153532
CREATED:20251020T001037Z
LAST-MODIFIED:20251020T001037Z
UID:10016223-1768744800-1768752000@onstageaz.com
SUMMARY:Peter and the Starcatcher
DESCRIPTION:A prequel to Peter Pan\, told with a highly theatrical style. Charged with delivering a magical cargo to a distant shore\, our heroes encounter monsters\, mermaids\, flying crocodiles\, and a villainous pirate named Black Stache\, while learning about friendship\, duty\, and the power of believing in oneself.
URL:https://onstageaz.com/event/peter-and-the-starcatcher/2026-01-18/
LOCATION:The Rogue Theatre\, 300 E University Blvd Suite #150\, Tucson\, AZ\, 85705\, United States
CATEGORIES:Stage,Theatrical
ATTACH;FMTTYPE=image/jpeg:https://onstageaz.com/wp-content/uploads/2025/10/b-8RH6I0.jpg
ORGANIZER;CN="The Rogue Theatre":MAILTO:ticket@TheRogueTheatre.org
END:VEVENT
BEGIN:VEVENT
DTSTART;TZID=America/Phoenix:20260118T150000
DTEND;TZID=America/Phoenix:20260118T170000
DTSTAMP:20260424T153532
CREATED:20250623T235903Z
LAST-MODIFIED:20250623T235903Z
UID:10013211-1768748400-1768755600@onstageaz.com
SUMMARY:Music of the Pioneers
DESCRIPTION:What powerful dream would compel you to travel by wagon and foot across the entire country? Across the Great Plains and deserts\, through the Rocky Mountain passes facing starvation\, predators\, disease and the elements? Whether on long\, perilous journeys or wherever one calls home\, music has communicated joy and provided a means for survival. Folk music ties to one’s past and the dream of a future; Spirituals inspired hope for freedom and were integral to community. Copland’s Old American Songs includes Shall We Gather at the River—a song expressing dreams of a better life—and the beloved Simple Gifts. Copland’s use of the Shaker melody elevated it to the role of an indelible American anthem. This program includes folk songs by Stephen Foster\, considered the father of American music\, and Spiritual arrangements by William Grant Still\, known as Dean of African American Composers. Standing shoulder to shoulder with these giants is William Billings and the Sacred Harp tradition\, perhaps the oldest form of truly American music. Sung a cappella\, this music raises the roof!
URL:https://onstageaz.com/event/music-of-the-pioneers-2/2026-01-18/
LOCATION:Catalina Foothills High School\, AZ\, United States
CATEGORIES:Music
ATTACH;FMTTYPE=image/png:https://onstageaz.com/wp-content/uploads/2025/05/Screenshot-2025-06-23-at-4.56.18-PM.png
ORGANIZER;CN="True Concord Voices & Orchestra":MAILTO:info@TrueConcord.org
END:VEVENT
BEGIN:VEVENT
DTSTART;TZID=America/Phoenix:20260120T190000
DTEND;TZID=America/Phoenix:20260120T210000
DTSTAMP:20260424T153532
CREATED:20250623T234403Z
LAST-MODIFIED:20250623T234403Z
UID:10012916-1768935600-1768942800@onstageaz.com
SUMMARY:Close-Up Vocal Recital Will Liverman\, Baritone
DESCRIPTION:In a “breakout performance” (The New York Times) opening the Met’s 21-22 season\, Liverman headlined the widely celebrated Fire Shut Up in My Bones by Terence Blanchard\, which won the 2023 GRAMMY Award for Best Opera Recording. He has sung with the Metropolitan Opera\, Lyric Opera of Chicago\, San Francisco Opera\, San Francisco Symphony\, New York Festival of Song\, Dutch National Opera\, London Symphony Orchestra and more. Hailed as “glorious” (BBC Music) and “spellbinding\,” (San Francisco Classical Voice) Liverman’s album Show Me The Way was nominated in 2025 for a GRAMMY for Best Classical Solo Vocal Album.
URL:https://onstageaz.com/event/close-up-vocal-recital-will-liverman-baritone/
LOCATION:Holsclaw at the University of Arizona\, 1017 N Olive Rd\, Tucson\, 85719\, United States
CATEGORIES:Music
ATTACH;FMTTYPE=image/jpeg:https://onstageaz.com/wp-content/uploads/2025/05/oAgpbhq8.jpg
ORGANIZER;CN="True Concord Voices & Orchestra":MAILTO:info@TrueConcord.org
END:VEVENT
BEGIN:VEVENT
DTSTART;TZID=America/Phoenix:20260123T190000
DTEND;TZID=America/Phoenix:20260123T210000
DTSTAMP:20260424T153532
CREATED:20250917T234446Z
LAST-MODIFIED:20250917T234446Z
UID:10014408-1769194800-1769202000@onstageaz.com
SUMMARY:Funny Girl
DESCRIPTION:Featuring one of the greatest musical scores of all time\, including classic songs “Don’t Rain On My Parade” and “People\,” this bittersweet comedy is based on the true story of the indomitable Fanny Brice\, a girl from the Lower East Side who dreamed of a life on the stage. Determined to become a big star\, she headed into showbiz despite warnings from her mother and friends that she wasn’t a ‘typical beauty.’ Then something funny happened—she became one of the most beloved performers in history\, shining brighter than the brightest lights of Broadway.
URL:https://onstageaz.com/event/funny-girl/2026-01-23/
LOCATION:Arts Express Theatre\, 5870 E. Broadway Blvd.\, Ste. 214\, Tucson\,\, AZ\, 85737\, United States
CATEGORIES:Stage,Theatrical
ATTACH;FMTTYPE=image/png:https://onstageaz.com/wp-content/uploads/2025/09/Screenshot-2025-09-17-at-4.41.06-PM.png
ORGANIZER;CN="Arts Express":MAILTO:info@arts-express.org
END:VEVENT
BEGIN:VEVENT
DTSTART;TZID=America/Phoenix:20260123T190000
DTEND;TZID=America/Phoenix:20260123T220000
DTSTAMP:20260424T153532
CREATED:20260126T225957Z
LAST-MODIFIED:20260126T225957Z
UID:10016601-1769194800-1769205600@onstageaz.com
SUMMARY:AET Presents the Classic Hit Musical\, “Funny Girl”
DESCRIPTION:“Don’t rain on my parade…;” be sure to catch the blockbuster classic musical\, “Funny Girl!” Based on the life of famed Follies headliner Fanny Brice\, and made popular by the 1968 film starring Barbra Streisand and Omar Sharif\, “Funny Girl” is a beloved gem in the musical theatre catalog. Don’t miss your chance to catch this multi-Tony nominated\, recently Broadway revived hit\, fully LIVE Arts Express Theatre\, running January 23-February 15. Performances are Fridays and Saturdays at 7 p.m.\, and Saturday and Sunday Matinees at 2 p.m. \nFanny Brice (Julia Waters) dreams of one day becoming a “Ziegfeld” girl\, only there’s one problem… all the neighbors agree\, an Atlantic City beauty queen she is not. But Fanny is talented and full of wit\, comedy\, and plenty of drive\, so when Fanny meets vaudeville dancer\, Eddie (Kevin Orduño)\, she convinces him to help her get her foot in the door. \nSoon Fanny’s off-beat\, star-like quality propels her to the Ziegfeld follies\, and after a show she meets handsome\, charming high roller Nick Arnstein (Matt Milne). As Fanny’s fame grows and she headlines a tour\, Nick is her biggest fan\, and soon Nick and Fanny fall in love. Despite warnings about his gambling ways\, Fanny grows tired of people telling her what to do and decides to go after Nick to become a “Sadie\,” married lady. \nWhile Fanny has achieved fame\, money\, and now a husband and a baby\, Nick\, ever eager to be the breadwinner\, continues to take bigger risks to win money for his lifestyle. Desperate for investors in his latest scheme\, Nick approaches Mr. Ziegfeld (Tom Spencer) himself\, but he declines\, and Fanny uses her fortune instead. As Nick and Fanny’s relationship problems comes to a head\, Fanny’s mother\, Mrs. Brice (Amy Williams)\, holds up a mirror to her life and shows her the reality. Hopeful to the last\, even after Nick has served prison time for fraud\, Fanny tries to reconcile. Knowing it can’t ever work\, Fanny finally comes to terms with who she is and realizes she’s “beat” her drum and given life her all\, and forges ahead into her new path without Nick. \nWith billboard top hits like “People\,” a stunning score by Jule Styne\, lyrics by Bob Merrill\, and book by Isobel Lennart\, every musical theatre lover won’t want to miss the chance to see “Funny Girl!” \n“Funny Girl” is Directed by Dana Milne\, with Music Direction by Luke Diamond and Choreography by Simone Jolivet-Manuel. \nFor tickets\, visit www.arts-express.org or call the Arts Express Theatre Box Office at (520) 319-0400.
URL:https://onstageaz.com/event/aet-presents-the-classic-hit-musical-funny-girl-16/
LOCATION:Arts Express Theatre\, 5870 E. Broadway Blvd.\, Ste. 214\, Tucson\,\, AZ\, 85737\, United States
CATEGORIES:Theatrical
ATTACH;FMTTYPE=image/jpeg:https://onstageaz.com/wp-content/uploads/2026/01/1920_1080_Funny_Girl_Logo-1.jpg
ORGANIZER;CN="Arts Express Theatre":MAILTO:info@arts-express.org
END:VEVENT
BEGIN:VEVENT
DTSTART;TZID=America/Phoenix:20260123T193000
DTEND;TZID=America/Phoenix:20260123T213000
DTSTAMP:20260424T153532
CREATED:20250623T001158Z
LAST-MODIFIED:20250623T001158Z
UID:10013251-1769196600-1769203800@onstageaz.com
SUMMARY:Debussy's La mer
DESCRIPTION:Debussy’s impressionistic symphonic tone poems\, La mer and Ibéria\, take center stage in this all-French–Iberian-peninsula program. Mezzo-soprano Angela Brower is the soloist for Berlioz’s cantata Cléopâtre\, on the first of her two weeks with the TSO\, and Maestro Gomez introduces the music of Olivier Messiaen with the grief-stricken Le tombeau resplendissant. For his depiction of La mer (“The Sea”)\, Debussy drew inspiration from visual art\, notably Hokusai’s The Great Wave off Kanagawa. The composer’s kaleidoscope sense of musical color mirrors the vibrant colors of the Japanese woodblock print. While also impressionistic\, Ibéria is a more concrete musical depiction of Spanish rhythms and flair\, evoking notable praise from Spanish composer Manuel de Falla. Berlioz’s Cléopâtre\, studded with lush orchestral sections and dramatic vocal writing\, is a showpiece for the vocalist as she depicts the heroine’s final moments.
URL:https://onstageaz.com/event/debussys-la-mer/2026-01-23/
LOCATION:The Linda Ronstadt Music Hall\, 260 S Church Ave\, Tucson\, AZ\, 85701\, United States
CATEGORIES:Music,Stage
ATTACH;FMTTYPE=image/jpeg:https://onstageaz.com/wp-content/uploads/2025/05/mKnVKDeU.jpg
END:VEVENT
BEGIN:VEVENT
DTSTART;TZID=America/Phoenix:20260123T193000
DTEND;TZID=America/Phoenix:20260123T213000
DTSTAMP:20260424T153532
CREATED:20251020T001037Z
LAST-MODIFIED:20251020T001037Z
UID:10016224-1769196600-1769203800@onstageaz.com
SUMMARY:Peter and the Starcatcher
DESCRIPTION:A prequel to Peter Pan\, told with a highly theatrical style. Charged with delivering a magical cargo to a distant shore\, our heroes encounter monsters\, mermaids\, flying crocodiles\, and a villainous pirate named Black Stache\, while learning about friendship\, duty\, and the power of believing in oneself.
URL:https://onstageaz.com/event/peter-and-the-starcatcher/2026-01-23/
LOCATION:The Rogue Theatre\, 300 E University Blvd Suite #150\, Tucson\, AZ\, 85705\, United States
CATEGORIES:Stage,Theatrical
ATTACH;FMTTYPE=image/jpeg:https://onstageaz.com/wp-content/uploads/2025/10/b-8RH6I0.jpg
ORGANIZER;CN="The Rogue Theatre":MAILTO:ticket@TheRogueTheatre.org
END:VEVENT
BEGIN:VEVENT
DTSTART;TZID=America/Phoenix:20260124T140000
DTEND;TZID=America/Phoenix:20260124T160000
DTSTAMP:20260424T153532
CREATED:20250917T234446Z
LAST-MODIFIED:20250917T234446Z
UID:10014810-1769263200-1769270400@onstageaz.com
SUMMARY:Funny Girl
DESCRIPTION:Featuring one of the greatest musical scores of all time\, including classic songs “Don’t Rain On My Parade” and “People\,” this bittersweet comedy is based on the true story of the indomitable Fanny Brice\, a girl from the Lower East Side who dreamed of a life on the stage. Determined to become a big star\, she headed into showbiz despite warnings from her mother and friends that she wasn’t a ‘typical beauty.’ Then something funny happened—she became one of the most beloved performers in history\, shining brighter than the brightest lights of Broadway.
URL:https://onstageaz.com/event/funny-girl/2026-01-24/1/
LOCATION:Arts Express Theatre\, 5870 E. Broadway Blvd.\, Ste. 214\, Tucson\,\, AZ\, 85737\, United States
CATEGORIES:Stage,Theatrical
ATTACH;FMTTYPE=image/png:https://onstageaz.com/wp-content/uploads/2025/09/Screenshot-2025-09-17-at-4.41.06-PM.png
ORGANIZER;CN="Arts Express":MAILTO:info@arts-express.org
END:VEVENT
BEGIN:VEVENT
DTSTART;TZID=America/Phoenix:20260124T140000
DTEND;TZID=America/Phoenix:20260124T160000
DTSTAMP:20260424T153532
CREATED:20251020T001037Z
LAST-MODIFIED:20251020T001037Z
UID:10016225-1769263200-1769270400@onstageaz.com
SUMMARY:Peter and the Starcatcher
DESCRIPTION:A prequel to Peter Pan\, told with a highly theatrical style. Charged with delivering a magical cargo to a distant shore\, our heroes encounter monsters\, mermaids\, flying crocodiles\, and a villainous pirate named Black Stache\, while learning about friendship\, duty\, and the power of believing in oneself.
URL:https://onstageaz.com/event/peter-and-the-starcatcher/2026-01-24/1/
LOCATION:The Rogue Theatre\, 300 E University Blvd Suite #150\, Tucson\, AZ\, 85705\, United States
CATEGORIES:Stage,Theatrical
ATTACH;FMTTYPE=image/jpeg:https://onstageaz.com/wp-content/uploads/2025/10/b-8RH6I0.jpg
ORGANIZER;CN="The Rogue Theatre":MAILTO:ticket@TheRogueTheatre.org
END:VEVENT
BEGIN:VEVENT
DTSTART;TZID=America/Phoenix:20260124T140000
DTEND;TZID=America/Phoenix:20260124T170000
DTSTAMP:20260424T153532
CREATED:20260126T225924Z
LAST-MODIFIED:20260126T225924Z
UID:10016602-1769263200-1769274000@onstageaz.com
SUMMARY:AET Presents the Classic Hit Musical\, “Funny Girl”
DESCRIPTION:“Don’t rain on my parade…;” be sure to catch the blockbuster classic musical\, “Funny Girl!” Based on the life of famed Follies headliner Fanny Brice\, and made popular by the 1968 film starring Barbra Streisand and Omar Sharif\, “Funny Girl” is a beloved gem in the musical theatre catalog. Don’t miss your chance to catch this multi-Tony nominated\, recently Broadway revived hit\, fully LIVE Arts Express Theatre\, running January 23-February 15. Performances are Fridays and Saturdays at 7 p.m.\, and Saturday and Sunday Matinees at 2 p.m. \nFanny Brice (Julia Waters) dreams of one day becoming a “Ziegfeld” girl\, only there’s one problem… all the neighbors agree\, an Atlantic City beauty queen she is not. But Fanny is talented and full of wit\, comedy\, and plenty of drive\, so when Fanny meets vaudeville dancer\, Eddie (Kevin Orduño)\, she convinces him to help her get her foot in the door. \nSoon Fanny’s off-beat\, star-like quality propels her to the Ziegfeld follies\, and after a show she meets handsome\, charming high roller Nick Arnstein (Matt Milne). As Fanny’s fame grows and she headlines a tour\, Nick is her biggest fan\, and soon Nick and Fanny fall in love. Despite warnings about his gambling ways\, Fanny grows tired of people telling her what to do and decides to go after Nick to become a “Sadie\,” married lady. \nWhile Fanny has achieved fame\, money\, and now a husband and a baby\, Nick\, ever eager to be the breadwinner\, continues to take bigger risks to win money for his lifestyle. Desperate for investors in his latest scheme\, Nick approaches Mr. Ziegfeld (Tom Spencer) himself\, but he declines\, and Fanny uses her fortune instead. As Nick and Fanny’s relationship problems comes to a head\, Fanny’s mother\, Mrs. Brice (Amy Williams)\, holds up a mirror to her life and shows her the reality. Hopeful to the last\, even after Nick has served prison time for fraud\, Fanny tries to reconcile. Knowing it can’t ever work\, Fanny finally comes to terms with who she is and realizes she’s “beat” her drum and given life her all\, and forges ahead into her new path without Nick. \nWith billboard top hits like “People\,” a stunning score by Jule Styne\, lyrics by Bob Merrill\, and book by Isobel Lennart\, every musical theatre lover won’t want to miss the chance to see “Funny Girl!” \n“Funny Girl” is Directed by Dana Milne\, with Music Direction by Luke Diamond and Choreography by Simone Jolivet-Manuel. \nFor tickets\, visit www.arts-express.org or call the Arts Express Theatre Box Office at (520) 319-0400.
URL:https://onstageaz.com/event/aet-presents-the-classic-hit-musical-funny-girl-15/
LOCATION:Arts Express Theatre\, 5870 E. Broadway Blvd.\, Ste. 214\, Tucson\,\, AZ\, 85737\, United States
CATEGORIES:Theatrical
ATTACH;FMTTYPE=image/jpeg:https://onstageaz.com/wp-content/uploads/2026/01/1920_1080_Funny_Girl_Logo-2.jpg
ORGANIZER;CN="Arts Express Theatre":MAILTO:info@arts-express.org
END:VEVENT
BEGIN:VEVENT
DTSTART;TZID=America/Phoenix:20260124T190000
DTEND;TZID=America/Phoenix:20260124T210000
DTSTAMP:20260424T153532
CREATED:20250917T234446Z
LAST-MODIFIED:20250917T234446Z
UID:10014811-1769281200-1769288400@onstageaz.com
SUMMARY:Funny Girl
DESCRIPTION:Featuring one of the greatest musical scores of all time\, including classic songs “Don’t Rain On My Parade” and “People\,” this bittersweet comedy is based on the true story of the indomitable Fanny Brice\, a girl from the Lower East Side who dreamed of a life on the stage. Determined to become a big star\, she headed into showbiz despite warnings from her mother and friends that she wasn’t a ‘typical beauty.’ Then something funny happened—she became one of the most beloved performers in history\, shining brighter than the brightest lights of Broadway.
URL:https://onstageaz.com/event/funny-girl/2026-01-24/2/
LOCATION:Arts Express Theatre\, 5870 E. Broadway Blvd.\, Ste. 214\, Tucson\,\, AZ\, 85737\, United States
CATEGORIES:Stage,Theatrical
ATTACH;FMTTYPE=image/png:https://onstageaz.com/wp-content/uploads/2025/09/Screenshot-2025-09-17-at-4.41.06-PM.png
ORGANIZER;CN="Arts Express":MAILTO:info@arts-express.org
END:VEVENT
BEGIN:VEVENT
DTSTART;TZID=America/Phoenix:20260124T190000
DTEND;TZID=America/Phoenix:20260124T220000
DTSTAMP:20260424T153532
CREATED:20260126T225654Z
LAST-MODIFIED:20260126T225654Z
UID:10016603-1769281200-1769292000@onstageaz.com
SUMMARY:AET Presents the Classic Hit Musical\, “Funny Girl”
DESCRIPTION:“Don’t rain on my parade…;” be sure to catch the blockbuster classic musical\, “Funny Girl!” Based on the life of famed Follies headliner Fanny Brice\, and made popular by the 1968 film starring Barbra Streisand and Omar Sharif\, “Funny Girl” is a beloved gem in the musical theatre catalog. Don’t miss your chance to catch this multi-Tony nominated\, recently Broadway revived hit\, fully LIVE Arts Express Theatre\, running January 23-February 15. Performances are Fridays and Saturdays at 7 p.m.\, and Saturday and Sunday Matinees at 2 p.m. \nFanny Brice (Julia Waters) dreams of one day becoming a “Ziegfeld” girl\, only there’s one problem… all the neighbors agree\, an Atlantic City beauty queen she is not. But Fanny is talented and full of wit\, comedy\, and plenty of drive\, so when Fanny meets vaudeville dancer\, Eddie (Kevin Orduño)\, she convinces him to help her get her foot in the door. \nSoon Fanny’s off-beat\, star-like quality propels her to the Ziegfeld follies\, and after a show she meets handsome\, charming high roller Nick Arnstein (Matt Milne). As Fanny’s fame grows and she headlines a tour\, Nick is her biggest fan\, and soon Nick and Fanny fall in love. Despite warnings about his gambling ways\, Fanny grows tired of people telling her what to do and decides to go after Nick to become a “Sadie\,” married lady. \nWhile Fanny has achieved fame\, money\, and now a husband and a baby\, Nick\, ever eager to be the breadwinner\, continues to take bigger risks to win money for his lifestyle. Desperate for investors in his latest scheme\, Nick approaches Mr. Ziegfeld (Tom Spencer) himself\, but he declines\, and Fanny uses her fortune instead. As Nick and Fanny’s relationship problems comes to a head\, Fanny’s mother\, Mrs. Brice (Amy Williams)\, holds up a mirror to her life and shows her the reality. Hopeful to the last\, even after Nick has served prison time for fraud\, Fanny tries to reconcile. Knowing it can’t ever work\, Fanny finally comes to terms with who she is and realizes she’s “beat” her drum and given life her all\, and forges ahead into her new path without Nick. \nWith billboard top hits like “People\,” a stunning score by Jule Styne\, lyrics by Bob Merrill\, and book by Isobel Lennart\, every musical theatre lover won’t want to miss the chance to see “Funny Girl!” \n“Funny Girl” is Directed by Dana Milne\, with Music Direction by Luke Diamond and Choreography by Simone Jolivet-Manuel. \nFor tickets\, visit www.arts-express.org or call the Arts Express Theatre Box Office at (520) 319-0400.
URL:https://onstageaz.com/event/aet-presents-the-classic-hit-musical-funny-girl-14/
LOCATION:Arts Express Theatre\, 5870 E. Broadway Blvd.\, Ste. 214\, Tucson\,\, AZ\, 85737\, United States
CATEGORIES:Theatrical
ATTACH;FMTTYPE=image/jpeg:https://onstageaz.com/wp-content/uploads/2026/01/1920_1080_Funny_Girl_Logo-3.jpg
ORGANIZER;CN="Arts Express Theatre":MAILTO:info@arts-express.org
END:VEVENT
BEGIN:VEVENT
DTSTART;TZID=America/Phoenix:20260124T193000
DTEND;TZID=America/Phoenix:20260124T213000
DTSTAMP:20260424T153532
CREATED:20251020T001037Z
LAST-MODIFIED:20251020T001037Z
UID:10016226-1769283000-1769290200@onstageaz.com
SUMMARY:Peter and the Starcatcher
DESCRIPTION:A prequel to Peter Pan\, told with a highly theatrical style. Charged with delivering a magical cargo to a distant shore\, our heroes encounter monsters\, mermaids\, flying crocodiles\, and a villainous pirate named Black Stache\, while learning about friendship\, duty\, and the power of believing in oneself.
URL:https://onstageaz.com/event/peter-and-the-starcatcher/2026-01-24/2/
LOCATION:The Rogue Theatre\, 300 E University Blvd Suite #150\, Tucson\, AZ\, 85705\, United States
CATEGORIES:Stage,Theatrical
ATTACH;FMTTYPE=image/jpeg:https://onstageaz.com/wp-content/uploads/2025/10/b-8RH6I0.jpg
ORGANIZER;CN="The Rogue Theatre":MAILTO:ticket@TheRogueTheatre.org
END:VEVENT
END:VCALENDAR