BEGIN:VCALENDAR
VERSION:2.0
PRODID:-//ON Stage Arizona - ECPv6.15.18//NONSGML v1.0//EN
CALSCALE:GREGORIAN
METHOD:PUBLISH
X-WR-CALNAME:ON Stage Arizona
X-ORIGINAL-URL:https://onstageaz.com
X-WR-CALDESC:Events for ON Stage Arizona
REFRESH-INTERVAL;VALUE=DURATION:PT1H
X-Robots-Tag:noindex
X-PUBLISHED-TTL:PT1H
BEGIN:VTIMEZONE
TZID:America/Phoenix
BEGIN:STANDARD
TZOFFSETFROM:-0700
TZOFFSETTO:-0700
TZNAME:MST
DTSTART:20240101T000000
END:STANDARD
END:VTIMEZONE
BEGIN:VEVENT
DTSTART;TZID=America/Phoenix:20251221T130000
DTEND;TZID=America/Phoenix:20251221T150000
DTSTAMP:20260424T141756
CREATED:20250623T230533Z
LAST-MODIFIED:20250623T230533Z
UID:10013274-1766322000-1766329200@onstageaz.com
SUMMARY:The Nutcracker
DESCRIPTION:
URL:https://onstageaz.com/event/the-nutcracker-3/2025-12-21/1/
LOCATION:The Linda Ronstadt Music Hall\, 260 S Church Ave\, Tucson\, AZ\, 85701\, United States
CATEGORIES:Dance,Stage
ATTACH;FMTTYPE=image/jpeg:https://onstageaz.com/wp-content/uploads/2025/05/nhP7ItIM.jpg
ORGANIZER;CN="Ballet Tucson":MAILTO:info@ballettucson.org
END:VEVENT
BEGIN:VEVENT
DTSTART;TZID=America/Phoenix:20251221T180000
DTEND;TZID=America/Phoenix:20251221T200000
DTSTAMP:20260424T141756
CREATED:20250623T230533Z
LAST-MODIFIED:20250623T230533Z
UID:10013275-1766340000-1766347200@onstageaz.com
SUMMARY:The Nutcracker
DESCRIPTION:
URL:https://onstageaz.com/event/the-nutcracker-3/2025-12-21/2/
LOCATION:The Linda Ronstadt Music Hall\, 260 S Church Ave\, Tucson\, AZ\, 85701\, United States
CATEGORIES:Dance,Stage
ATTACH;FMTTYPE=image/jpeg:https://onstageaz.com/wp-content/uploads/2025/05/nhP7ItIM.jpg
ORGANIZER;CN="Ballet Tucson":MAILTO:info@ballettucson.org
END:VEVENT
BEGIN:VEVENT
DTSTART;TZID=America/Phoenix:20251221T190000
DTEND;TZID=America/Phoenix:20251221T210000
DTSTAMP:20260424T141756
CREATED:20250913T223140Z
LAST-MODIFIED:20251210T234230Z
UID:10014364-1766343600-1766350800@onstageaz.com
SUMMARY:Squirrel Nut Zippers
DESCRIPTION:The Squirrel Nut Zippers bring their joyous\, raucous Christmas Caravan Tour back again performing all of the hits from Holidays past. From heartwarming ballads to boisterous dance tunes\, the band conjures an atmosphere nestled somewhere between the wondrous lights of Christmas and the backroom din of a speakeasy. This show is a must-see for any true music lover. The Christmas Caravan show features holiday hits and classics\, selections from the Squirrel Nut Zipper’s holiday album Christmas Caravan\, and the finest new and old Squirrel Nut Zippers catalog music. Inspired by 1920s jazz\, klezmer and old time music\, SNZ’s endlessly curious and innovative leader Jimbo Mathus has concocted a show truly unique and original. This unique blend is on full display with the Christmas Caravan show\, which has increasingly grown in popularity\, selling out venues throughout the United States. “There is of course jazz of various stripes (mainly pre-WWII varieties) on this deliciously wide ranging night of entertainment\, but there’s so much more: sounds\, identifiable and not\, emanating from mysterious times and places\, not the least of which is New Orleans\, their home base\, a land that\, forever and still\, has a mind of its own.” – Relix
URL:https://onstageaz.com/event/squirrel-nut-zippers/
LOCATION:Fox Tucson Theatre\, 17 W Congress St\, Tucson\, AZ\, 85701\, United States
CATEGORIES:Music,Stage
ATTACH;FMTTYPE=image/jpeg:https://onstageaz.com/wp-content/uploads/2025/09/FutjLdFc.jpg
ORGANIZER;CN="Fox Tucson Theatre":MAILTO:foxinfo@foxtucson.com
END:VEVENT
END:VCALENDAR