BEGIN:VCALENDAR
VERSION:2.0
PRODID:-//ON Stage Arizona - ECPv6.15.18//NONSGML v1.0//EN
CALSCALE:GREGORIAN
METHOD:PUBLISH
X-WR-CALNAME:ON Stage Arizona
X-ORIGINAL-URL:https://onstageaz.com
X-WR-CALDESC:Events for ON Stage Arizona
REFRESH-INTERVAL;VALUE=DURATION:PT1H
X-Robots-Tag:noindex
X-PUBLISHED-TTL:PT1H
BEGIN:VTIMEZONE
TZID:America/Phoenix
BEGIN:STANDARD
TZOFFSETFROM:-0700
TZOFFSETTO:-0700
TZNAME:MST
DTSTART:20240101T000000
END:STANDARD
END:VTIMEZONE
BEGIN:VEVENT
DTSTART;TZID=America/Phoenix:20251207T130000
DTEND;TZID=America/Phoenix:20251207T153500
DTSTAMP:20260424T153652
CREATED:20251118T005723Z
LAST-MODIFIED:20251118T005724Z
UID:10013174-1765112400-1765121700@onstageaz.com
SUMMARY:Moulin Rouge!
DESCRIPTION:Moulin Rouge! The Musical at Centennial Hall in Tucson\, Arizona\nBroadway in Tucson presents Moulin Rouge! The Musical at Centennial Hall. Enter a world of splendor\, romance\, and eye-popping excess. Bohemians and aristocrats mingle in electrifying enchantment. Baz Luhrmann’s revolutionary film comes to life onstage in a dazzling mash-up extravaganza. \nDirected by Tony Award® winner Alex Timbers\, this theatrical celebration honors Truth\, Beauty\, Freedom—and above all\, Love. The book by Tony Award® winner John Logan and music supervision\, orchestrations\, and arrangements by Tony Award® winner Justin Levine deliver unforgettable hits. Choreography by Tony Award® winner Sonya Tayeh adds dynamic flair and breathtaking movement. \nTickets sell quickly for this oversized love story. Reserve your seats now. Don’t miss Moulin Rouge! The Musical at Centennial Hall—a whirlwind of glitz\, grandeur\, and glory!
URL:https://onstageaz.com/event/moulin-rouge-5/
LOCATION:Centennial Hall\, 1020 E. University Blvd\, Tucson\, AZ\, 85719\, United States
CATEGORIES:Music,Stage,Theatrical
ATTACH;FMTTYPE=image/jpeg:https://onstageaz.com/wp-content/uploads/2025/05/tOHEvyjY.jpg
ORGANIZER;CN="Broadway In Tucson":MAILTO:info@broadwayintucson.com
END:VEVENT
BEGIN:VEVENT
DTSTART;TZID=America/Phoenix:20251207T140000
DTEND;TZID=America/Phoenix:20251207T160000
DTSTAMP:20260424T153652
CREATED:20250623T001954Z
LAST-MODIFIED:20250623T001954Z
UID:10013368-1765116000-1765123200@onstageaz.com
SUMMARY:BeethovenÕs Emperor
DESCRIPTION:Alessio Bax makes his TSO debut as the soloist in BeethovenÕs monumental Piano Concerto No. 5\, ÒEmperorÓ. ShostakovichÕs Fifth Symphony and Carlos SimonÕs Fate Now Conquers complete this program built on themes of unrest and power. Both the concerto and symphony were composed during periods of great unrest: the Beethoven when the Napoleonic wars arrived in Vienna\, and the Shostakovich as StalinÕs power grew and the composer was in increasing danger. Considered the greatest of ShostakovichÕs symphonies\, the Fifth is more classical in style than his earlier works\, a direct response to criticism from Stalin. While it features a finale that at first appears triumphant\, it is perhaps a satirical picture of the dictator. Influenced by both a journal entry by Beethoven and the harmonic structure of his Seventh Symphony\, Carlos SimonÕs Fate Now Conquers completes the program.
URL:https://onstageaz.com/event/beethovenos-emperor/2025-12-07/
LOCATION:AZ
CATEGORIES:Music,Stage
ATTACH;FMTTYPE=image/jpeg:https://onstageaz.com/wp-content/uploads/2025/05/cWg1JT5c.jpg
END:VEVENT
BEGIN:VEVENT
DTSTART;TZID=America/Phoenix:20251207T160000
DTEND;TZID=America/Phoenix:20251207T173000
DTSTAMP:20260424T153652
CREATED:20251105T010019Z
LAST-MODIFIED:20251105T010019Z
UID:10016338-1765123200-1765128600@onstageaz.com
SUMMARY:Peace and Joy Holiday Concerts
DESCRIPTION:Join the Arizona Repertory Singers celebrate the timeless themes of the season—”Peace and Joy.” The engaging program of 16 choral works ranges from contemplative to exuberant and includes traditional carols\, well-known standards\, and contemporary compositions. \nFrom Renaissance to contemporary works\, you’ll hear the harmonious “In Dulci Jubilo” by Michaël Praetorius\, the new and glorious “Angels We Have Heard On High” by Dan Forrest with string quartet\, Christopher Tin’s “Baba Yetu” from the 2005 hit video game Civilization IV\, “Deck the Hall” by internationally known composer and conductor John Rutter\, and Christine Guter’s dizzying “Dreidel Song” in 7/8. We hope you will join us as part of your holiday tradition for a performance of contemplative and joyful choral music to ring in the season! \nTickets are $22 online\, $25 at the door. Students with ID are admitted free.
URL:https://onstageaz.com/event/peace-and-joy-holiday-concerts-2/
LOCATION:St. Mark Catholic Church\, 2727 W. Tangerine Rd\, Oro Valley\, 85742
CATEGORIES:Music
ATTACH;FMTTYPE=image/jpeg:https://onstageaz.com/wp-content/uploads/2025/11/PeaceandJoy_OnStage_1920x1080.jpg
ORGANIZER;CN="Arizona Repertory Singers":MAILTO:tickets@arsingers.org
END:VEVENT
BEGIN:VEVENT
DTSTART;TZID=America/Phoenix:20251207T183000
DTEND;TZID=America/Phoenix:20251207T210500
DTSTAMP:20260424T153652
CREATED:20250527T204558Z
LAST-MODIFIED:20250527T204558Z
UID:10013175-1765132200-1765141500@onstageaz.com
SUMMARY:Moulin Rouge!
DESCRIPTION:Moulin Rouge! The Musical at Centennial Hall in Tucson\, Arizona\nBroadway in Tucson presents Moulin Rouge! The Musical at Centennial Hall. Enter a world of splendor\, romance\, and eye-popping excess. Bohemians and aristocrats mingle in electrifying enchantment. Baz Luhrmann’s revolutionary film comes to life onstage in a dazzling mash-up extravaganza. \nDirected by Tony Award® winner Alex Timbers\, this theatrical celebration honors Truth\, Beauty\, Freedom—and above all\, Love. The book by Tony Award® winner John Logan and music supervision\, orchestrations\, and arrangements by Tony Award® winner Justin Levine deliver unforgettable hits. Choreography by Tony Award® winner Sonya Tayeh adds dynamic flair and breathtaking movement. \nTickets sell quickly for this oversized love story. Reserve your seats now. Don’t miss Moulin Rouge! The Musical at Centennial Hall—a whirlwind of glitz\, grandeur\, and glory!
URL:https://onstageaz.com/event/moulin-rouge/2025-12-07/
LOCATION:Centennial Hall\, 1020 E. University Blvd\, Tucson\, AZ\, 85719\, United States
CATEGORIES:Music,Stage,Theatrical
ATTACH;FMTTYPE=image/jpeg:https://onstageaz.com/wp-content/uploads/2025/05/tOHEvyjY.jpg
ORGANIZER;CN="Broadway In Tucson":MAILTO:info@broadwayintucson.com
END:VEVENT
BEGIN:VEVENT
DTSTART;TZID=America/Phoenix:20251208T190000
DTEND;TZID=America/Phoenix:20251208T203000
DTSTAMP:20260424T153652
CREATED:20251123T225942Z
LAST-MODIFIED:20251123T225942Z
UID:10016415-1765220400-1765225800@onstageaz.com
SUMMARY:Pima Jazz Band: Fall Concert
DESCRIPTION:Under the direction of Scott Black\, the band plays jazz standards from a variety of periods in big band style.
URL:https://onstageaz.com/event/pima-jazz-band-fall-concert/
LOCATION:Pima Community College Center for the Arts\, 2202 W Anklam Rd.\, Tucson\, AZ\, 85709\, United States
CATEGORIES:Music,Stage
ATTACH;FMTTYPE=image/jpeg:https://onstageaz.com/wp-content/uploads/2025/11/5dgg1V6w.jpg
ORGANIZER;CN="Pima Arts":MAILTO:centerforthearts@pima.edu
END:VEVENT
BEGIN:VEVENT
DTSTART;TZID=America/Phoenix:20251209T160000
DTEND;TZID=America/Phoenix:20251209T173000
DTSTAMP:20260424T153652
CREATED:20251123T230315Z
LAST-MODIFIED:20251123T230315Z
UID:10016416-1765296000-1765301400@onstageaz.com
SUMMARY:Pima Musical Theatre Workshop
DESCRIPTION:Under the direction of Dennis Tamblyn\, students in the Musical Theater workshop will showcase excerpts and scenes from a diverse range of musical productions.
URL:https://onstageaz.com/event/pima-musical-theatre-workshop/
LOCATION:Pima Community College Center for the Arts\, 2202 W Anklam Rd.\, Tucson\, AZ\, 85709\, United States
CATEGORIES:Stage,Theatrical
ATTACH;FMTTYPE=image/jpeg:https://onstageaz.com/wp-content/uploads/2025/11/0_tPbhUg.jpg
ORGANIZER;CN="Pima Arts":MAILTO:centerforthearts@pima.edu
END:VEVENT
BEGIN:VEVENT
DTSTART;TZID=America/Phoenix:20251210T140000
DTEND;TZID=America/Phoenix:20251210T160000
DTSTAMP:20260424T153652
CREATED:20251118T010251Z
LAST-MODIFIED:20251118T010252Z
UID:10012964-1765375200-1765382400@onstageaz.com
SUMMARY:Heist
DESCRIPTION:Heist at the Temple of Music and Art in Tucson\, Arizona\nArizona Theatre Company presents Heist\, a thrilling new production at the Temple of Music and Art in Tucson\, Arizona. Inspired by iconic caper films like Ocean’s Eleven\, The Italian Job\, and The Sting\, Heist delivers non-stop suspense\, clever twists\, and edge-of-your-seat excitement. \nA team of professional thieves gathers to steal the world’s rarest jewels. Their foolproof plan unravels when unexpected betrayals surface. Double crosses\, cunning disguises\, and daring escapes heighten the tension. Each character harbors hidden motives\, making trust a dangerous gamble. \nKey Production Highlights: \n\n\nFast-Paced Action: Rapid-fire dialogue and thrilling stagecraft keep the audience fully engaged. \n\n\nClever Plot Twists: Surprising reveals ensure you never know who will come out on top. \n\n\nAuthentic Disguises: Skillful costume design transforms the cast into master thieves and deceptive accomplices. \n\n\nDynamic Direction: Arizona Theatre Company’s creative team delivers razor-sharp pacing and suspense. \n\n\nImmersive Set Design: The Temple of Music and Art’s historic stage enhances every daring escape sequence. \n\n\nHeist balances humor and heart-pounding drama. Audiences will gasp at each near miss and laugh at the thieves’ witty banter. As alliances shift and loyalties fracture\, you’ll question every motive and suspect everyone. \nSet against the backdrop of Tucson’s premier performing arts venue\, Heist transforms the Temple of Music and Art into a high-stakes playground of intrigue and deception. The intimate theater setting makes every gasp and gasp-inducing twist feel immediate and personal. \nDon’t miss this adrenaline-fueled ride by Arizona Theatre Company. Heist offers a rollercoaster of drama\, suspense\, and sheer theatrical craftsmanship. Perfect for fans of caper films and live theater alike. \nSecure your seats now at the Temple of Music and Art in downtown Tucson. Experience Heist—a cunning thriller that will keep you guessing long after the final curtain.
URL:https://onstageaz.com/event/heist-8/
LOCATION:Temple of Music and Art\, 330 S Scott Ave\, Tucson\, AZ\, 85701\, United States
CATEGORIES:Stage,Theatrical
ATTACH;FMTTYPE=image/jpeg:https://onstageaz.com/wp-content/uploads/2025/05/Oxg4t6HY.jpg
ORGANIZER;CN="Arizona Theatre Company":MAILTO:boxoffice@atc.org
END:VEVENT
BEGIN:VEVENT
DTSTART;TZID=America/Phoenix:20251211T190000
DTEND;TZID=America/Phoenix:20251211T203000
DTSTAMP:20260424T153652
CREATED:20251123T225717Z
LAST-MODIFIED:20251123T225717Z
UID:10016417-1765479600-1765485000@onstageaz.com
SUMMARY:Pima Concert Band: Fall Concert
DESCRIPTION:Under the direction of Victor Valenzuela\, the ensemble will perform classics for a full band\, along with small wind and percussion ensembles and soloists.
URL:https://onstageaz.com/event/pima-concert-band-fall-concert/
LOCATION:Pima Community College Center for the Arts\, 2202 W Anklam Rd.\, Tucson\, AZ\, 85709\, United States
CATEGORIES:Music,Stage
ATTACH;FMTTYPE=image/jpeg:https://onstageaz.com/wp-content/uploads/2025/11/UN8DzEdI.jpg
ORGANIZER;CN="Pima Arts":MAILTO:centerforthearts@pima.edu
END:VEVENT
BEGIN:VEVENT
DTSTART;TZID=America/Phoenix:20251211T190000
DTEND;TZID=America/Phoenix:20251211T210000
DTSTAMP:20260424T153652
CREATED:20251118T010937Z
LAST-MODIFIED:20251118T010939Z
UID:10012906-1765479600-1765486800@onstageaz.com
SUMMARY:Lessons & Carols by Candlelight An American Christmas
DESCRIPTION:Beautiful churches\, the warm glow of candlelight\, a peaceful and welcoming space filled with the telling of the Christmas story in word and song. This year’s program features works composed exclusively by American composers and includes a world premiere of the winning work from our national Christmas Carol Competition. Raise your voices on favorite carols in community with the artists\, as together we celebrate the beauty\, awe and joy of the season.
URL:https://onstageaz.com/event/lessons-carols-by-candlelight-an-american-christmas-5/
LOCATION:St. Philip’s in the Hills Episcopal Church\, 4440 N Campbell Ave\, Tucson\, AZ\, 85718\, United States
CATEGORIES:Music
ATTACH;FMTTYPE=image/png:https://onstageaz.com/wp-content/uploads/2025/05/Screenshot-2025-06-23-at-4.48.26-PM.png
ORGANIZER;CN="True Concord Voices & Orchestra":MAILTO:info@TrueConcord.org
END:VEVENT
BEGIN:VEVENT
DTSTART;TZID=America/Phoenix:20251212T190000
DTEND;TZID=America/Phoenix:20251212T203000
DTSTAMP:20260424T153652
CREATED:20251123T230659Z
LAST-MODIFIED:20251123T230659Z
UID:10016418-1765566000-1765571400@onstageaz.com
SUMMARY:Pima Mariachi: Fall Concert
DESCRIPTION:Mariachi Azteca de Pima College\, led by director Salvador Gallegos\, will perform mariachi standards along with modern compositions\, including Mexican variations and styles of the Son\, Ranchera\, Huasteca and Bolero.
URL:https://onstageaz.com/event/pima-mariachi-fall-concert/
LOCATION:Pima Community College Center for the Arts\, 2202 W Anklam Rd.\, Tucson\, AZ\, 85709\, United States
CATEGORIES:Music,Stage
ATTACH;FMTTYPE=image/jpeg:https://onstageaz.com/wp-content/uploads/2025/11/NWLoCGvA.jpg
ORGANIZER;CN="Pima Arts":MAILTO:centerforthearts@pima.edu
END:VEVENT
BEGIN:VEVENT
DTSTART;TZID=America/Phoenix:20251212T190000
DTEND;TZID=America/Phoenix:20251212T210000
DTSTAMP:20260424T153652
CREATED:20250623T235325Z
LAST-MODIFIED:20250623T235325Z
UID:10012907-1765566000-1765573200@onstageaz.com
SUMMARY:Lessons & Carols by Candlelight An American Christmas
DESCRIPTION:Beautiful churches\, the warm glow of candlelight\, a peaceful and welcoming space filled with the telling of the Christmas story in word and song. This year’s program features works composed exclusively by American composers and includes a world premiere of the winning work from our national Christmas Carol Competition. Raise your voices on favorite carols in community with the artists\, as together we celebrate the beauty\, awe and joy of the season.
URL:https://onstageaz.com/event/lessons-carols-by-candlelight-an-american-christmas-3/
LOCATION:St. Francis in the Valley Episcopal Church\, Green Valley\, 600 South La Cañada Drive\, Green Valley\, AZ\, 85614\, United States
CATEGORIES:Music
ATTACH;FMTTYPE=image/png:https://onstageaz.com/wp-content/uploads/2025/05/Screenshot-2025-06-23-at-4.48.26-PM.png
ORGANIZER;CN="True Concord Voices & Orchestra":MAILTO:info@TrueConcord.org
END:VEVENT
BEGIN:VEVENT
DTSTART;TZID=America/Phoenix:20251213T100000
DTEND;TZID=America/Phoenix:20251213T170000
DTSTAMP:20260424T153652
CREATED:20251120T232732Z
LAST-MODIFIED:20251120T232732Z
UID:10016453-1765620000-1765645200@onstageaz.com
SUMMARY:Exhibit Opening: On the Edge: Los Angeles Art from the Joan and Jack Quinn Famil Collection
DESCRIPTION:Collectors Joan and Jack Quinn represent a crucial moment in contemporary art history as Los Angeles came to symbolize an innovative and prolific brand of creative freedom. Joan became muse and promoter of Southern California artists\, and Jack\, a prominent and influential attorney\, helped various emerging artists and their art dealers navigate the worlds of law and business. The Quinn Family Collection explores a period of artmaking that is pivotal to understanding current art practices\, the West Coast mentality\, and represents the strides artists made in establishing Los Angeles as a competitive counter-market to scenes in New York and Europe. The exhibition highlights the significance of the Ferus Gallery’s “Cool School\,” the use and exploration of new materials\, minimalism\, the rise of conceptual art\, Chicano art\, early environmental practices\, and portraiture. Yet\, the exploratory nature of Los Angeles art-making and the close-knit network of artists reveals that much of the work expresses overlapping themes. As a result\, the exhibition collectively exudes a unique spirit of anti-conformity and the “California Cool” ethos and is bound together by the generosity and critical connection between artist and collector.
URL:https://onstageaz.com/event/exhibit-opening-on-the-edge-los-angeles-art-from-the-joan-and-jack-quinn-famil-collection/
LOCATION:Tucson Museum of Art\, 140 N. Main Ave\, Tucson\, 85701\, United States
CATEGORIES:Exdhibits,Stage
ATTACH;FMTTYPE=image/jpeg:https://onstageaz.com/wp-content/uploads/2025/11/dyUnzftg.jpg
END:VEVENT
BEGIN:VEVENT
DTSTART;TZID=America/Phoenix:20251213T150000
DTEND;TZID=America/Phoenix:20251213T163000
DTSTAMP:20260424T153652
CREATED:20251105T005939Z
LAST-MODIFIED:20251105T005939Z
UID:10016339-1765638000-1765643400@onstageaz.com
SUMMARY:Peace and Joy Holiday Concerts
DESCRIPTION:Join the Arizona Repertory Singers to celebrate the timeless themes of the season—”Peace and Joy.” The engaging program of 16 choral works ranges from contemplative to exuberant and includes traditional carols\, well-known standards\, and contemporary compositions. \nFrom Renaissance to contemporary works\, you’ll hear the harmonious “In Dulci Jubilo” by Michaël Praetorius\, the new and glorious “Angels We Have Heard On High” by Dan Forrest with string quartet\, Christopher Tin’s “Baba Yetu” from the 2005 hit video game Civilization IV\, “Deck the Hall” by internationally known composer and conductor John Rutter\, and Christine Guter’s dizzying “Dreidel Song” in 7/8. We hope you will join us as part of your holiday tradition for a performance of contemplative and joyful choral music to ring in the season! \nTickets are $22 online\, $25 at the door. Students with ID are admitted free.
URL:https://onstageaz.com/event/peace-and-joy-holiday-concerts/2025-12-13/
LOCATION:Christ Church United Methodist\, 655 N. Craycroft Rd\, Tucson\, 85711
CATEGORIES:Music
ATTACH;FMTTYPE=image/jpeg:https://onstageaz.com/wp-content/uploads/2025/11/PeaceandJoy_OnStage_1920x1080-1.jpg
ORGANIZER;CN="Arizona Repertory Singers":MAILTO:tickets@arsingers.org
END:VEVENT
BEGIN:VEVENT
DTSTART;TZID=America/Phoenix:20251213T150000
DTEND;TZID=America/Phoenix:20251213T163000
DTSTAMP:20260424T153652
CREATED:20251123T230204Z
LAST-MODIFIED:20251123T230204Z
UID:10016419-1765638000-1765643400@onstageaz.com
SUMMARY:Pima Orchestra: Fall Concert
DESCRIPTION:Under the direction of Anne Grimes\, D.M.A.\, the Pima Symphonic Orchestra brings together many talented musicians to perform a mix of classical and modern pieces.
URL:https://onstageaz.com/event/pima-orchestra-fall-concert/
LOCATION:Pima Community College Center for the Arts\, 2202 W Anklam Rd.\, Tucson\, AZ\, 85709\, United States
CATEGORIES:Music,Stage
ATTACH;FMTTYPE=image/jpeg:https://onstageaz.com/wp-content/uploads/2025/11/Pc8YEfyU.jpg
ORGANIZER;CN="Pima Arts":MAILTO:centerforthearts@pima.edu
END:VEVENT
BEGIN:VEVENT
DTSTART;TZID=America/Phoenix:20251213T150000
DTEND;TZID=America/Phoenix:20251213T170000
DTSTAMP:20260424T153652
CREATED:20251015T202846Z
LAST-MODIFIED:20251015T202847Z
UID:10016185-1765638000-1765645200@onstageaz.com
SUMMARY:Winter Jubilee
DESCRIPTION:Fanfare for the Common Man ~ Aaron CoplandSuite for Bluegrass Quartet and Orchestra ~ Phillip Rhodes\nSelections from the Nutcracker ~ Pyotr Ilyich Tchaikovsky\nSophisticated Ladies Medley ~Duke Ellington\nThe Polar Express ~ Alan Silvestri\nand Holiday Favorites
URL:https://onstageaz.com/event/winter-jubilee-2/
LOCATION:AZ
CATEGORIES:Music,Stage
ATTACH;FMTTYPE=image/jpeg:https://onstageaz.com/wp-content/uploads/2025/10/COT.DEC_.WinterJubilee.SteveRalsten.jpg1920.jpg
ORGANIZER;CN="Civic Orchestra Of Tucson":MAILTO:info@cotmusic.org
END:VEVENT
BEGIN:VEVENT
DTSTART;TZID=America/Phoenix:20251213T190000
DTEND;TZID=America/Phoenix:20251213T203000
DTSTAMP:20260424T153652
CREATED:20251123T230725Z
LAST-MODIFIED:20251123T230725Z
UID:10016420-1765652400-1765657800@onstageaz.com
SUMMARY:Pima Guitar: Fall Concert
DESCRIPTION:Under the direction of Michael Lich\, the ensemble\, as well as soloists\, perform a mix of classical and contemporary repertoire on classical guitars.
URL:https://onstageaz.com/event/pima-guitar-fall-concert/
LOCATION:Pima Community College Center for the Arts\, 2202 W Anklam Rd.\, Tucson\, AZ\, 85709\, United States
CATEGORIES:Music,Stage
ATTACH;FMTTYPE=image/jpeg:https://onstageaz.com/wp-content/uploads/2025/11/p2j9mLME.jpg
ORGANIZER;CN="Pima Arts":MAILTO:centerforthearts@pima.edu
END:VEVENT
BEGIN:VEVENT
DTSTART;TZID=America/Phoenix:20251213T190000
DTEND;TZID=America/Phoenix:20251213T210000
DTSTAMP:20260424T153652
CREATED:20250623T235204Z
LAST-MODIFIED:20250623T235228Z
UID:10013210-1765652400-1765659600@onstageaz.com
SUMMARY:Lessons & Carols by Candlelight An American Christmas
DESCRIPTION:Beautiful churches\, the warm glow of candlelight\, a peaceful and welcoming space filled with the telling of the Christmas story in word and song. This year’s program features works composed exclusively by American composers and includes a world premiere of the winning work from our national Christmas Carol Competition. Raise your voices on favorite carols in community with the artists\, as together we celebrate the beauty\, awe and joy of the season.
URL:https://onstageaz.com/event/lessons-carols-by-candlelight-an-american-christmas/2025-12-13/
LOCATION:St. Philip’s in the Hills Episcopal Church\, 4440 N Campbell Ave\, Tucson\, AZ\, 85718\, United States
CATEGORIES:Music
ATTACH;FMTTYPE=image/png:https://onstageaz.com/wp-content/uploads/2025/05/Screenshot-2025-06-23-at-4.48.26-PM.png
ORGANIZER;CN="True Concord Voices & Orchestra":MAILTO:info@TrueConcord.org
END:VEVENT
BEGIN:VEVENT
DTSTART;TZID=America/Phoenix:20251213T190000
DTEND;TZID=America/Phoenix:20251213T210000
DTSTAMP:20260424T153652
CREATED:20251118T014006Z
LAST-MODIFIED:20251118T014007Z
UID:10014800-1765652400-1765659600@onstageaz.com
SUMMARY:Miracle on 34th Street
DESCRIPTION:A holiday classic from Meredith Wilson\, the writer of the classic\,The Music Man!\, and based on the 1947 movie of the same name. Miracle on 34th Street is bursting with humor\, spectacle and beloved songs like “Pinecones and Hollyberries” and “It’s Beginning to Look a Lot Like Christmas.” Doris Walker is a single mom raising her 6-year-old daughter\, Susan\, in New York City.When Doris’ charming neighbor\, Fred\, takes Susan to meet Kris Kringle at Macy’s Department Store\, a wave of love melts even the most cynical hearts. Filled with a spirit of hope\, we invite everyone to believe in Santa Claus again!
URL:https://onstageaz.com/event/miracle-on-34th-street-2/
LOCATION:Arts Express Theatre\, 5870 E. Broadway Blvd.\, Ste. 214\, Tucson\,\, AZ\, 85737\, United States
CATEGORIES:Stage,Theatrical
ATTACH;FMTTYPE=image/png:https://onstageaz.com/wp-content/uploads/2025/09/Screenshot-2025-09-17-at-4.38.29-PM-1.png
ORGANIZER;CN="Arts Express":MAILTO:info@arts-express.org
END:VEVENT
BEGIN:VEVENT
DTSTART;TZID=America/Phoenix:20251213T193000
DTEND;TZID=America/Phoenix:20251213T213000
DTSTAMP:20260424T153652
CREATED:20250623T223112Z
LAST-MODIFIED:20250623T223112Z
UID:10013248-1765654200-1765661400@onstageaz.com
SUMMARY:Holidays in Tucson with Calexico & UA Dance
DESCRIPTION:Dance and rock and carols\, oh my! Spend your holidays with the TSO and some familiar Tucson faces. UA Dance performs to Duke EllingtonÕs big band version of the Nutcracker\, and local favorites Calexico return for another TSO collaboration to close out the concert with a combination of their classics and holiday favorites. ItÕs the holidays like only the Old Pueblo can do!
URL:https://onstageaz.com/event/holidays-in-tucson-with-calexico-ua-dance/2025-12-13/
LOCATION:The Linda Ronstadt Music Hall\, 260 S Church Ave\, Tucson\, AZ\, 85701\, United States
CATEGORIES:Music,Stage
ATTACH;FMTTYPE=image/png:https://onstageaz.com/wp-content/uploads/2025/05/Screenshot-2025-06-23-at-3.28.01-PM.png
END:VEVENT
END:VCALENDAR