BEGIN:VCALENDAR
VERSION:2.0
PRODID:-//ON Stage Arizona - ECPv6.15.18//NONSGML v1.0//EN
CALSCALE:GREGORIAN
METHOD:PUBLISH
X-WR-CALNAME:ON Stage Arizona
X-ORIGINAL-URL:https://onstageaz.com
X-WR-CALDESC:Events for ON Stage Arizona
REFRESH-INTERVAL;VALUE=DURATION:PT1H
X-Robots-Tag:noindex
X-PUBLISHED-TTL:PT1H
BEGIN:VTIMEZONE
TZID:America/Phoenix
BEGIN:STANDARD
TZOFFSETFROM:-0700
TZOFFSETTO:-0700
TZNAME:MST
DTSTART:20260101T000000
END:STANDARD
END:VTIMEZONE
BEGIN:VEVENT
DTSTART;TZID=America/Phoenix:20270817T193000
DTEND;TZID=America/Phoenix:20270817T213000
DTSTAMP:20260425T201544
CREATED:20260425T221240Z
LAST-MODIFIED:20260425T221240Z
UID:10017958-1818531000-1818538200@onstageaz.com
SUMMARY:The Great Gatsby
DESCRIPTION:THE PARTY’S ROARING IN TUCSON! Hailed by Entertainment Weekly as “a Broadway extravaganza that explodes with life and energy\,” THE GREAT GATSBY is the Tony Award®-winning new musical based on the classic American novel by F. Scott Fitzgerald. This story of extravagance and longing is “one wildly entertaining night at the theater and musical theater at its finest” (Theatrely).
URL:https://onstageaz.com/event/the-great-gatsby/2027-08-17/
LOCATION:Centennial Hall\, 1020 E. University Blvd\, Tucson\, AZ\, 85719\, United States
CATEGORIES:Music,Stage,Theatrical
ATTACH;FMTTYPE=image/jpeg:https://onstageaz.com/wp-content/uploads/2026/04/diWiiVVg.jpg
ORGANIZER;CN="Broadway In Tucson":MAILTO:info@broadwayintucson.com
END:VEVENT
BEGIN:VEVENT
DTSTART;TZID=America/Phoenix:20270818T193000
DTEND;TZID=America/Phoenix:20270818T213000
DTSTAMP:20260425T201544
CREATED:20260425T221240Z
LAST-MODIFIED:20260425T221240Z
UID:10018435-1818617400-1818624600@onstageaz.com
SUMMARY:The Great Gatsby
DESCRIPTION:THE PARTY’S ROARING IN TUCSON! Hailed by Entertainment Weekly as “a Broadway extravaganza that explodes with life and energy\,” THE GREAT GATSBY is the Tony Award®-winning new musical based on the classic American novel by F. Scott Fitzgerald. This story of extravagance and longing is “one wildly entertaining night at the theater and musical theater at its finest” (Theatrely).
URL:https://onstageaz.com/event/the-great-gatsby/2027-08-18/
LOCATION:Centennial Hall\, 1020 E. University Blvd\, Tucson\, AZ\, 85719\, United States
CATEGORIES:Music,Stage,Theatrical
ATTACH;FMTTYPE=image/jpeg:https://onstageaz.com/wp-content/uploads/2026/04/diWiiVVg.jpg
ORGANIZER;CN="Broadway In Tucson":MAILTO:info@broadwayintucson.com
END:VEVENT
BEGIN:VEVENT
DTSTART;TZID=America/Phoenix:20270819T193000
DTEND;TZID=America/Phoenix:20270819T213000
DTSTAMP:20260425T201544
CREATED:20260425T221240Z
LAST-MODIFIED:20260425T221240Z
UID:10018436-1818703800-1818711000@onstageaz.com
SUMMARY:The Great Gatsby
DESCRIPTION:THE PARTY’S ROARING IN TUCSON! Hailed by Entertainment Weekly as “a Broadway extravaganza that explodes with life and energy\,” THE GREAT GATSBY is the Tony Award®-winning new musical based on the classic American novel by F. Scott Fitzgerald. This story of extravagance and longing is “one wildly entertaining night at the theater and musical theater at its finest” (Theatrely).
URL:https://onstageaz.com/event/the-great-gatsby/2027-08-19/
LOCATION:Centennial Hall\, 1020 E. University Blvd\, Tucson\, AZ\, 85719\, United States
CATEGORIES:Music,Stage,Theatrical
ATTACH;FMTTYPE=image/jpeg:https://onstageaz.com/wp-content/uploads/2026/04/diWiiVVg.jpg
ORGANIZER;CN="Broadway In Tucson":MAILTO:info@broadwayintucson.com
END:VEVENT
BEGIN:VEVENT
DTSTART;TZID=America/Phoenix:20270820T193000
DTEND;TZID=America/Phoenix:20270820T213000
DTSTAMP:20260425T201544
CREATED:20260425T221240Z
LAST-MODIFIED:20260425T221240Z
UID:10018437-1818790200-1818797400@onstageaz.com
SUMMARY:The Great Gatsby
DESCRIPTION:THE PARTY’S ROARING IN TUCSON! Hailed by Entertainment Weekly as “a Broadway extravaganza that explodes with life and energy\,” THE GREAT GATSBY is the Tony Award®-winning new musical based on the classic American novel by F. Scott Fitzgerald. This story of extravagance and longing is “one wildly entertaining night at the theater and musical theater at its finest” (Theatrely).
URL:https://onstageaz.com/event/the-great-gatsby/2027-08-20/
LOCATION:Centennial Hall\, 1020 E. University Blvd\, Tucson\, AZ\, 85719\, United States
CATEGORIES:Music,Stage,Theatrical
ATTACH;FMTTYPE=image/jpeg:https://onstageaz.com/wp-content/uploads/2026/04/diWiiVVg.jpg
ORGANIZER;CN="Broadway In Tucson":MAILTO:info@broadwayintucson.com
END:VEVENT
BEGIN:VEVENT
DTSTART;TZID=America/Phoenix:20270821T140000
DTEND;TZID=America/Phoenix:20270821T160000
DTSTAMP:20260425T201544
CREATED:20260425T221240Z
LAST-MODIFIED:20260425T221240Z
UID:10018438-1818856800-1818864000@onstageaz.com
SUMMARY:The Great Gatsby
DESCRIPTION:THE PARTY’S ROARING IN TUCSON! Hailed by Entertainment Weekly as “a Broadway extravaganza that explodes with life and energy\,” THE GREAT GATSBY is the Tony Award®-winning new musical based on the classic American novel by F. Scott Fitzgerald. This story of extravagance and longing is “one wildly entertaining night at the theater and musical theater at its finest” (Theatrely).
URL:https://onstageaz.com/event/the-great-gatsby/2027-08-21/1/
LOCATION:Centennial Hall\, 1020 E. University Blvd\, Tucson\, AZ\, 85719\, United States
CATEGORIES:Music,Stage,Theatrical
ATTACH;FMTTYPE=image/jpeg:https://onstageaz.com/wp-content/uploads/2026/04/diWiiVVg.jpg
ORGANIZER;CN="Broadway In Tucson":MAILTO:info@broadwayintucson.com
END:VEVENT
BEGIN:VEVENT
DTSTART;TZID=America/Phoenix:20270821T193000
DTEND;TZID=America/Phoenix:20270821T213000
DTSTAMP:20260425T201544
CREATED:20260425T221240Z
LAST-MODIFIED:20260425T221240Z
UID:10018439-1818876600-1818883800@onstageaz.com
SUMMARY:The Great Gatsby
DESCRIPTION:THE PARTY’S ROARING IN TUCSON! Hailed by Entertainment Weekly as “a Broadway extravaganza that explodes with life and energy\,” THE GREAT GATSBY is the Tony Award®-winning new musical based on the classic American novel by F. Scott Fitzgerald. This story of extravagance and longing is “one wildly entertaining night at the theater and musical theater at its finest” (Theatrely).
URL:https://onstageaz.com/event/the-great-gatsby/2027-08-21/2/
LOCATION:Centennial Hall\, 1020 E. University Blvd\, Tucson\, AZ\, 85719\, United States
CATEGORIES:Music,Stage,Theatrical
ATTACH;FMTTYPE=image/jpeg:https://onstageaz.com/wp-content/uploads/2026/04/diWiiVVg.jpg
ORGANIZER;CN="Broadway In Tucson":MAILTO:info@broadwayintucson.com
END:VEVENT
BEGIN:VEVENT
DTSTART;TZID=America/Phoenix:20270822T130000
DTEND;TZID=America/Phoenix:20270822T150000
DTSTAMP:20260425T201544
CREATED:20260425T221240Z
LAST-MODIFIED:20260425T221240Z
UID:10018440-1818939600-1818946800@onstageaz.com
SUMMARY:The Great Gatsby
DESCRIPTION:THE PARTY’S ROARING IN TUCSON! Hailed by Entertainment Weekly as “a Broadway extravaganza that explodes with life and energy\,” THE GREAT GATSBY is the Tony Award®-winning new musical based on the classic American novel by F. Scott Fitzgerald. This story of extravagance and longing is “one wildly entertaining night at the theater and musical theater at its finest” (Theatrely).
URL:https://onstageaz.com/event/the-great-gatsby/2027-08-22/1/
LOCATION:Centennial Hall\, 1020 E. University Blvd\, Tucson\, AZ\, 85719\, United States
CATEGORIES:Music,Stage,Theatrical
ATTACH;FMTTYPE=image/jpeg:https://onstageaz.com/wp-content/uploads/2026/04/diWiiVVg.jpg
ORGANIZER;CN="Broadway In Tucson":MAILTO:info@broadwayintucson.com
END:VEVENT
BEGIN:VEVENT
DTSTART;TZID=America/Phoenix:20270822T183000
DTEND;TZID=America/Phoenix:20270822T203000
DTSTAMP:20260425T201544
CREATED:20260425T221240Z
LAST-MODIFIED:20260425T221240Z
UID:10018441-1818959400-1818966600@onstageaz.com
SUMMARY:The Great Gatsby
DESCRIPTION:THE PARTY’S ROARING IN TUCSON! Hailed by Entertainment Weekly as “a Broadway extravaganza that explodes with life and energy\,” THE GREAT GATSBY is the Tony Award®-winning new musical based on the classic American novel by F. Scott Fitzgerald. This story of extravagance and longing is “one wildly entertaining night at the theater and musical theater at its finest” (Theatrely).
URL:https://onstageaz.com/event/the-great-gatsby/2027-08-22/2/
LOCATION:Centennial Hall\, 1020 E. University Blvd\, Tucson\, AZ\, 85719\, United States
CATEGORIES:Music,Stage,Theatrical
ATTACH;FMTTYPE=image/jpeg:https://onstageaz.com/wp-content/uploads/2026/04/diWiiVVg.jpg
ORGANIZER;CN="Broadway In Tucson":MAILTO:info@broadwayintucson.com
END:VEVENT
END:VCALENDAR