BEGIN:VCALENDAR
VERSION:2.0
PRODID:-//ON Stage Arizona - ECPv6.15.18//NONSGML v1.0//EN
CALSCALE:GREGORIAN
METHOD:PUBLISH
X-WR-CALNAME:ON Stage Arizona
X-ORIGINAL-URL:https://onstageaz.com
X-WR-CALDESC:Events for ON Stage Arizona
REFRESH-INTERVAL;VALUE=DURATION:PT1H
X-Robots-Tag:noindex
X-PUBLISHED-TTL:PT1H
BEGIN:VTIMEZONE
TZID:America/Phoenix
BEGIN:STANDARD
TZOFFSETFROM:-0700
TZOFFSETTO:-0700
TZNAME:MST
DTSTART:20250101T000000
END:STANDARD
END:VTIMEZONE
BEGIN:VEVENT
DTSTART;TZID=America/Phoenix:20260802T190000
DTEND;TZID=America/Phoenix:20260802T210000
DTSTAMP:20260424T133559
CREATED:20260414T005253Z
LAST-MODIFIED:20260414T005253Z
UID:10017914-1785697200-1785704400@onstageaz.com
SUMMARY:One Night of Queen
DESCRIPTION:“More than a likeness’”– Brian May\, Queen \nFor over 20 years Gary Mullen and The Works have been performing their world-renowned One Night of Queen live concert. \nGary Mullen & The Works featuring Gary Mullen on vocals\, David Brockett on guitar\, Malcolm Gentles on keyboards\, Jon Halliwell on drums and Alan McGeoch on bass guitar will have you dancing in the aisles during their show\, while the band pays tribute to the stage theatrics\, showmanship\, and music of arguably the greatest rock band of all time: Queen. \n\n  \nIn 2000\, Gary Mullen won the Granada TV programme “Stars in Their Eyes” with his performance as Queen’s lead singer: Freddie Mercury. Mullen’s embodiment of Freddie Mercury resulted in him gaining 864\,838 votes in the show’s Live Grand Final. The number of fans who voted for Mullen was more than double that of the runner-up\, thus setting the all time record number of votes in the history of the programme. For over two decades\, Gary Mullen & The Works have performed to audiences around the world\, playing more than 2\,500 live shows to audiences in over 20 countries – performing and selling out many of the same venues that Queen have\, all around the world. As of 2023\, they are the most successful tribute band in France\, playing to over 250\,000 people! \nThey WILL ROCK YOU and are GUARANTEED TO BLOW YOUR MIND! Don’t miss your chance to celebrate One Night Of Queen with Gary Mullen & The Works! \nThe Show DOES go on! \n\n\n 
URL:https://onstageaz.com/event/one-night-of-queen/
LOCATION:Fox Tucson Theatre\, 17 W Congress St\, Tucson\, AZ\, 85701\, United States
CATEGORIES:Music,Stage
ATTACH;FMTTYPE=image/png:https://onstageaz.com/wp-content/uploads/2026/04/Screenshot-2026-04-13-at-5.51.18-PM.png
ORGANIZER;CN="Fox Tucson Theatre":MAILTO:foxinfo@foxtucson.com
END:VEVENT
BEGIN:VEVENT
DTSTART;TZID=America/Phoenix:20260807T190000
DTEND;TZID=America/Phoenix:20260807T210000
DTSTAMP:20260424T133559
CREATED:20260320T232312Z
LAST-MODIFIED:20260320T232312Z
UID:10016777-1786129200-1786136400@onstageaz.com
SUMMARY:Home\, I’m Darling by Laura Wade
DESCRIPTION:What happens when retro dreams collide with modern realities? Home\, I’m Darling takes you inside the life of Judy\, a woman who’s reinvented herself as the perfect 1950s housewife—complete with cocktail dresses\, impeccable manners\, and a picture-perfect home. But when the pressure of maintaining her vintage fantasy begins to crack\, Judy must confront the cost of living in an idealized past. Funny\, sharp\, and unexpectedly poignant\, this play explores identity\, marriage\, and the struggle to balance fantasy with reality. A captivating\, thought-provoking ride through a world where appearances can be deceiving and the search for happiness takes surprising turns. \nFridays at 7:00pm – May 1\, 8\, 15\, & 22\, 2026\nSaturdays at 7:00pm – May 2 & 9\, 2026 || Saturdays at 2:00pm – May 16 & 23\, 2026\nSundays at 2:00pm – May 3\, 10\, 17\, & 24\, 2026
URL:https://onstageaz.com/event/home-im-darling-by-laura-wade/2026-08-07/
LOCATION:Live Theatre Workshop\, 3322 E Fort Lowell Rd\, Tucson\, AZ\, 85716\, United States
CATEGORIES:Stage,Theatrical
ATTACH;FMTTYPE=image/png:https://onstageaz.com/wp-content/uploads/2026/02/Home-Im-Darling-1920x1080-1.png
ORGANIZER;CN="Live Theatre Workshop":MAILTO:livetheatreworkshop@gmail.com
END:VEVENT
BEGIN:VEVENT
DTSTART;TZID=America/Phoenix:20260814T190000
DTEND;TZID=America/Phoenix:20260814T210000
DTSTAMP:20260424T133559
CREATED:20260320T232312Z
LAST-MODIFIED:20260320T232312Z
UID:10016778-1786734000-1786741200@onstageaz.com
SUMMARY:Home\, I’m Darling by Laura Wade
DESCRIPTION:What happens when retro dreams collide with modern realities? Home\, I’m Darling takes you inside the life of Judy\, a woman who’s reinvented herself as the perfect 1950s housewife—complete with cocktail dresses\, impeccable manners\, and a picture-perfect home. But when the pressure of maintaining her vintage fantasy begins to crack\, Judy must confront the cost of living in an idealized past. Funny\, sharp\, and unexpectedly poignant\, this play explores identity\, marriage\, and the struggle to balance fantasy with reality. A captivating\, thought-provoking ride through a world where appearances can be deceiving and the search for happiness takes surprising turns. \nFridays at 7:00pm – May 1\, 8\, 15\, & 22\, 2026\nSaturdays at 7:00pm – May 2 & 9\, 2026 || Saturdays at 2:00pm – May 16 & 23\, 2026\nSundays at 2:00pm – May 3\, 10\, 17\, & 24\, 2026
URL:https://onstageaz.com/event/home-im-darling-by-laura-wade/2026-08-14/
LOCATION:Live Theatre Workshop\, 3322 E Fort Lowell Rd\, Tucson\, AZ\, 85716\, United States
CATEGORIES:Stage,Theatrical
ATTACH;FMTTYPE=image/png:https://onstageaz.com/wp-content/uploads/2026/02/Home-Im-Darling-1920x1080-1.png
ORGANIZER;CN="Live Theatre Workshop":MAILTO:livetheatreworkshop@gmail.com
END:VEVENT
BEGIN:VEVENT
DTSTART;TZID=America/Phoenix:20260818T193000
DTEND;TZID=America/Phoenix:20260818T220500
DTSTAMP:20260424T133559
CREATED:20250527T204106Z
LAST-MODIFIED:20260325T191613Z
UID:10012901-1787081400-1787090700@onstageaz.com
SUMMARY:Hell’s Kitchen
DESCRIPTION:Hell’s Kitchen at Centennial Hall in Tucson\, Arizona \nBroadway in Tucson presents Hell’s Kitchen\, a moving 90s-inspired musical drama at Centennial Hall. Ali rebels against her overprotective single mother until a neighbor and mentor opens her heart to the power of the piano. Set to the vibrant rhythm of 90s music\, Hell’s Kitchen explores a mother-daughter love story\, self-discovery\, and the community that lifts us up. Witness Ali’s journey from confusion to confidence as she rediscovers where dreams begin. \nDon’t miss this heartfelt tale of music\, family\, and purpose. Reserve your seats early—Hell’s Kitchen promises to stir your soul and reignite your dreams under the Tucson spotlight!
URL:https://onstageaz.com/event/hells-kitchen/2026-08-18/
LOCATION:Centennial Hall\, 1020 E. University Blvd\, Tucson\, AZ\, 85719\, United States
CATEGORIES:Music,Stage,Theatrical
ATTACH;FMTTYPE=image/jpeg:https://onstageaz.com/wp-content/uploads/2025/05/ZjsOT9eU.jpg
ORGANIZER;CN="Broadway In Tucson":MAILTO:info@broadwayintucson.com
END:VEVENT
BEGIN:VEVENT
DTSTART;TZID=America/Phoenix:20260819T193000
DTEND;TZID=America/Phoenix:20260819T220500
DTSTAMP:20260424T133559
CREATED:20250527T204106Z
LAST-MODIFIED:20260325T191613Z
UID:10013201-1787167800-1787177100@onstageaz.com
SUMMARY:Hell’s Kitchen
DESCRIPTION:Hell’s Kitchen at Centennial Hall in Tucson\, Arizona \nBroadway in Tucson presents Hell’s Kitchen\, a moving 90s-inspired musical drama at Centennial Hall. Ali rebels against her overprotective single mother until a neighbor and mentor opens her heart to the power of the piano. Set to the vibrant rhythm of 90s music\, Hell’s Kitchen explores a mother-daughter love story\, self-discovery\, and the community that lifts us up. Witness Ali’s journey from confusion to confidence as she rediscovers where dreams begin. \nDon’t miss this heartfelt tale of music\, family\, and purpose. Reserve your seats early—Hell’s Kitchen promises to stir your soul and reignite your dreams under the Tucson spotlight!
URL:https://onstageaz.com/event/hells-kitchen/2026-08-19/
LOCATION:Centennial Hall\, 1020 E. University Blvd\, Tucson\, AZ\, 85719\, United States
CATEGORIES:Music,Stage,Theatrical
ATTACH;FMTTYPE=image/jpeg:https://onstageaz.com/wp-content/uploads/2025/05/ZjsOT9eU.jpg
ORGANIZER;CN="Broadway In Tucson":MAILTO:info@broadwayintucson.com
END:VEVENT
BEGIN:VEVENT
DTSTART;TZID=America/Phoenix:20260820T193000
DTEND;TZID=America/Phoenix:20260820T220500
DTSTAMP:20260424T133559
CREATED:20250527T204106Z
LAST-MODIFIED:20260325T191613Z
UID:10013202-1787254200-1787263500@onstageaz.com
SUMMARY:Hell’s Kitchen
DESCRIPTION:Hell’s Kitchen at Centennial Hall in Tucson\, Arizona \nBroadway in Tucson presents Hell’s Kitchen\, a moving 90s-inspired musical drama at Centennial Hall. Ali rebels against her overprotective single mother until a neighbor and mentor opens her heart to the power of the piano. Set to the vibrant rhythm of 90s music\, Hell’s Kitchen explores a mother-daughter love story\, self-discovery\, and the community that lifts us up. Witness Ali’s journey from confusion to confidence as she rediscovers where dreams begin. \nDon’t miss this heartfelt tale of music\, family\, and purpose. Reserve your seats early—Hell’s Kitchen promises to stir your soul and reignite your dreams under the Tucson spotlight!
URL:https://onstageaz.com/event/hells-kitchen/2026-08-20/
LOCATION:Centennial Hall\, 1020 E. University Blvd\, Tucson\, AZ\, 85719\, United States
CATEGORIES:Music,Stage,Theatrical
ATTACH;FMTTYPE=image/jpeg:https://onstageaz.com/wp-content/uploads/2025/05/ZjsOT9eU.jpg
ORGANIZER;CN="Broadway In Tucson":MAILTO:info@broadwayintucson.com
END:VEVENT
BEGIN:VEVENT
DTSTART;TZID=America/Phoenix:20260821T190000
DTEND;TZID=America/Phoenix:20260821T210000
DTSTAMP:20260424T133559
CREATED:20260320T232312Z
LAST-MODIFIED:20260320T232312Z
UID:10016779-1787338800-1787346000@onstageaz.com
SUMMARY:Home\, I’m Darling by Laura Wade
DESCRIPTION:What happens when retro dreams collide with modern realities? Home\, I’m Darling takes you inside the life of Judy\, a woman who’s reinvented herself as the perfect 1950s housewife—complete with cocktail dresses\, impeccable manners\, and a picture-perfect home. But when the pressure of maintaining her vintage fantasy begins to crack\, Judy must confront the cost of living in an idealized past. Funny\, sharp\, and unexpectedly poignant\, this play explores identity\, marriage\, and the struggle to balance fantasy with reality. A captivating\, thought-provoking ride through a world where appearances can be deceiving and the search for happiness takes surprising turns. \nFridays at 7:00pm – May 1\, 8\, 15\, & 22\, 2026\nSaturdays at 7:00pm – May 2 & 9\, 2026 || Saturdays at 2:00pm – May 16 & 23\, 2026\nSundays at 2:00pm – May 3\, 10\, 17\, & 24\, 2026
URL:https://onstageaz.com/event/home-im-darling-by-laura-wade/2026-08-21/
LOCATION:Live Theatre Workshop\, 3322 E Fort Lowell Rd\, Tucson\, AZ\, 85716\, United States
CATEGORIES:Stage,Theatrical
ATTACH;FMTTYPE=image/png:https://onstageaz.com/wp-content/uploads/2026/02/Home-Im-Darling-1920x1080-1.png
ORGANIZER;CN="Live Theatre Workshop":MAILTO:livetheatreworkshop@gmail.com
END:VEVENT
BEGIN:VEVENT
DTSTART;TZID=America/Phoenix:20260821T193000
DTEND;TZID=America/Phoenix:20260821T213000
DTSTAMP:20260424T133559
CREATED:20260414T005601Z
LAST-MODIFIED:20260414T005735Z
UID:10017915-1787340600-1787347800@onstageaz.com
SUMMARY:Tab Benoit: Soul of the Swamp Tour: With Support From Zac Schulze Gang
DESCRIPTION:Join us for an exhilarating evening as the legendary multi-Grammy nominee and wetlands activist Tab Benoit brings his high-energy Soul of the Swamp Tour 2026 to stages across America. Known for his passionate performances and deep-rooted connection to the swamp\, Tab Benoit is a true master of his craft\, boasting over 20 releases that showcase his unique artistry. \nWith iconic radio hits like “Nice and Warm” and “Cross the Line” from his 90s recordings\, critics have often described Benoit’s voice as “Otis Redding-ish\,” while his guitar playing is celebrated for its originality and distinctive style. In 2024\, he made a triumphant return with his first recording in 13 years\, **I Hear Thunder**\, signaling that his best work is yet to come. \nOn the Soul of the Swamp Tour\, Tab will take you on a musical journey\, performing songs from his vast catalog and digging deep into the rich tones and storytelling lyrics that have made him a​n admired figure in the music world. True to his authentic style\, Tab performs without effects—just a guitar\, a cord\, and an amp—allowing the magic of his music to shine through his hands​\, fingers\, and his band. \nTab Benoit is a 4x Grammy nominated singer\, songwriter and guitarist who has built a remarkable 30+ year career on the foundation of his gritty and soulful Delta swamp blues\, acquiring a devoted legion of fans along the way\, as well as 5 Blues Music Awards\, including BB King Entertainer of the Year (twice) and an induction into The Louisiana Music Hall of Fame. \n\n  \nAfter a 13-year hiatus\, Tab is back with his latest effort\, I Hear Thunder\, on his own label\, Whiskey Bayou Records. The new album was his first #1 in the Billboard charts in over 30 years. Read more about it in Billboard here.. Benoit’s 2013 release\, Medicine\, was co-produced with Anders Osborne for Concord International\, and garnered three Blues Music Awards. Following this notable success\, Benoit took a step away from music\, taking a 13-year sabbatical from recording and entering a period of creative exile. \nTab’s accomplishments as a musician are matched only by his devotion to the environmental health of his native Louisiana wetlands. The notoriety achieved by his success provided him with a mouthpiece to promote his growing concern for the Louisiana Wetlands and coastal erosion from the region he calls home. Benoit is the founder and driving force behind Voice of the Wetlands\, an organization working to preserve the coastal waters of his home state. In 2010\, he received the Governor’s Award for Conservationist of the Year from the Louisiana Wildlife Federation. Benoit has also starred in the iMax motion picture Hurricane on the Bayou\, a documentary of Hurricane Katrina’s effects and a call to protect and restore the Wetlands. \nBenoit has recorded and/or performed with Junior Wells\, George Porter Jr\, Dr. John\, Willie Nelson\, Big Chief Monk Boudreaux\, Billy Joe Shaver\, Maria Muldaur\, James Cotton\, Cyril Neville\, Kenny Aronoff\, Allen Toussaint\, Kim Wilson\, Jimmy Thackery\, Charlie Musslewhite\, Kenny Neal\, Chris Layton\, Ivan Neville\, Jimmy Hall\, Jim Lauderdale\, Anders Osborne\, and Alvin Youngblood Hart to name a few. \n\n 
URL:https://onstageaz.com/event/tab-benoit-soul-of-the-swamp-tour-with-support-from-zac-schulze-gang/
LOCATION:Fox Tucson Theatre\, 17 W Congress St\, Tucson\, AZ\, 85701\, United States
CATEGORIES:Music,Stage
ATTACH;FMTTYPE=image/png:https://onstageaz.com/wp-content/uploads/2026/04/Screenshot-2026-04-13-at-5.55.08-PM-1.png
ORGANIZER;CN="Fox Tucson Theatre":MAILTO:foxinfo@foxtucson.com
END:VEVENT
BEGIN:VEVENT
DTSTART;TZID=America/Phoenix:20260821T193000
DTEND;TZID=America/Phoenix:20260821T220500
DTSTAMP:20260424T133559
CREATED:20250527T204106Z
LAST-MODIFIED:20260325T191613Z
UID:10013203-1787340600-1787349900@onstageaz.com
SUMMARY:Hell’s Kitchen
DESCRIPTION:Hell’s Kitchen at Centennial Hall in Tucson\, Arizona \nBroadway in Tucson presents Hell’s Kitchen\, a moving 90s-inspired musical drama at Centennial Hall. Ali rebels against her overprotective single mother until a neighbor and mentor opens her heart to the power of the piano. Set to the vibrant rhythm of 90s music\, Hell’s Kitchen explores a mother-daughter love story\, self-discovery\, and the community that lifts us up. Witness Ali’s journey from confusion to confidence as she rediscovers where dreams begin. \nDon’t miss this heartfelt tale of music\, family\, and purpose. Reserve your seats early—Hell’s Kitchen promises to stir your soul and reignite your dreams under the Tucson spotlight!
URL:https://onstageaz.com/event/hells-kitchen/2026-08-21/
LOCATION:Centennial Hall\, 1020 E. University Blvd\, Tucson\, AZ\, 85719\, United States
CATEGORIES:Music,Stage,Theatrical
ATTACH;FMTTYPE=image/jpeg:https://onstageaz.com/wp-content/uploads/2025/05/ZjsOT9eU.jpg
ORGANIZER;CN="Broadway In Tucson":MAILTO:info@broadwayintucson.com
END:VEVENT
BEGIN:VEVENT
DTSTART;TZID=America/Phoenix:20260822T140000
DTEND;TZID=America/Phoenix:20260822T163500
DTSTAMP:20260424T133559
CREATED:20250527T204106Z
LAST-MODIFIED:20260325T191613Z
UID:10013204-1787407200-1787416500@onstageaz.com
SUMMARY:Hell’s Kitchen
DESCRIPTION:Hell’s Kitchen at Centennial Hall in Tucson\, Arizona \nBroadway in Tucson presents Hell’s Kitchen\, a moving 90s-inspired musical drama at Centennial Hall. Ali rebels against her overprotective single mother until a neighbor and mentor opens her heart to the power of the piano. Set to the vibrant rhythm of 90s music\, Hell’s Kitchen explores a mother-daughter love story\, self-discovery\, and the community that lifts us up. Witness Ali’s journey from confusion to confidence as she rediscovers where dreams begin. \nDon’t miss this heartfelt tale of music\, family\, and purpose. Reserve your seats early—Hell’s Kitchen promises to stir your soul and reignite your dreams under the Tucson spotlight!
URL:https://onstageaz.com/event/hells-kitchen/2026-08-22/1/
LOCATION:Centennial Hall\, 1020 E. University Blvd\, Tucson\, AZ\, 85719\, United States
CATEGORIES:Music,Stage,Theatrical
ATTACH;FMTTYPE=image/jpeg:https://onstageaz.com/wp-content/uploads/2025/05/ZjsOT9eU.jpg
ORGANIZER;CN="Broadway In Tucson":MAILTO:info@broadwayintucson.com
END:VEVENT
BEGIN:VEVENT
DTSTART;TZID=America/Phoenix:20260822T193000
DTEND;TZID=America/Phoenix:20260822T220500
DTSTAMP:20260424T133559
CREATED:20250527T204106Z
LAST-MODIFIED:20260325T191613Z
UID:10013205-1787427000-1787436300@onstageaz.com
SUMMARY:Hell’s Kitchen
DESCRIPTION:Hell’s Kitchen at Centennial Hall in Tucson\, Arizona \nBroadway in Tucson presents Hell’s Kitchen\, a moving 90s-inspired musical drama at Centennial Hall. Ali rebels against her overprotective single mother until a neighbor and mentor opens her heart to the power of the piano. Set to the vibrant rhythm of 90s music\, Hell’s Kitchen explores a mother-daughter love story\, self-discovery\, and the community that lifts us up. Witness Ali’s journey from confusion to confidence as she rediscovers where dreams begin. \nDon’t miss this heartfelt tale of music\, family\, and purpose. Reserve your seats early—Hell’s Kitchen promises to stir your soul and reignite your dreams under the Tucson spotlight!
URL:https://onstageaz.com/event/hells-kitchen/2026-08-22/2/
LOCATION:Centennial Hall\, 1020 E. University Blvd\, Tucson\, AZ\, 85719\, United States
CATEGORIES:Music,Stage,Theatrical
ATTACH;FMTTYPE=image/jpeg:https://onstageaz.com/wp-content/uploads/2025/05/ZjsOT9eU.jpg
ORGANIZER;CN="Broadway In Tucson":MAILTO:info@broadwayintucson.com
END:VEVENT
BEGIN:VEVENT
DTSTART;TZID=America/Phoenix:20260823T130000
DTEND;TZID=America/Phoenix:20260823T153500
DTSTAMP:20260424T133559
CREATED:20250527T204106Z
LAST-MODIFIED:20260325T191613Z
UID:10013206-1787490000-1787499300@onstageaz.com
SUMMARY:Hell’s Kitchen
DESCRIPTION:Hell’s Kitchen at Centennial Hall in Tucson\, Arizona \nBroadway in Tucson presents Hell’s Kitchen\, a moving 90s-inspired musical drama at Centennial Hall. Ali rebels against her overprotective single mother until a neighbor and mentor opens her heart to the power of the piano. Set to the vibrant rhythm of 90s music\, Hell’s Kitchen explores a mother-daughter love story\, self-discovery\, and the community that lifts us up. Witness Ali’s journey from confusion to confidence as she rediscovers where dreams begin. \nDon’t miss this heartfelt tale of music\, family\, and purpose. Reserve your seats early—Hell’s Kitchen promises to stir your soul and reignite your dreams under the Tucson spotlight!
URL:https://onstageaz.com/event/hells-kitchen/2026-08-23/1/
LOCATION:Centennial Hall\, 1020 E. University Blvd\, Tucson\, AZ\, 85719\, United States
CATEGORIES:Music,Stage,Theatrical
ATTACH;FMTTYPE=image/jpeg:https://onstageaz.com/wp-content/uploads/2025/05/ZjsOT9eU.jpg
ORGANIZER;CN="Broadway In Tucson":MAILTO:info@broadwayintucson.com
END:VEVENT
BEGIN:VEVENT
DTSTART;TZID=America/Phoenix:20260823T183000
DTEND;TZID=America/Phoenix:20260823T210500
DTSTAMP:20260424T133559
CREATED:20250527T204106Z
LAST-MODIFIED:20260325T191613Z
UID:10013207-1787509800-1787519100@onstageaz.com
SUMMARY:Hell’s Kitchen
DESCRIPTION:Hell’s Kitchen at Centennial Hall in Tucson\, Arizona \nBroadway in Tucson presents Hell’s Kitchen\, a moving 90s-inspired musical drama at Centennial Hall. Ali rebels against her overprotective single mother until a neighbor and mentor opens her heart to the power of the piano. Set to the vibrant rhythm of 90s music\, Hell’s Kitchen explores a mother-daughter love story\, self-discovery\, and the community that lifts us up. Witness Ali’s journey from confusion to confidence as she rediscovers where dreams begin. \nDon’t miss this heartfelt tale of music\, family\, and purpose. Reserve your seats early—Hell’s Kitchen promises to stir your soul and reignite your dreams under the Tucson spotlight!
URL:https://onstageaz.com/event/hells-kitchen/2026-08-23/2/
LOCATION:Centennial Hall\, 1020 E. University Blvd\, Tucson\, AZ\, 85719\, United States
CATEGORIES:Music,Stage,Theatrical
ATTACH;FMTTYPE=image/jpeg:https://onstageaz.com/wp-content/uploads/2025/05/ZjsOT9eU.jpg
ORGANIZER;CN="Broadway In Tucson":MAILTO:info@broadwayintucson.com
END:VEVENT
BEGIN:VEVENT
DTSTART;TZID=America/Phoenix:20260828T190000
DTEND;TZID=America/Phoenix:20260828T210000
DTSTAMP:20260424T133559
CREATED:20260320T232312Z
LAST-MODIFIED:20260320T232312Z
UID:10016780-1787943600-1787950800@onstageaz.com
SUMMARY:Home\, I’m Darling by Laura Wade
DESCRIPTION:What happens when retro dreams collide with modern realities? Home\, I’m Darling takes you inside the life of Judy\, a woman who’s reinvented herself as the perfect 1950s housewife—complete with cocktail dresses\, impeccable manners\, and a picture-perfect home. But when the pressure of maintaining her vintage fantasy begins to crack\, Judy must confront the cost of living in an idealized past. Funny\, sharp\, and unexpectedly poignant\, this play explores identity\, marriage\, and the struggle to balance fantasy with reality. A captivating\, thought-provoking ride through a world where appearances can be deceiving and the search for happiness takes surprising turns. \nFridays at 7:00pm – May 1\, 8\, 15\, & 22\, 2026\nSaturdays at 7:00pm – May 2 & 9\, 2026 || Saturdays at 2:00pm – May 16 & 23\, 2026\nSundays at 2:00pm – May 3\, 10\, 17\, & 24\, 2026
URL:https://onstageaz.com/event/home-im-darling-by-laura-wade/2026-08-28/
LOCATION:Live Theatre Workshop\, 3322 E Fort Lowell Rd\, Tucson\, AZ\, 85716\, United States
CATEGORIES:Stage,Theatrical
ATTACH;FMTTYPE=image/png:https://onstageaz.com/wp-content/uploads/2026/02/Home-Im-Darling-1920x1080-1.png
ORGANIZER;CN="Live Theatre Workshop":MAILTO:livetheatreworkshop@gmail.com
END:VEVENT
BEGIN:VEVENT
DTSTART;TZID=America/Phoenix:20260829T190000
DTEND;TZID=America/Phoenix:20260829T210000
DTSTAMP:20260424T133559
CREATED:20260414T010054Z
LAST-MODIFIED:20260414T010054Z
UID:10017916-1788030000-1788037200@onstageaz.com
SUMMARY:I Love The ’80s: A Flock Of Seagulls\, Bow Wow Wow\, and Animotion
DESCRIPTION:A Flock of Seagulls were one of prime movers in the ’80s new wave era\, growing out of the synth-heavy and ruthlessly stylish new romantic movement. Hairdresser Mike Score (lead vocals\, keyboards) formed A Flock of Seagulls with his brother Ali (drums) and fellow hairdresser Frank Maudsley (bass) in 1980\, adding guitarist Paul Reynolds several months later. The band released their eponymous debut album in 1982 and released “I Ran (So Far Away)” as the first single\, which climbed into the American Top Ten. Other hits include “Wishing (If I Had a Photograph of You)\,” “Space Age Love Song\,” and “The More You Live\, The More You Love.” In 2024\, Mike Score returned with the sixth A Flock of Seagulls album Some Dreams\, the first studio album in over 19 years. The album featured all new compositions and showcased that songwriting talent that Mike still\, at 71\, can dish out with effortless aplomb. \nAnnabella Lwin\, at the tender age of fourteen\, was one of the most photographed\, talked about\, and popular vocalists in the early 80s with her band\, Bow Wow Wow\, who enjoyed success with hits such as: “C30\, C60\, C90 Go!\,” “Go Wild in the Country\,” “Do You Wanna Hold Me\,” and “I Want Candy.” Her unique vocals\, which swung between sweet fourteen and a Balinese banshee\, defined the sound of a new and energetic new pop culture \nFormed at the peak of the new wave movement\, Animotion recorded three albums in the 80s\, then disappeared for a decade. In the 21st century\, Bill Wadhams and Astrid Plane reunited with keyboard player Greg Smith and drummer Jim Blair\, and they’ve been rocking ever since. Chris Wadhams\, Wyatt Blair\, and Paul Trubachik join the band at selected shows. In 2017\, they released a new album\, “Raise Your Expectations.”
URL:https://onstageaz.com/event/i-love-the-80s-a-flock-of-seagulls-bow-wow-wow-and-animotion/
LOCATION:Fox Tucson Theatre\, 17 W Congress St\, Tucson\, AZ\, 85701\, United States
CATEGORIES:Music,speakers,Stage
ATTACH;FMTTYPE=image/png:https://onstageaz.com/wp-content/uploads/2026/04/Screenshot-2026-04-13-at-5.59.25-PM.png
ORGANIZER;CN="Fox Tucson Theatre":MAILTO:foxinfo@foxtucson.com
END:VEVENT
END:VCALENDAR