BEGIN:VCALENDAR
VERSION:2.0
PRODID:-//ON Stage Arizona - ECPv6.15.18//NONSGML v1.0//EN
CALSCALE:GREGORIAN
METHOD:PUBLISH
X-WR-CALNAME:ON Stage Arizona
X-ORIGINAL-URL:https://onstageaz.com
X-WR-CALDESC:Events for ON Stage Arizona
REFRESH-INTERVAL;VALUE=DURATION:PT1H
X-Robots-Tag:noindex
X-PUBLISHED-TTL:PT1H
BEGIN:VTIMEZONE
TZID:America/Phoenix
BEGIN:STANDARD
TZOFFSETFROM:-0700
TZOFFSETTO:-0700
TZNAME:MST
DTSTART:20260101T000000
END:STANDARD
END:VTIMEZONE
BEGIN:VEVENT
DTSTART;TZID=America/Phoenix:20270523T130000
DTEND;TZID=America/Phoenix:20270523T150000
DTSTAMP:20260425T190126
CREATED:20260425T221033Z
LAST-MODIFIED:20260425T221033Z
UID:10018433-1811077200-1811084400@onstageaz.com
SUMMARY:Six
DESCRIPTION:From Tudor Queens to Pop Princesses\, the SIX wives of Henry VIII take the mic to remix five hundred years of historical heartbreak into an exuberant celebration of 21st century girl power! This new original musical is the global sensation that everyone is losing their head over. The New York Times says SIX “TOTALLY RULES!” (Critic’s Pick) and The Washington Post hails SIX as “Exactly the kind of energizing\, inspirational illumination this town aches for! The Broadway season got supercharged!”
URL:https://onstageaz.com/event/six-2/2027-05-23/1/
LOCATION:Centennial Hall\, 1020 E. University Blvd\, Tucson\, AZ\, 85719\, United States
CATEGORIES:Music,Stage,Theatrical
ATTACH;FMTTYPE=image/jpeg:https://onstageaz.com/wp-content/uploads/2026/04/fiTep66Q.jpg
ORGANIZER;CN="Broadway In Tucson":MAILTO:info@broadwayintucson.com
END:VEVENT
BEGIN:VEVENT
DTSTART;TZID=America/Phoenix:20270523T183000
DTEND;TZID=America/Phoenix:20270523T203000
DTSTAMP:20260425T190126
CREATED:20260425T221033Z
LAST-MODIFIED:20260425T221033Z
UID:10018434-1811097000-1811104200@onstageaz.com
SUMMARY:Six
DESCRIPTION:From Tudor Queens to Pop Princesses\, the SIX wives of Henry VIII take the mic to remix five hundred years of historical heartbreak into an exuberant celebration of 21st century girl power! This new original musical is the global sensation that everyone is losing their head over. The New York Times says SIX “TOTALLY RULES!” (Critic’s Pick) and The Washington Post hails SIX as “Exactly the kind of energizing\, inspirational illumination this town aches for! The Broadway season got supercharged!”
URL:https://onstageaz.com/event/six-2/2027-05-23/2/
LOCATION:Centennial Hall\, 1020 E. University Blvd\, Tucson\, AZ\, 85719\, United States
CATEGORIES:Music,Stage,Theatrical
ATTACH;FMTTYPE=image/jpeg:https://onstageaz.com/wp-content/uploads/2026/04/fiTep66Q.jpg
ORGANIZER;CN="Broadway In Tucson":MAILTO:info@broadwayintucson.com
END:VEVENT
END:VCALENDAR