BEGIN:VCALENDAR
VERSION:2.0
PRODID:-//ON Stage Arizona - ECPv6.15.18//NONSGML v1.0//EN
CALSCALE:GREGORIAN
METHOD:PUBLISH
X-WR-CALNAME:ON Stage Arizona
X-ORIGINAL-URL:https://onstageaz.com
X-WR-CALDESC:Events for ON Stage Arizona
REFRESH-INTERVAL;VALUE=DURATION:PT1H
X-Robots-Tag:noindex
X-PUBLISHED-TTL:PT1H
BEGIN:VTIMEZONE
TZID:America/Phoenix
BEGIN:STANDARD
TZOFFSETFROM:-0700
TZOFFSETTO:-0700
TZNAME:MST
DTSTART:20260101T000000
END:STANDARD
END:VTIMEZONE
BEGIN:VEVENT
DTSTART;TZID=America/Phoenix:20270521T190000
DTEND;TZID=America/Phoenix:20270521T210000
DTSTAMP:20260425T172718
CREATED:20260320T232312Z
LAST-MODIFIED:20260320T232312Z
UID:10016818-1810926000-1810933200@onstageaz.com
SUMMARY:Home\, I’m Darling by Laura Wade
DESCRIPTION:What happens when retro dreams collide with modern realities? Home\, I’m Darling takes you inside the life of Judy\, a woman who’s reinvented herself as the perfect 1950s housewife—complete with cocktail dresses\, impeccable manners\, and a picture-perfect home. But when the pressure of maintaining her vintage fantasy begins to crack\, Judy must confront the cost of living in an idealized past. Funny\, sharp\, and unexpectedly poignant\, this play explores identity\, marriage\, and the struggle to balance fantasy with reality. A captivating\, thought-provoking ride through a world where appearances can be deceiving and the search for happiness takes surprising turns. \nFridays at 7:00pm – May 1\, 8\, 15\, & 22\, 2026\nSaturdays at 7:00pm – May 2 & 9\, 2026 || Saturdays at 2:00pm – May 16 & 23\, 2026\nSundays at 2:00pm – May 3\, 10\, 17\, & 24\, 2026
URL:https://onstageaz.com/event/home-im-darling-by-laura-wade/2027-05-21/
LOCATION:Live Theatre Workshop\, 3322 E Fort Lowell Rd\, Tucson\, AZ\, 85716\, United States
CATEGORIES:Stage,Theatrical
ATTACH;FMTTYPE=image/png:https://onstageaz.com/wp-content/uploads/2026/02/Home-Im-Darling-1920x1080-1.png
ORGANIZER;CN="Live Theatre Workshop":MAILTO:livetheatreworkshop@gmail.com
END:VEVENT
BEGIN:VEVENT
DTSTART;TZID=America/Phoenix:20270521T193000
DTEND;TZID=America/Phoenix:20270521T213000
DTSTAMP:20260425T172718
CREATED:20260425T221033Z
LAST-MODIFIED:20260425T221033Z
UID:10017957-1810927800-1810935000@onstageaz.com
SUMMARY:Six
DESCRIPTION:From Tudor Queens to Pop Princesses\, the SIX wives of Henry VIII take the mic to remix five hundred years of historical heartbreak into an exuberant celebration of 21st century girl power! This new original musical is the global sensation that everyone is losing their head over. The New York Times says SIX “TOTALLY RULES!” (Critic’s Pick) and The Washington Post hails SIX as “Exactly the kind of energizing\, inspirational illumination this town aches for! The Broadway season got supercharged!”
URL:https://onstageaz.com/event/six-2/2027-05-21/
LOCATION:Centennial Hall\, 1020 E. University Blvd\, Tucson\, AZ\, 85719\, United States
CATEGORIES:Music,Stage,Theatrical
ATTACH;FMTTYPE=image/jpeg:https://onstageaz.com/wp-content/uploads/2026/04/fiTep66Q.jpg
ORGANIZER;CN="Broadway In Tucson":MAILTO:info@broadwayintucson.com
END:VEVENT
END:VCALENDAR