BEGIN:VCALENDAR
VERSION:2.0
PRODID:-//ON Stage Arizona - ECPv6.15.18//NONSGML v1.0//EN
CALSCALE:GREGORIAN
METHOD:PUBLISH
X-WR-CALNAME:ON Stage Arizona
X-ORIGINAL-URL:https://onstageaz.com
X-WR-CALDESC:Events for ON Stage Arizona
REFRESH-INTERVAL;VALUE=DURATION:PT1H
X-Robots-Tag:noindex
X-PUBLISHED-TTL:PT1H
BEGIN:VTIMEZONE
TZID:America/Phoenix
BEGIN:STANDARD
TZOFFSETFROM:-0700
TZOFFSETTO:-0700
TZNAME:MST
DTSTART:20260101T000000
END:STANDARD
END:VTIMEZONE
BEGIN:VEVENT
DTSTART;TZID=America/Phoenix:20270427T193000
DTEND;TZID=America/Phoenix:20270427T213000
DTSTAMP:20260425T155513
CREATED:20260413T235658Z
LAST-MODIFIED:20260413T235658Z
UID:10017370-1808854200-1808861400@onstageaz.com
SUMMARY:Killing Kit – A Shakespeare Murder Mystery
DESCRIPTION:Shakespeare\, the greatest playwright who ever lived\, meets the greatest mystery he never solved – the assassination of poet\, playwright and spy Christopher “Kit” Marlowe. After six years\, Kit’s ghost is back\, with one command for his successful friend and rival – find the killer! Reluctant sleuth Will Shakespeare must follow the trail from London’s darkest gutters to the halls of power to solve this original “true crime” mystery. A World Premiere from John Stephens\, New York Times best-selling author and writer/producer of television hits “Gotham\,” “Gossip Girl\,” “Gilmore Girls\,” “The O.C.\,” and “Pennyworth”
URL:https://onstageaz.com/event/killing-kit-a-shakespeare-murder-mystery/2027-04-27/
LOCATION:Temple of Music and Art\, 330 S Scott Ave\, Tucson\, AZ\, 85701\, United States
CATEGORIES:Stage,Theatrical
ATTACH;FMTTYPE=image/jpeg:https://onstageaz.com/wp-content/uploads/2026/04/Y7ol7S7g.jpg
ORGANIZER;CN="Arizona Theatre Company":MAILTO:boxoffice@atc.org
END:VEVENT
BEGIN:VEVENT
DTSTART;TZID=America/Phoenix:20270427T193000
DTEND;TZID=America/Phoenix:20270427T213000
DTSTAMP:20260425T155513
CREATED:20260425T221429Z
LAST-MODIFIED:20260425T221429Z
UID:10017956-1808854200-1808861400@onstageaz.com
SUMMARY:The Notebook
DESCRIPTION:Based on the best-selling novel that inspired the iconic film\, THE NOTEBOOK tells the story of Allie and Noah\, both from different worlds\, who share a lifetime of love despite the forces that threaten to pull them apart. “Full of butterfly-inducing highs and beautiful songs” (Entertainment Weekly)\, THE NOTEBOOK is a deeply moving portrait of the enduring power of love.THE NOTEBOOK is directed by Michael Greif (Dear Evan Hansen\, Next to Normal\, RENT) and Schele Williams (The Wiz\, Aida)\, and features music and lyrics by multi-platinum singer-songwriter Ingrid Michaelson\, book by Bekah Brunstetter (NBC’s “This Is Us”)\, and choreography by Katie Spelman.
URL:https://onstageaz.com/event/the-notebook-2/2027-04-27/
LOCATION:Centennial Hall\, 1020 E. University Blvd\, Tucson\, AZ\, 85719\, United States
CATEGORIES:Music,Stage,Theatrical
ATTACH;FMTTYPE=image/jpeg:https://onstageaz.com/wp-content/uploads/2026/04/Wa0bKC6w.jpg
ORGANIZER;CN="Broadway In Tucson":MAILTO:info@broadwayintucson.com
END:VEVENT
END:VCALENDAR