BEGIN:VCALENDAR
VERSION:2.0
PRODID:-//ON Stage Arizona - ECPv6.15.18//NONSGML v1.0//EN
CALSCALE:GREGORIAN
METHOD:PUBLISH
X-WR-CALNAME:ON Stage Arizona
X-ORIGINAL-URL:https://onstageaz.com
X-WR-CALDESC:Events for ON Stage Arizona
REFRESH-INTERVAL;VALUE=DURATION:PT1H
X-Robots-Tag:noindex
X-PUBLISHED-TTL:PT1H
BEGIN:VTIMEZONE
TZID:America/Phoenix
BEGIN:STANDARD
TZOFFSETFROM:-0700
TZOFFSETTO:-0700
TZNAME:MST
DTSTART:20260101T000000
END:STANDARD
END:VTIMEZONE
BEGIN:VEVENT
DTSTART;TZID=America/Phoenix:20270321T140000
DTEND;TZID=America/Phoenix:20270321T160000
DTSTAMP:20260425T142327
CREATED:20260413T055910Z
LAST-MODIFIED:20260413T055910Z
UID:10017535-1805637600-1805644800@onstageaz.com
SUMMARY:Rachmaninoff Paganini Rhapsody
DESCRIPTION:Sergei Rachmaninoff declared\, “I try to make my music speak simply and directly that which is in my heart.” Michael Davidman\, who triumphed to win the American Piano Awards\, plays Rachmaninoff’s ravishing Rhapsody on a Theme of Paganini. 44 years earlier\, Rachmaninoff’s now-too-rarely-heard Youth Symphony showed more than mere promise. The mastery of the 18-year-old composer is astonishing. Tchaikovsky infused Ukrainian folk melodies and colorful orchestration into his blazing “Little Russian” Symphony\, his first masterpiece in the form.
URL:https://onstageaz.com/event/rachmaninoff-paganini-rhapsody/2027-03-21/
LOCATION:The Linda Ronstadt Music Hall\, 260 S Church Ave\, Tucson\, AZ\, 85701\, United States
CATEGORIES:Music,Stage
ATTACH;FMTTYPE=image/png:https://onstageaz.com/wp-content/uploads/2026/04/Screenshot-2026-04-12-at-10.57.51-PM.png
END:VEVENT
BEGIN:VEVENT
DTSTART;TZID=America/Phoenix:20270321T150000
DTEND;TZID=America/Phoenix:20270321T170000
DTSTAMP:20260425T142327
CREATED:20260414T000329Z
LAST-MODIFIED:20260414T000329Z
UID:10017315-1805641200-1805648400@onstageaz.com
SUMMARY:Gem of the Ocean
DESCRIPTION:When a young man arrives in 1904 Pittsburgh seeking a fresh start\, he becomes entangled in a local dispute. Aunt Ester\, a 285-year old spiritual matriarch\, takes him on a journey to a mythological city which connects him to his ancestors\, defines his duty to the town\, and introduces him to the love of his life. The first chronological play in August Wilson’s ten-play American Century Cycle\, “Gem of the Ocean” is a powerful and poetic story of redemption\, history\, and self-determination.
URL:https://onstageaz.com/event/gem-of-the-ocean-2/2027-03-21/
LOCATION:Temple of Music and Art\, 330 S Scott Ave\, Tucson\, AZ\, 85701\, United States
CATEGORIES:Stage,Theatrical
ATTACH;FMTTYPE=image/jpeg:https://onstageaz.com/wp-content/uploads/2026/04/jevhkLiO.jpg
ORGANIZER;CN="Arizona Theatre Company":MAILTO:boxoffice@atc.org
END:VEVENT
END:VCALENDAR