BEGIN:VCALENDAR
VERSION:2.0
PRODID:-//ON Stage Arizona - ECPv6.15.18//NONSGML v1.0//EN
CALSCALE:GREGORIAN
METHOD:PUBLISH
X-WR-CALNAME:ON Stage Arizona
X-ORIGINAL-URL:https://onstageaz.com
X-WR-CALDESC:Events for ON Stage Arizona
REFRESH-INTERVAL;VALUE=DURATION:PT1H
X-Robots-Tag:noindex
X-PUBLISHED-TTL:PT1H
BEGIN:VTIMEZONE
TZID:America/Phoenix
BEGIN:STANDARD
TZOFFSETFROM:-0700
TZOFFSETTO:-0700
TZNAME:MST
DTSTART:20260101T000000
END:STANDARD
END:VTIMEZONE
BEGIN:VEVENT
DTSTART;TZID=America/Phoenix:20270316T193000
DTEND;TZID=America/Phoenix:20270316T213000
DTSTAMP:20260425T155511
CREATED:20260414T000329Z
LAST-MODIFIED:20260414T000329Z
UID:10017309-1805225400-1805232600@onstageaz.com
SUMMARY:Gem of the Ocean
DESCRIPTION:When a young man arrives in 1904 Pittsburgh seeking a fresh start\, he becomes entangled in a local dispute. Aunt Ester\, a 285-year old spiritual matriarch\, takes him on a journey to a mythological city which connects him to his ancestors\, defines his duty to the town\, and introduces him to the love of his life. The first chronological play in August Wilson’s ten-play American Century Cycle\, “Gem of the Ocean” is a powerful and poetic story of redemption\, history\, and self-determination.
URL:https://onstageaz.com/event/gem-of-the-ocean-2/2027-03-16/
LOCATION:Temple of Music and Art\, 330 S Scott Ave\, Tucson\, AZ\, 85701\, United States
CATEGORIES:Stage,Theatrical
ATTACH;FMTTYPE=image/jpeg:https://onstageaz.com/wp-content/uploads/2026/04/jevhkLiO.jpg
ORGANIZER;CN="Arizona Theatre Company":MAILTO:boxoffice@atc.org
END:VEVENT
BEGIN:VEVENT
DTSTART;TZID=America/Phoenix:20270316T193000
DTEND;TZID=America/Phoenix:20270316T213000
DTSTAMP:20260425T155511
CREATED:20260425T221319Z
LAST-MODIFIED:20260425T221319Z
UID:10018416-1805225400-1805232600@onstageaz.com
SUMMARY:Disney's The Lion King
DESCRIPTION:More than 100 million people around the world have experienced the phenomenon of Disney’s THE LION KING\, and now you can\, too\, when Tucson’s best-loved musical returns to Centennial Hall. Winner of six Tony Awards®\, including Best Musical\, this landmark musical event brings together one of the most imaginative creative teams on Broadway. Tony Award®-winning director Julie Taymor brings to life a story filled with hope and adventure set against an amazing backdrop of stunning visuals. THE LION KING also features some of Broadway’s most recognizable music\, crafted by Tony Award®-winning artists Elton John and Tim Rice. There is simply nothing else like THE LION KING.
URL:https://onstageaz.com/event/disneys-the-lion-king/2027-03-16/
LOCATION:Centennial Hall\, 1020 E. University Blvd\, Tucson\, AZ\, 85719\, United States
CATEGORIES:Music,Stage,Theatrical
ATTACH;FMTTYPE=image/png:https://onstageaz.com/wp-content/uploads/2026/04/DIEHfrOw.png
ORGANIZER;CN="Broadway In Tucson":MAILTO:info@broadwayintucson.com
END:VEVENT
END:VCALENDAR