BEGIN:VCALENDAR
VERSION:2.0
PRODID:-//ON Stage Arizona - ECPv6.15.18//NONSGML v1.0//EN
CALSCALE:GREGORIAN
METHOD:PUBLISH
X-WR-CALNAME:ON Stage Arizona
X-ORIGINAL-URL:https://onstageaz.com
X-WR-CALDESC:Events for ON Stage Arizona
REFRESH-INTERVAL;VALUE=DURATION:PT1H
X-Robots-Tag:noindex
X-PUBLISHED-TTL:PT1H
BEGIN:VTIMEZONE
TZID:America/Phoenix
BEGIN:STANDARD
TZOFFSETFROM:-0700
TZOFFSETTO:-0700
TZNAME:MST
DTSTART:20260101T000000
END:STANDARD
END:VTIMEZONE
BEGIN:VEVENT
DTSTART;TZID=America/Phoenix:20270314T140000
DTEND;TZID=America/Phoenix:20270314T160000
DTSTAMP:20260425T142325
CREATED:20260413T060133Z
LAST-MODIFIED:20260413T060133Z
UID:10017534-1805032800-1805040000@onstageaz.com
SUMMARY:Mozart & Brahms
DESCRIPTION:“A big\, luscious tone and a technique as natural as breathing\,” raves The Washington Post of Paul Huang who joins José Luis Gómez and the Tucson Symphony for Brahms’ romantic Violin Concerto. The 22-year-old Mozart composed his joyous Symphony No. 31 during his eight months in Paris. And discover Grammy-nominated Spanish-American composer Andrea Casarrubios. Her elegiac Herencia honors both her heritage\, and that of the listener.
URL:https://onstageaz.com/event/mozart-brahms/2027-03-14/
LOCATION:Catalina Foothills High School\, AZ\, United States
CATEGORIES:Music,Stage
ATTACH;FMTTYPE=image/png:https://onstageaz.com/wp-content/uploads/2026/04/Screenshot-2026-04-12-at-11.00.05-PM.png
END:VEVENT
BEGIN:VEVENT
DTSTART;TZID=America/Phoenix:20270314T140000
DTEND;TZID=America/Phoenix:20270314T160000
DTSTAMP:20260425T142325
CREATED:20260413T230825Z
LAST-MODIFIED:20260413T230825Z
UID:10017094-1805032800-1805040000@onstageaz.com
SUMMARY:La Traviata
DESCRIPTION:One of the most cherished operas ever written\, La Traviata tells the heartbreaking story of Violetta Valéry\, a woman torn between independence and love. Featuring some of the most recognizable and emotionally powerful music in the operatic canon\, Verdi’s masterpiece has captivated audiences for more than 170 years.
URL:https://onstageaz.com/event/la-traviata/2027-03-14/
LOCATION:The Linda Ronstadt Music Hall\, 260 S Church Ave\, Tucson\, AZ\, 85701\, United States
CATEGORIES:Music,Stage
ATTACH;FMTTYPE=image/png:https://onstageaz.com/wp-content/uploads/2026/04/1UXbCHig.png
ORGANIZER;CN="Arizona Opera":MAILTO:INFO@AZOPERA.ORG
END:VEVENT
BEGIN:VEVENT
DTSTART;TZID=America/Phoenix:20270314T190000
DTEND;TZID=America/Phoenix:20270314T213000
DTSTAMP:20260425T142325
CREATED:20260414T000329Z
LAST-MODIFIED:20260414T000329Z
UID:10017043-1805050800-1805059800@onstageaz.com
SUMMARY:Gem of the Ocean
DESCRIPTION:When a young man arrives in 1904 Pittsburgh seeking a fresh start\, he becomes entangled in a local dispute. Aunt Ester\, a 285-year old spiritual matriarch\, takes him on a journey to a mythological city which connects him to his ancestors\, defines his duty to the town\, and introduces him to the love of his life. The first chronological play in August Wilson’s ten-play American Century Cycle\, “Gem of the Ocean” is a powerful and poetic story of redemption\, history\, and self-determination.
URL:https://onstageaz.com/event/gem-of-the-ocean-2/2027-03-14/
LOCATION:Temple of Music and Art\, 330 S Scott Ave\, Tucson\, AZ\, 85701\, United States
CATEGORIES:Stage,Theatrical
ATTACH;FMTTYPE=image/jpeg:https://onstageaz.com/wp-content/uploads/2026/04/jevhkLiO.jpg
ORGANIZER;CN="Arizona Theatre Company":MAILTO:boxoffice@atc.org
END:VEVENT
END:VCALENDAR