BEGIN:VCALENDAR
VERSION:2.0
PRODID:-//ON Stage Arizona - ECPv6.15.18//NONSGML v1.0//EN
CALSCALE:GREGORIAN
METHOD:PUBLISH
X-WR-CALNAME:ON Stage Arizona
X-ORIGINAL-URL:https://onstageaz.com
X-WR-CALDESC:Events for ON Stage Arizona
REFRESH-INTERVAL;VALUE=DURATION:PT1H
X-Robots-Tag:noindex
X-PUBLISHED-TTL:PT1H
BEGIN:VTIMEZONE
TZID:America/Phoenix
BEGIN:STANDARD
TZOFFSETFROM:-0700
TZOFFSETTO:-0700
TZNAME:MST
DTSTART:20260101T000000
END:STANDARD
END:VTIMEZONE
BEGIN:VEVENT
DTSTART;TZID=America/Phoenix:20270311T140000
DTEND;TZID=America/Phoenix:20270311T160000
DTSTAMP:20260425T155535
CREATED:20260425T221319Z
LAST-MODIFIED:20260425T221319Z
UID:10018409-1804773600-1804780800@onstageaz.com
SUMMARY:Disney's The Lion King
DESCRIPTION:More than 100 million people around the world have experienced the phenomenon of Disney’s THE LION KING\, and now you can\, too\, when Tucson’s best-loved musical returns to Centennial Hall. Winner of six Tony Awards®\, including Best Musical\, this landmark musical event brings together one of the most imaginative creative teams on Broadway. Tony Award®-winning director Julie Taymor brings to life a story filled with hope and adventure set against an amazing backdrop of stunning visuals. THE LION KING also features some of Broadway’s most recognizable music\, crafted by Tony Award®-winning artists Elton John and Tim Rice. There is simply nothing else like THE LION KING.
URL:https://onstageaz.com/event/disneys-the-lion-king/2027-03-11/1/
LOCATION:Centennial Hall\, 1020 E. University Blvd\, Tucson\, AZ\, 85719\, United States
CATEGORIES:Music,Stage,Theatrical
ATTACH;FMTTYPE=image/png:https://onstageaz.com/wp-content/uploads/2026/04/DIEHfrOw.png
ORGANIZER;CN="Broadway In Tucson":MAILTO:info@broadwayintucson.com
END:VEVENT
BEGIN:VEVENT
DTSTART;TZID=America/Phoenix:20270311T193000
DTEND;TZID=America/Phoenix:20270311T213000
DTSTAMP:20260425T155535
CREATED:20260425T221319Z
LAST-MODIFIED:20260425T221319Z
UID:10018410-1804793400-1804800600@onstageaz.com
SUMMARY:Disney's The Lion King
DESCRIPTION:More than 100 million people around the world have experienced the phenomenon of Disney’s THE LION KING\, and now you can\, too\, when Tucson’s best-loved musical returns to Centennial Hall. Winner of six Tony Awards®\, including Best Musical\, this landmark musical event brings together one of the most imaginative creative teams on Broadway. Tony Award®-winning director Julie Taymor brings to life a story filled with hope and adventure set against an amazing backdrop of stunning visuals. THE LION KING also features some of Broadway’s most recognizable music\, crafted by Tony Award®-winning artists Elton John and Tim Rice. There is simply nothing else like THE LION KING.
URL:https://onstageaz.com/event/disneys-the-lion-king/2027-03-11/2/
LOCATION:Centennial Hall\, 1020 E. University Blvd\, Tucson\, AZ\, 85719\, United States
CATEGORIES:Music,Stage,Theatrical
ATTACH;FMTTYPE=image/png:https://onstageaz.com/wp-content/uploads/2026/04/DIEHfrOw.png
ORGANIZER;CN="Broadway In Tucson":MAILTO:info@broadwayintucson.com
END:VEVENT
END:VCALENDAR