BEGIN:VCALENDAR
VERSION:2.0
PRODID:-//ON Stage Arizona - ECPv6.15.18//NONSGML v1.0//EN
CALSCALE:GREGORIAN
METHOD:PUBLISH
X-WR-CALNAME:ON Stage Arizona
X-ORIGINAL-URL:https://onstageaz.com
X-WR-CALDESC:Events for ON Stage Arizona
REFRESH-INTERVAL;VALUE=DURATION:PT1H
X-Robots-Tag:noindex
X-PUBLISHED-TTL:PT1H
BEGIN:VTIMEZONE
TZID:America/Phoenix
BEGIN:STANDARD
TZOFFSETFROM:-0700
TZOFFSETTO:-0700
TZNAME:MST
DTSTART:20260101T000000
END:STANDARD
END:VTIMEZONE
BEGIN:VEVENT
DTSTART;TZID=America/Phoenix:20270223T193000
DTEND;TZID=America/Phoenix:20270223T213000
DTSTAMP:20260425T154036
CREATED:20260425T220953Z
LAST-MODIFIED:20260425T220953Z
UID:10017954-1803411000-1803418200@onstageaz.com
SUMMARY:The Bodyguard
DESCRIPTION:THE INTERNATIONAL\, AWARD-WINNING SMASH-HIT MUSICAL THE BODYGUARD IS BACK! Based on the 1992 film starring Whitney Houston and Kevin Costner\, THE BODYGUARD is a thrilling\, romantic musical that combines high-stakes suspense with unforgettable music. Former Secret Service agent turned bodyguard\, Frank Farmer\, is hired to protect superstar Rachel Marron from an unknown stalker. Both expect to be in charge of their situation -what they don’t expect is to fall in love. A “BRILLIANT”(The Times)\, breathtakingly romantic thriller\, THE BODYGUARD features a whole host of unforgettable classics including “Queen of the Night\,” “So Emotional\,” “I Will Always Love You\,” “I Wanna Dance with Somebody\,” “Saving All My Love\,” and “One Moment in Time”\, alongside thrilling plot twists and emotional drama. THE BODYGUARD is an electrifying combination of romance\, suspense and chart-topping music that will captivate audiences from start to finish.
URL:https://onstageaz.com/event/the-bodyguard/2027-02-23/
LOCATION:Centennial Hall\, 1020 E. University Blvd\, Tucson\, AZ\, 85719\, United States
CATEGORIES:Music,Stage,Theatrical
ATTACH;FMTTYPE=image/jpeg:https://onstageaz.com/wp-content/uploads/2026/04/KqqvO8-g.jpg
ORGANIZER;CN="Broadway In Tucson":MAILTO:info@broadwayintucson.com
END:VEVENT
END:VCALENDAR