BEGIN:VCALENDAR
VERSION:2.0
PRODID:-//ON Stage Arizona - ECPv6.15.18//NONSGML v1.0//EN
CALSCALE:GREGORIAN
METHOD:PUBLISH
X-WR-CALNAME:ON Stage Arizona
X-ORIGINAL-URL:https://onstageaz.com
X-WR-CALDESC:Events for ON Stage Arizona
REFRESH-INTERVAL;VALUE=DURATION:PT1H
X-Robots-Tag:noindex
X-PUBLISHED-TTL:PT1H
BEGIN:VTIMEZONE
TZID:America/Phoenix
BEGIN:STANDARD
TZOFFSETFROM:-0700
TZOFFSETTO:-0700
TZNAME:MST
DTSTART:20260101T000000
END:STANDARD
END:VTIMEZONE
BEGIN:VEVENT
DTSTART;TZID=America/Phoenix:20270213T140000
DTEND;TZID=America/Phoenix:20270213T160000
DTSTAMP:20260425T123316
CREATED:20260413T061229Z
LAST-MODIFIED:20260413T061229Z
UID:10017071-1802527200-1802534400@onstageaz.com
SUMMARY:Beethoven Symphony No. 2
DESCRIPTION:The symphonies of Beethoven speak to generation upon generation. His path-breaking Second Symphony reflects the lingering influence of his teacher\, Joseph Haydn. Dan Coleman\, too\, has spoken of his debt to Haydn. He composed his Motif or Memory especially for oboe virtuoso Gustav Highstein. And Stravinsky’s enchanting Pulcinella glances back to Baroque giant Giovanni Pergolesi.
URL:https://onstageaz.com/event/beethoven-symphony-no-2/2027-02-13/1/
LOCATION:Catalina Foothills High School\, AZ\, United States
CATEGORIES:Music,Stage
ATTACH;FMTTYPE=image/png:https://onstageaz.com/wp-content/uploads/2026/04/Screenshot-2026-04-12-at-11.10.49-PM.png
END:VEVENT
BEGIN:VEVENT
DTSTART;TZID=America/Phoenix:20270213T140000
DTEND;TZID=America/Phoenix:20270213T160000
DTSTAMP:20260425T123316
CREATED:20260414T000637Z
LAST-MODIFIED:20260414T000637Z
UID:10017258-1802527200-1802534400@onstageaz.com
SUMMARY:The Play that Goes Wrong
DESCRIPTION:It’s opening night of the Cornley Drama Society’s production of The Murder at Haversham Manor\, and despite the troupe’s best efforts\, mishaps are causing mayhem on stage. From wayward props to malfunctioning scenery and unexpected understudies\, the show must go on. But will the theater still be standing at the end of the performance? Fueled by energetic physical comedy and trick scenery\, this award-winning sensation is perfect for the whole family.
URL:https://onstageaz.com/event/the-play-that-goes-wrong-2/2027-02-13/1/
LOCATION:Temple of Music and Art\, 330 S Scott Ave\, Tucson\, AZ\, 85701\, United States
CATEGORIES:Stage,Theatrical
ATTACH;FMTTYPE=image/jpeg:https://onstageaz.com/wp-content/uploads/2026/04/saGtEkew.jpg
ORGANIZER;CN="Arizona Theatre Company":MAILTO:boxoffice@atc.org
END:VEVENT
BEGIN:VEVENT
DTSTART;TZID=America/Phoenix:20270213T193000
DTEND;TZID=America/Phoenix:20270213T213000
DTSTAMP:20260425T123316
CREATED:20260413T061229Z
LAST-MODIFIED:20260413T061229Z
UID:10017529-1802547000-1802554200@onstageaz.com
SUMMARY:Beethoven Symphony No. 2
DESCRIPTION:The symphonies of Beethoven speak to generation upon generation. His path-breaking Second Symphony reflects the lingering influence of his teacher\, Joseph Haydn. Dan Coleman\, too\, has spoken of his debt to Haydn. He composed his Motif or Memory especially for oboe virtuoso Gustav Highstein. And Stravinsky’s enchanting Pulcinella glances back to Baroque giant Giovanni Pergolesi.
URL:https://onstageaz.com/event/beethoven-symphony-no-2/2027-02-13/2/
LOCATION:Catalina Foothills High School\, AZ\, United States
CATEGORIES:Music,Stage
ATTACH;FMTTYPE=image/png:https://onstageaz.com/wp-content/uploads/2026/04/Screenshot-2026-04-12-at-11.10.49-PM.png
END:VEVENT
BEGIN:VEVENT
DTSTART;TZID=America/Phoenix:20270213T193000
DTEND;TZID=America/Phoenix:20270213T213000
DTSTAMP:20260425T123316
CREATED:20260414T000637Z
LAST-MODIFIED:20260414T000637Z
UID:10017259-1802547000-1802554200@onstageaz.com
SUMMARY:The Play that Goes Wrong
DESCRIPTION:It’s opening night of the Cornley Drama Society’s production of The Murder at Haversham Manor\, and despite the troupe’s best efforts\, mishaps are causing mayhem on stage. From wayward props to malfunctioning scenery and unexpected understudies\, the show must go on. But will the theater still be standing at the end of the performance? Fueled by energetic physical comedy and trick scenery\, this award-winning sensation is perfect for the whole family.
URL:https://onstageaz.com/event/the-play-that-goes-wrong-2/2027-02-13/2/
LOCATION:Temple of Music and Art\, 330 S Scott Ave\, Tucson\, AZ\, 85701\, United States
CATEGORIES:Stage,Theatrical
ATTACH;FMTTYPE=image/jpeg:https://onstageaz.com/wp-content/uploads/2026/04/saGtEkew.jpg
ORGANIZER;CN="Arizona Theatre Company":MAILTO:boxoffice@atc.org
END:VEVENT
END:VCALENDAR