BEGIN:VCALENDAR
VERSION:2.0
PRODID:-//ON Stage Arizona - ECPv6.15.18//NONSGML v1.0//EN
CALSCALE:GREGORIAN
METHOD:PUBLISH
X-WR-CALNAME:ON Stage Arizona
X-ORIGINAL-URL:https://onstageaz.com
X-WR-CALDESC:Events for ON Stage Arizona
REFRESH-INTERVAL;VALUE=DURATION:PT1H
X-Robots-Tag:noindex
X-PUBLISHED-TTL:PT1H
BEGIN:VTIMEZONE
TZID:America/Phoenix
BEGIN:STANDARD
TZOFFSETFROM:-0700
TZOFFSETTO:-0700
TZNAME:MST
DTSTART:20260101T000000
END:STANDARD
END:VTIMEZONE
BEGIN:VEVENT
DTSTART;TZID=America/Phoenix:20270116T193000
DTEND;TZID=America/Phoenix:20270116T213000
DTSTAMP:20260425T111114
CREATED:20260413T062321Z
LAST-MODIFIED:20260413T062321Z
UID:10017068-1800127800-1800135000@onstageaz.com
SUMMARY:Rhapsody in Blue: George Gershwin and the Jazz Age
DESCRIPTION:’S wonderful! ’S marvelous! ’S what you’ll love to see! The fascinating rhythms of George Gershwin will fill the air when José Luis Gómez explores Gershwin in the 1920s including unforgettable jazz-age tunes like the immortal Rhapsody in Blue.
URL:https://onstageaz.com/event/rhapsody-in-blue-george-gershwin-and-the-jazz-age/2027-01-16/
LOCATION:The Linda Ronstadt Music Hall\, 260 S Church Ave\, Tucson\, AZ\, 85701\, United States
CATEGORIES:Music,Stage
ATTACH;FMTTYPE=image/png:https://onstageaz.com/wp-content/uploads/2026/04/Screenshot-2026-04-12-at-11.22.16-PM.png
END:VEVENT
END:VCALENDAR