BEGIN:VCALENDAR
VERSION:2.0
PRODID:-//ON Stage Arizona - ECPv6.15.18//NONSGML v1.0//EN
CALSCALE:GREGORIAN
METHOD:PUBLISH
X-WR-CALNAME:ON Stage Arizona
X-ORIGINAL-URL:https://onstageaz.com
X-WR-CALDESC:Events for ON Stage Arizona
REFRESH-INTERVAL;VALUE=DURATION:PT1H
X-Robots-Tag:noindex
X-PUBLISHED-TTL:PT1H
BEGIN:VTIMEZONE
TZID:America/Phoenix
BEGIN:STANDARD
TZOFFSETFROM:-0700
TZOFFSETTO:-0700
TZNAME:MST
DTSTART:20250101T000000
END:STANDARD
END:VTIMEZONE
BEGIN:VEVENT
DTSTART;TZID=America/Phoenix:20260715T090000
DTEND;TZID=America/Phoenix:20260715T160000
DTSTAMP:20260424T133533
CREATED:20260414T004457Z
LAST-MODIFIED:20260414T004559Z
UID:10017906-1784106000-1784131200@onstageaz.com
SUMMARY:Summer Camp 2026: Session 2
DESCRIPTION:Step into the world of silent movies and discover how filmmakers worked story magic without words! This playful and imaginative silent film camp introduces younger students to the foundations of silent cinema with a focus on movie magic\, visual effects\, and creative expression.  \nCampers will learn expressive acting\, visual storytelling\, and classic silent film techniques\, with a special emphasis on green screen technology and cinematic effects. They bring these threads together by creating a high-energy silent movie scene\, experimenting with illusion\, movement\, and movie magic.  \nThe week culminates in a dazzling\, Hollywood-style\, red-carpet premiere\, where campers’ scenes will be showcased on the big screen with live Wurlitzer theatre organ accompaniment\, giving students and their families a true silent-film era experience. 
URL:https://onstageaz.com/event/summer-camp-2026-session-2/2026-07-15/
LOCATION:Fox Tucson Theatre\, 17 W Congress St\, Tucson\, AZ\, 85701\, United States
CATEGORIES:Family,film,Virtual / Streaming
ATTACH;FMTTYPE=image/png:https://onstageaz.com/wp-content/uploads/2026/04/Screenshot-2026-04-13-at-5.39.16-PM-1.png
ORGANIZER;CN="Fox Tucson Theatre":MAILTO:foxinfo@foxtucson.com
END:VEVENT
END:VCALENDAR