BEGIN:VCALENDAR
VERSION:2.0
PRODID:-//ON Stage Arizona - ECPv6.15.18//NONSGML v1.0//EN
CALSCALE:GREGORIAN
METHOD:PUBLISH
X-WR-CALNAME:ON Stage Arizona
X-ORIGINAL-URL:https://onstageaz.com
X-WR-CALDESC:Events for ON Stage Arizona
REFRESH-INTERVAL;VALUE=DURATION:PT1H
X-Robots-Tag:noindex
X-PUBLISHED-TTL:PT1H
BEGIN:VTIMEZONE
TZID:America/Phoenix
BEGIN:STANDARD
TZOFFSETFROM:-0700
TZOFFSETTO:-0700
TZNAME:MST
DTSTART:20250101T000000
END:STANDARD
END:VTIMEZONE
BEGIN:VEVENT
DTSTART;TZID=America/Phoenix:20260620T140000
DTEND;TZID=America/Phoenix:20260620T163000
DTSTAMP:20260424T115229
CREATED:20250527T204309Z
LAST-MODIFIED:20260325T191839Z
UID:10013197-1781964000-1781973000@onstageaz.com
SUMMARY:Disney’s Beauty & The Beast
DESCRIPTION:Disney’s Beauty & The Beast at Centennial Hall in Tucson\, Arizona\nBroadway in Tucson presents Disney’s Beauty & The Beast at Centennial Hall. This enchanting\, timeless tale is reimagined with spectacular new sets and dazzling costumes. \nAudiences of all ages are swept away by Belle’s journey from a quiet village to the magical castle of the Beast. Along the way\, she befriends whimsical characters like Lumière\, Cogsworth\, and Mrs. Potts. \nThe show features an Oscar®-winning and Tony Award®-nominated score by Alan Menken and Howard Ashman. Sing along to beloved songs such as “Be Our Guest\,” “Gaston\,” and the soaring title tune “Beauty and the Beast.” Each number bursts with memorable melodies and enchanting harmonies. \nTickets sell quickly for this must-see musical. Reserve your seats now. \nDon’t miss Disney’s Beauty & The Beast—a breathtaking celebration of magic\, music\, and the power of true love—only at Centennial Hall in Tucson!
URL:https://onstageaz.com/event/disneys-beauty-the-beast/2026-06-20/1/
LOCATION:Centennial Hall\, 1020 E. University Blvd\, Tucson\, AZ\, 85719\, United States
CATEGORIES:Music,Stage,Theatrical
ATTACH;FMTTYPE=image/jpeg:https://onstageaz.com/wp-content/uploads/2025/05/eFS8qE1A.jpg
ORGANIZER;CN="Broadway In Tucson":MAILTO:info@broadwayintucson.com
END:VEVENT
BEGIN:VEVENT
DTSTART;TZID=America/Phoenix:20260620T193000
DTEND;TZID=America/Phoenix:20260620T213000
DTSTAMP:20260424T115229
CREATED:20260406T191204Z
LAST-MODIFIED:20260406T191204Z
UID:10017179-1781983800-1781991000@onstageaz.com
SUMMARY:Three Dog Night
DESCRIPTION:Iconic American band\, THREE DOG NIGHT\, now celebrating its 6th decade\, boasts some of the most astonishing chart statistics in popular music with 21 consecutive Billboard Top 40 hits\, including 3 #1 singles and 12 straight RIAA Certified Gold LPs. \nCreated in 1968 by Irish-born Danny Hutton\, the group was conceived to feature three strong vocalists who shared leads and also blended together in exquisite three-part harmony\, complemented by four ace instrumentalists\, creating a self-contained unit. This ultimately became Three Dog Night’s signature sound in the studio and live on the road.
URL:https://onstageaz.com/event/three-dog-night/
LOCATION:Fox Tucson Theatre\, 17 W Congress St\, Tucson\, AZ\, 85701\, United States
CATEGORIES:Music,Stage
ATTACH;FMTTYPE=image/png:https://onstageaz.com/wp-content/uploads/2026/04/Screenshot-2026-04-06-at-12.10.30-PM.png
ORGANIZER;CN="Fox Tucson Theatre":MAILTO:foxinfo@foxtucson.com
END:VEVENT
BEGIN:VEVENT
DTSTART;TZID=America/Phoenix:20260620T193000
DTEND;TZID=America/Phoenix:20260620T220000
DTSTAMP:20260424T115229
CREATED:20250527T204309Z
LAST-MODIFIED:20260325T191839Z
UID:10013198-1781983800-1781992800@onstageaz.com
SUMMARY:Disney’s Beauty & The Beast
DESCRIPTION:Disney’s Beauty & The Beast at Centennial Hall in Tucson\, Arizona\nBroadway in Tucson presents Disney’s Beauty & The Beast at Centennial Hall. This enchanting\, timeless tale is reimagined with spectacular new sets and dazzling costumes. \nAudiences of all ages are swept away by Belle’s journey from a quiet village to the magical castle of the Beast. Along the way\, she befriends whimsical characters like Lumière\, Cogsworth\, and Mrs. Potts. \nThe show features an Oscar®-winning and Tony Award®-nominated score by Alan Menken and Howard Ashman. Sing along to beloved songs such as “Be Our Guest\,” “Gaston\,” and the soaring title tune “Beauty and the Beast.” Each number bursts with memorable melodies and enchanting harmonies. \nTickets sell quickly for this must-see musical. Reserve your seats now. \nDon’t miss Disney’s Beauty & The Beast—a breathtaking celebration of magic\, music\, and the power of true love—only at Centennial Hall in Tucson!
URL:https://onstageaz.com/event/disneys-beauty-the-beast/2026-06-20/2/
LOCATION:Centennial Hall\, 1020 E. University Blvd\, Tucson\, AZ\, 85719\, United States
CATEGORIES:Music,Stage,Theatrical
ATTACH;FMTTYPE=image/jpeg:https://onstageaz.com/wp-content/uploads/2025/05/eFS8qE1A.jpg
ORGANIZER;CN="Broadway In Tucson":MAILTO:info@broadwayintucson.com
END:VEVENT
END:VCALENDAR