BEGIN:VCALENDAR
VERSION:2.0
PRODID:-//ON Stage Arizona - ECPv6.15.18//NONSGML v1.0//EN
CALSCALE:GREGORIAN
METHOD:PUBLISH
X-WR-CALNAME:ON Stage Arizona
X-ORIGINAL-URL:https://onstageaz.com
X-WR-CALDESC:Events for ON Stage Arizona
REFRESH-INTERVAL;VALUE=DURATION:PT1H
X-Robots-Tag:noindex
X-PUBLISHED-TTL:PT1H
BEGIN:VTIMEZONE
TZID:America/Phoenix
BEGIN:STANDARD
TZOFFSETFROM:-0700
TZOFFSETTO:-0700
TZNAME:MST
DTSTART:20250101T000000
END:STANDARD
END:VTIMEZONE
BEGIN:VEVENT
DTSTART;TZID=America/Phoenix:20260524T140000
DTEND;TZID=America/Phoenix:20260524T160000
DTSTAMP:20260424T114706
CREATED:20251020T001644Z
LAST-MODIFIED:20251020T001644Z
UID:10016248-1779631200-1779638400@onstageaz.com
SUMMARY:Staged Reading of "Shining City"
DESCRIPTION:From the author of The Weir and The Seafarer\, this gripping ghost story set in modern-day Dublin sees a recent widower and a former priest come together in a series of confessional encounters to face down the phantoms that haunt them both.
URL:https://onstageaz.com/event/staged-reading-of-shining-city/2026-05-24/
LOCATION:The Rogue Theatre\, 300 E University Blvd Suite #150\, Tucson\, AZ\, 85705\, United States
CATEGORIES:Stage,Theatrical
ATTACH;FMTTYPE=image/jpeg:https://onstageaz.com/wp-content/uploads/2025/10/Rd35IiPM.jpg
ORGANIZER;CN="The Rogue Theatre":MAILTO:ticket@TheRogueTheatre.org
END:VEVENT
BEGIN:VEVENT
DTSTART;TZID=America/Phoenix:20260524T140000
DTEND;TZID=America/Phoenix:20260524T160000
DTSTAMP:20260424T114706
CREATED:20260320T232312Z
LAST-MODIFIED:20260320T232312Z
UID:10016766-1779631200-1779638400@onstageaz.com
SUMMARY:Home\, I’m Darling by Laura Wade
DESCRIPTION:What happens when retro dreams collide with modern realities? Home\, I’m Darling takes you inside the life of Judy\, a woman who’s reinvented herself as the perfect 1950s housewife—complete with cocktail dresses\, impeccable manners\, and a picture-perfect home. But when the pressure of maintaining her vintage fantasy begins to crack\, Judy must confront the cost of living in an idealized past. Funny\, sharp\, and unexpectedly poignant\, this play explores identity\, marriage\, and the struggle to balance fantasy with reality. A captivating\, thought-provoking ride through a world where appearances can be deceiving and the search for happiness takes surprising turns. \nFridays at 7:00pm – May 1\, 8\, 15\, & 22\, 2026\nSaturdays at 7:00pm – May 2 & 9\, 2026 || Saturdays at 2:00pm – May 16 & 23\, 2026\nSundays at 2:00pm – May 3\, 10\, 17\, & 24\, 2026
URL:https://onstageaz.com/event/home-im-darling-by-laura-wade/2026-05-24/
LOCATION:Live Theatre Workshop\, 3322 E Fort Lowell Rd\, Tucson\, AZ\, 85716\, United States
CATEGORIES:Stage,Theatrical
ATTACH;FMTTYPE=image/png:https://onstageaz.com/wp-content/uploads/2026/02/Home-Im-Darling-1920x1080-1.png
ORGANIZER;CN="Live Theatre Workshop":MAILTO:livetheatreworkshop@gmail.com
END:VEVENT
END:VCALENDAR