BEGIN:VCALENDAR
VERSION:2.0
PRODID:-//ON Stage Arizona - ECPv6.15.18//NONSGML v1.0//EN
CALSCALE:GREGORIAN
METHOD:PUBLISH
X-WR-CALNAME:ON Stage Arizona
X-ORIGINAL-URL:https://onstageaz.com
X-WR-CALDESC:Events for ON Stage Arizona
REFRESH-INTERVAL;VALUE=DURATION:PT1H
X-Robots-Tag:noindex
X-PUBLISHED-TTL:PT1H
BEGIN:VTIMEZONE
TZID:America/Phoenix
BEGIN:STANDARD
TZOFFSETFROM:-0700
TZOFFSETTO:-0700
TZNAME:MST
DTSTART:20250101T000000
END:STANDARD
END:VTIMEZONE
BEGIN:VEVENT
DTSTART;TZID=America/Phoenix:20260510T140000
DTEND;TZID=America/Phoenix:20260510T160000
DTSTAMP:20260424T114706
CREATED:20250917T233933Z
LAST-MODIFIED:20250917T233933Z
UID:10014854-1778421600-1778428800@onstageaz.com
SUMMARY:Newsies
DESCRIPTION:Now is the time to SEIZE THE DAY with Newsies! They delivered the papers\, and then they made the headlines. This smash-hit\, Tony Award- winning musical has an extraordinary story\, inspired by actual events. When a band of underdogs became unlikely heroes that stood up to the most powerful men in New York\, it shook the world. It’s an energetic tale about fighting for what’s right… and staying true to who you are. The music will energize you\, the dancing will astound you and their story will inspire you.
URL:https://onstageaz.com/event/newsies/2026-05-10/
LOCATION:Arts Express Theatre\, 5870 E. Broadway Blvd.\, Ste. 214\, Tucson\,\, AZ\, 85737\, United States
CATEGORIES:Stage,Theatrical
ATTACH;FMTTYPE=image/png:https://onstageaz.com/wp-content/uploads/2025/09/Screenshot-2025-09-17-at-4.36.48-PM.png
ORGANIZER;CN="Arts Express":MAILTO:info@arts-express.org
END:VEVENT
BEGIN:VEVENT
DTSTART;TZID=America/Phoenix:20260510T140000
DTEND;TZID=America/Phoenix:20260510T160000
DTSTAMP:20260424T114706
CREATED:20251020T035431Z
LAST-MODIFIED:20251020T035431Z
UID:10016259-1778421600-1778428800@onstageaz.com
SUMMARY:The Tempest
DESCRIPTION:The classic tale of Prospero and his daughter Miranda and their effort to escape their enchanted island. The mature Shakespeare revisits magic with profound verse and invitations for striking theatrical effects.
URL:https://onstageaz.com/event/the-tempest/2026-05-10/
LOCATION:The Rogue Theatre\, 300 E University Blvd Suite #150\, Tucson\, AZ\, 85705\, United States
CATEGORIES:Stage,Theatrical
ATTACH;FMTTYPE=image/jpeg:https://onstageaz.com/wp-content/uploads/2025/10/5ya0xWH8.jpg
ORGANIZER;CN="The Rogue Theatre":MAILTO:ticket@TheRogueTheatre.org
END:VEVENT
BEGIN:VEVENT
DTSTART;TZID=America/Phoenix:20260510T140000
DTEND;TZID=America/Phoenix:20260510T160000
DTSTAMP:20260424T114706
CREATED:20260320T232312Z
LAST-MODIFIED:20260320T232312Z
UID:10016760-1778421600-1778428800@onstageaz.com
SUMMARY:Home\, I’m Darling by Laura Wade
DESCRIPTION:What happens when retro dreams collide with modern realities? Home\, I’m Darling takes you inside the life of Judy\, a woman who’s reinvented herself as the perfect 1950s housewife—complete with cocktail dresses\, impeccable manners\, and a picture-perfect home. But when the pressure of maintaining her vintage fantasy begins to crack\, Judy must confront the cost of living in an idealized past. Funny\, sharp\, and unexpectedly poignant\, this play explores identity\, marriage\, and the struggle to balance fantasy with reality. A captivating\, thought-provoking ride through a world where appearances can be deceiving and the search for happiness takes surprising turns. \nFridays at 7:00pm – May 1\, 8\, 15\, & 22\, 2026\nSaturdays at 7:00pm – May 2 & 9\, 2026 || Saturdays at 2:00pm – May 16 & 23\, 2026\nSundays at 2:00pm – May 3\, 10\, 17\, & 24\, 2026
URL:https://onstageaz.com/event/home-im-darling-by-laura-wade/2026-05-10/
LOCATION:Live Theatre Workshop\, 3322 E Fort Lowell Rd\, Tucson\, AZ\, 85716\, United States
CATEGORIES:Stage,Theatrical
ATTACH;FMTTYPE=image/png:https://onstageaz.com/wp-content/uploads/2026/02/Home-Im-Darling-1920x1080-1.png
ORGANIZER;CN="Live Theatre Workshop":MAILTO:livetheatreworkshop@gmail.com
END:VEVENT
BEGIN:VEVENT
DTSTART;TZID=America/Phoenix:20260510T150000
DTEND;TZID=America/Phoenix:20260510T170000
DTSTAMP:20260424T114706
CREATED:20251123T232700Z
LAST-MODIFIED:20251123T232700Z
UID:10016441-1778425200-1778432400@onstageaz.com
SUMMARY:Pima Chorale/College Singers: Spring Concert
DESCRIPTION:Immerse yourself in the enchanting melodies of the Chorale & College Singers\, directed by Jonathan Ng\, D.M.A. With a diverse repertoire\, these performances feature a grand mixed-voice choir and an a capella ensemble.
URL:https://onstageaz.com/event/pima-chorale-college-singers-spring-concert/
LOCATION:Pima Community College Center for the Arts\, 2202 W Anklam Rd.\, Tucson\, AZ\, 85709\, United States
CATEGORIES:Music,Stage
ATTACH;FMTTYPE=image/jpeg:https://onstageaz.com/wp-content/uploads/2025/11/96dJnAKY.jpg
ORGANIZER;CN="Pima Arts":MAILTO:centerforthearts@pima.edu
END:VEVENT
BEGIN:VEVENT
DTSTART;TZID=America/Phoenix:20260510T150000
DTEND;TZID=America/Phoenix:20260510T170000
DTSTAMP:20260424T114706
CREATED:20260325T210610Z
LAST-MODIFIED:20260325T210711Z
UID:10013079-1778425200-1778432400@onstageaz.com
SUMMARY:Dracula
DESCRIPTION:Dracula: A Comedy of Terrors at Temple of Music and Art in Tucson\, Arizona\nArizona Theatre Company presents Dracula: A Comedy of Terrors at the Temple of Music and Art in Tucson. Straight from its smash Off-Broadway engagement\, this adaptation reinvents Bram Stoker’s classic with riotous humor. \nA band of quirky actors brings Dracula to life in madcap style. The show blends horror\, farce\, and modern pop culture references. Each scene races forward with non-stop energy and unexpected jokes. Clever wit peppers the dialogue\, keeping audiences laughing in every moment. \nQuick-change costumes add to the theatrical hilarity. Actors transform from vampire to victim in seconds. These rapid shifts fuel the show’s outrageous pace. The set design captures a gothic atmosphere with playful twists. Fog machines\, dramatic lighting\, and spooky props enhance the comedic effect. \nDracula: A Comedy of Terrors guarantees screams—of laughter! Perfect for audiences of all blood types and all ages. The production balances spooky chills with uproarious fun. It invites both horror fans and comedy lovers to the theater. \nThe Temple of Music and Art in downtown Tucson provides an ideal setting. This historic venue offers excellent sound\, clear sightlines\, and comfortable seating. Its intimate stage amplifies the show’s theatrical antics. Located steps from popular Tucson restaurants and parking\, the theater is easy to access. \nArizona Theatre Company’s stellar cast delivers spot-on comedic timing. Every actor embraces the absurdity of the script. Their chemistry on stage brings new life to a centuries-old tale. Audiences will roar with laughter at every turn.
URL:https://onstageaz.com/event/dracula-2-3/2026-05-10/
LOCATION:Temple of Music and Art\, 330 S Scott Ave\, Tucson\, AZ\, 85701\, United States
CATEGORIES:Stage,Theatrical
ATTACH;FMTTYPE=image/jpeg:https://onstageaz.com/wp-content/uploads/2025/07/DbkRZjhw-1.jpg
ORGANIZER;CN="Arizona Theatre Company":MAILTO:boxoffice@atc.org
END:VEVENT
BEGIN:VEVENT
DTSTART;TZID=America/Phoenix:20260510T190000
DTEND;TZID=America/Phoenix:20260510T210000
DTSTAMP:20260424T114706
CREATED:20260331T205221Z
LAST-MODIFIED:20260331T205221Z
UID:10017036-1778439600-1778446800@onstageaz.com
SUMMARY:The Sleeping Beauty by International Ballet Stars: Guest Presenter
DESCRIPTION:Believe in magic again. \nExperience The Sleeping Beauty\, a timeless fairytale told through breathtaking choreography\, Tchaikovsky’s unforgettable score\, and a truly magical stage design.\nFollow the journey of Princess Aurora – from her christening and the wicked curse of Carabosse to a century-long slumber and her awakening by true love’s kiss. Every detail of this production is designed to enchant. \nFeaturing brand-new\, hand-painted sets and over 200 exclusive costumes\, the performance highlights the classical Petipa choreography in its purest form – presented by an international cast of world-renown ballet artists from Moldova\, Spain\, Italy\, Kyrgyzstan\, Romania\, United Kingdom\, Brazil\, Poland\, United States\, Japan\, Turkey\, Armenia\, Tajikistan\, Belarus and Principal Dancers from Ukraine!\nBallet in Two Acts with one intermission\nFamily-friendly – suitable for ages 3 and up \nThe Independent:\n“Beautiful hand-painted sets and exquisitely rich costumes enhanced the performance of the classical choreography.”\n“The principal dancer who played Aurora showed herself to be up to the task\, with incredibly strong balance and a gracious presentation.”\n“The most dynamic performance was that of the male lead who played the evil fairy Carabosse – as scary as the Wicked Witch of the West!” \nWith more than 10 years of experience presenting internationally acclaimed productions\, Classical Arts Entertainment is proud to share this artistic journey with communities across North America
URL:https://onstageaz.com/event/the-sleeping-beauty-by-international-ballet-stars-guest-presenter/
LOCATION:Fox Tucson Theatre\, 17 W Congress St\, Tucson\, AZ\, 85701\, United States
CATEGORIES:Dance,Exhibits,Music,Stage
ATTACH;FMTTYPE=image/png:https://onstageaz.com/wp-content/uploads/2026/03/Screenshot-2026-03-31-at-1.49.39-PM.png
ORGANIZER;CN="Fox Tucson Theatre":MAILTO:foxinfo@foxtucson.com
END:VEVENT
END:VCALENDAR