BEGIN:VCALENDAR
VERSION:2.0
PRODID:-//ON Stage Arizona - ECPv6.15.18//NONSGML v1.0//EN
CALSCALE:GREGORIAN
METHOD:PUBLISH
X-WR-CALNAME:ON Stage Arizona
X-ORIGINAL-URL:https://onstageaz.com
X-WR-CALDESC:Events for ON Stage Arizona
REFRESH-INTERVAL;VALUE=DURATION:PT1H
X-Robots-Tag:noindex
X-PUBLISHED-TTL:PT1H
BEGIN:VTIMEZONE
TZID:America/Phoenix
BEGIN:STANDARD
TZOFFSETFROM:-0700
TZOFFSETTO:-0700
TZNAME:MST
DTSTART:20250101T000000
END:STANDARD
END:VTIMEZONE
BEGIN:VEVENT
DTSTART;TZID=America/Phoenix:20260508T190000
DTEND;TZID=America/Phoenix:20260508T210000
DTSTAMP:20260424T102451
CREATED:20250917T233933Z
LAST-MODIFIED:20250917T233933Z
UID:10014851-1778266800-1778274000@onstageaz.com
SUMMARY:Newsies
DESCRIPTION:Now is the time to SEIZE THE DAY with Newsies! They delivered the papers\, and then they made the headlines. This smash-hit\, Tony Award- winning musical has an extraordinary story\, inspired by actual events. When a band of underdogs became unlikely heroes that stood up to the most powerful men in New York\, it shook the world. It’s an energetic tale about fighting for what’s right… and staying true to who you are. The music will energize you\, the dancing will astound you and their story will inspire you.
URL:https://onstageaz.com/event/newsies/2026-05-08/
LOCATION:Arts Express Theatre\, 5870 E. Broadway Blvd.\, Ste. 214\, Tucson\,\, AZ\, 85737\, United States
CATEGORIES:Stage,Theatrical
ATTACH;FMTTYPE=image/png:https://onstageaz.com/wp-content/uploads/2025/09/Screenshot-2025-09-17-at-4.36.48-PM.png
ORGANIZER;CN="Arts Express":MAILTO:info@arts-express.org
END:VEVENT
BEGIN:VEVENT
DTSTART;TZID=America/Phoenix:20260508T190000
DTEND;TZID=America/Phoenix:20260508T210000
DTSTAMP:20260424T102451
CREATED:20251123T232446Z
LAST-MODIFIED:20251123T232446Z
UID:10016438-1778266800-1778274000@onstageaz.com
SUMMARY:Pima Mariachi: Spring Concert
DESCRIPTION:Mariachi Azteca de Pima College\, led by director Salvador Gallegos\, will perform mariachi standards along with modern compositions\, including Mexican variations and styles of the Son\, Ranchera\, Huasteca and Bolero.
URL:https://onstageaz.com/event/pima-mariachi-spring-concert/
LOCATION:Pima Community College Center for the Arts\, 2202 W Anklam Rd.\, Tucson\, AZ\, 85709\, United States
CATEGORIES:Music,Stage
ATTACH;FMTTYPE=image/jpeg:https://onstageaz.com/wp-content/uploads/2025/11/BSNphS5Q.jpg
ORGANIZER;CN="Pima Arts":MAILTO:centerforthearts@pima.edu
END:VEVENT
BEGIN:VEVENT
DTSTART;TZID=America/Phoenix:20260508T190000
DTEND;TZID=America/Phoenix:20260508T210000
DTSTAMP:20260424T102451
CREATED:20260320T232312Z
LAST-MODIFIED:20260320T232312Z
UID:10016758-1778266800-1778274000@onstageaz.com
SUMMARY:Home\, I’m Darling by Laura Wade
DESCRIPTION:What happens when retro dreams collide with modern realities? Home\, I’m Darling takes you inside the life of Judy\, a woman who’s reinvented herself as the perfect 1950s housewife—complete with cocktail dresses\, impeccable manners\, and a picture-perfect home. But when the pressure of maintaining her vintage fantasy begins to crack\, Judy must confront the cost of living in an idealized past. Funny\, sharp\, and unexpectedly poignant\, this play explores identity\, marriage\, and the struggle to balance fantasy with reality. A captivating\, thought-provoking ride through a world where appearances can be deceiving and the search for happiness takes surprising turns. \nFridays at 7:00pm – May 1\, 8\, 15\, & 22\, 2026\nSaturdays at 7:00pm – May 2 & 9\, 2026 || Saturdays at 2:00pm – May 16 & 23\, 2026\nSundays at 2:00pm – May 3\, 10\, 17\, & 24\, 2026
URL:https://onstageaz.com/event/home-im-darling-by-laura-wade/2026-05-08/
LOCATION:Live Theatre Workshop\, 3322 E Fort Lowell Rd\, Tucson\, AZ\, 85716\, United States
CATEGORIES:Stage,Theatrical
ATTACH;FMTTYPE=image/png:https://onstageaz.com/wp-content/uploads/2026/02/Home-Im-Darling-1920x1080-1.png
ORGANIZER;CN="Live Theatre Workshop":MAILTO:livetheatreworkshop@gmail.com
END:VEVENT
BEGIN:VEVENT
DTSTART;TZID=America/Phoenix:20260508T193000
DTEND;TZID=America/Phoenix:20260508T213000
DTSTAMP:20260424T102451
CREATED:20251020T035431Z
LAST-MODIFIED:20251020T035431Z
UID:10016256-1778268600-1778275800@onstageaz.com
SUMMARY:The Tempest
DESCRIPTION:The classic tale of Prospero and his daughter Miranda and their effort to escape their enchanted island. The mature Shakespeare revisits magic with profound verse and invitations for striking theatrical effects.
URL:https://onstageaz.com/event/the-tempest/2026-05-08/
LOCATION:The Rogue Theatre\, 300 E University Blvd Suite #150\, Tucson\, AZ\, 85705\, United States
CATEGORIES:Stage,Theatrical
ATTACH;FMTTYPE=image/jpeg:https://onstageaz.com/wp-content/uploads/2025/10/5ya0xWH8.jpg
ORGANIZER;CN="The Rogue Theatre":MAILTO:ticket@TheRogueTheatre.org
END:VEVENT
BEGIN:VEVENT
DTSTART;TZID=America/Phoenix:20260508T193000
DTEND;TZID=America/Phoenix:20260508T213000
DTSTAMP:20260424T102451
CREATED:20260325T211805Z
LAST-MODIFIED:20260325T211806Z
UID:10013076-1778268600-1778275800@onstageaz.com
SUMMARY:Dracula
DESCRIPTION:Dracula: A Comedy of Terrors at Temple of Music and Art in Tucson\, Arizona\nArizona Theatre Company presents Dracula: A Comedy of Terrors at the Temple of Music and Art in Tucson. Straight from its smash Off-Broadway engagement\, this adaptation reinvents Bram Stoker’s classic with riotous humor. \nA band of quirky actors brings Dracula to life in madcap style. The show blends horror\, farce\, and modern pop culture references. Each scene races forward with non-stop energy and unexpected jokes. Clever wit peppers the dialogue\, keeping audiences laughing in every moment. \nQuick-change costumes add to the theatrical hilarity. Actors transform from vampire to victim in seconds. These rapid shifts fuel the show’s outrageous pace. The set design captures a gothic atmosphere with playful twists. Fog machines\, dramatic lighting\, and spooky props enhance the comedic effect. \nDracula: A Comedy of Terrors guarantees screams—of laughter! Perfect for audiences of all blood types and all ages. The production balances spooky chills with uproarious fun. It invites both horror fans and comedy lovers to the theater. \nThe Temple of Music and Art in downtown Tucson provides an ideal setting. This historic venue offers excellent sound\, clear sightlines\, and comfortable seating. Its intimate stage amplifies the show’s theatrical antics. Located steps from popular Tucson restaurants and parking\, the theater is easy to access. \nArizona Theatre Company’s stellar cast delivers spot-on comedic timing. Every actor embraces the absurdity of the script. Their chemistry on stage brings new life to a centuries-old tale. Audiences will roar with laughter at every turn.
URL:https://onstageaz.com/event/dracula-2-3-5/
LOCATION:Temple of Music and Art\, 330 S Scott Ave\, Tucson\, AZ\, 85701\, United States
CATEGORIES:Stage,Theatrical
ATTACH;FMTTYPE=image/jpeg:https://onstageaz.com/wp-content/uploads/2025/07/DbkRZjhw-1.jpg
ORGANIZER;CN="Arizona Theatre Company":MAILTO:boxoffice@atc.org
END:VEVENT
END:VCALENDAR