BEGIN:VCALENDAR
VERSION:2.0
PRODID:-//ON Stage Arizona - ECPv6.15.18//NONSGML v1.0//EN
CALSCALE:GREGORIAN
METHOD:PUBLISH
X-WR-CALNAME:ON Stage Arizona
X-ORIGINAL-URL:https://onstageaz.com
X-WR-CALDESC:Events for ON Stage Arizona
REFRESH-INTERVAL;VALUE=DURATION:PT1H
X-Robots-Tag:noindex
X-PUBLISHED-TTL:PT1H
BEGIN:VTIMEZONE
TZID:America/Phoenix
BEGIN:STANDARD
TZOFFSETFROM:-0700
TZOFFSETTO:-0700
TZNAME:MST
DTSTART:20250101T000000
END:STANDARD
END:VTIMEZONE
BEGIN:VEVENT
DTSTART;TZID=America/Phoenix:20260426T133000
DTEND;TZID=America/Phoenix:20260426T153000
DTSTAMP:20260424T084131
CREATED:20250710T031332Z
LAST-MODIFIED:20250710T031332Z
UID:10013910-1777210200-1777217400@onstageaz.com
SUMMARY:Jerry's Girls
DESCRIPTION:This dynamic revue celebrates the music of Jerry Herman\, highlighting the broad spectrum of thrilling material he wrote specifically for female performers. This fast-paced revue features all the best songs and crowd favorites from such immortal musicals as Mame\, Hello Dolly!\, Milk and Honey\, Mack and Mabel\, A Day in Hollywood/A Night in the Ukraine and La Cage Aux Folles.
URL:https://onstageaz.com/event/jerrys-girls/2026-04-26/
LOCATION:Marroney Theatre\, 1025 N Olive Rd\, Tucson\, AZ\, 85721\, United States
CATEGORIES:Stage,Theatrical
ATTACH;FMTTYPE=image/jpeg:https://onstageaz.com/wp-content/uploads/2025/07/Zqmdwe4g.jpg
END:VEVENT
BEGIN:VEVENT
DTSTART;TZID=America/Phoenix:20260426T140000
DTEND;TZID=America/Phoenix:20260426T160000
DTSTAMP:20260424T084131
CREATED:20250917T233933Z
LAST-MODIFIED:20250917T233933Z
UID:10014846-1777212000-1777219200@onstageaz.com
SUMMARY:Newsies
DESCRIPTION:Now is the time to SEIZE THE DAY with Newsies! They delivered the papers\, and then they made the headlines. This smash-hit\, Tony Award- winning musical has an extraordinary story\, inspired by actual events. When a band of underdogs became unlikely heroes that stood up to the most powerful men in New York\, it shook the world. It’s an energetic tale about fighting for what’s right… and staying true to who you are. The music will energize you\, the dancing will astound you and their story will inspire you.
URL:https://onstageaz.com/event/newsies/2026-04-26/
LOCATION:Arts Express Theatre\, 5870 E. Broadway Blvd.\, Ste. 214\, Tucson\,\, AZ\, 85737\, United States
CATEGORIES:Stage,Theatrical
ATTACH;FMTTYPE=image/png:https://onstageaz.com/wp-content/uploads/2025/09/Screenshot-2025-09-17-at-4.36.48-PM.png
ORGANIZER;CN="Arts Express":MAILTO:info@arts-express.org
END:VEVENT
BEGIN:VEVENT
DTSTART;TZID=America/Phoenix:20260426T140000
DTEND;TZID=America/Phoenix:20260426T160000
DTSTAMP:20260424T084131
CREATED:20251123T231739Z
LAST-MODIFIED:20251123T231739Z
UID:10016491-1777212000-1777219200@onstageaz.com
SUMMARY:Pima Theater: Fairview
DESCRIPTION:Pima Community College Theater presents “Fairview\,” the 2019 Pulitzer Prize-winning play by Jackie Sibblies Drury. This groundbreaking work starts as a seemingly familiar family dramedy before evolving into a provocative examination of race\, privilege\, and the white gaze in both theater and society. Through unexpected shifts in perspective\, Fairview challenges audiences to confront their own roles in systems of oppression and reconsider who controls the narrative. This thought-provoking production promises to spark important conversations and offers a powerful theatrical experience. [Director TBD]
URL:https://onstageaz.com/event/pima-theater-fairview/2026-04-26/
LOCATION:Pima Community College Center for the Arts\, 2202 W Anklam Rd.\, Tucson\, AZ\, 85709\, United States
CATEGORIES:Stage,Theatrical
ATTACH;FMTTYPE=image/jpeg:https://onstageaz.com/wp-content/uploads/2025/11/MnafDTaE.jpg
ORGANIZER;CN="Pima Arts":MAILTO:centerforthearts@pima.edu
END:VEVENT
BEGIN:VEVENT
DTSTART;TZID=America/Phoenix:20260426T150000
DTEND;TZID=America/Phoenix:20260426T170000
DTSTAMP:20260424T084131
CREATED:20251020T042839Z
LAST-MODIFIED:20251020T042839Z
UID:10016190-1777215600-1777222800@onstageaz.com
SUMMARY:Memories of Concerts Past
DESCRIPTION:Variations on a Theme by Haydn ~ Johannes BrahmsPiano Concerto No. 1\, Mvt. 1 ~ Edvard Grieg (April 26)\nwith YAC Winner Ben Teller\, soloist\nPeer Gynt Suite ~ Edvard Grieg (April 26\, May 3)\nAfro-American Symphony\, Mvt. 1 ~ William Grant Still\n“Nimrod” from Enigma Variations ~ Edward Elgar\nLibertango ~ Astor Piazolla\nHow to Train Your Dragon ~ John Powell\n“Phantom of the Opera” Medley ~ Andrew Lloyd Webber\n“Cats” Medley ~ Andrew Lloyd Webber
URL:https://onstageaz.com/event/memories-of-concerts-past-2/
LOCATION:Catalina Foothills High School\, AZ\, United States
CATEGORIES:Music,Stage
ATTACH;FMTTYPE=image/png:https://onstageaz.com/wp-content/uploads/2025/10/QWPL17o.png
ORGANIZER;CN="Civic Orchestra Of Tucson":MAILTO:info@cotmusic.org
END:VEVENT
BEGIN:VEVENT
DTSTART;TZID=America/Phoenix:20260426T160000
DTEND;TZID=America/Phoenix:20260426T173000
DTSTAMP:20260424T084131
CREATED:20260321T002758Z
LAST-MODIFIED:20260321T002758Z
UID:10016842-1777219200-1777224600@onstageaz.com
SUMMARY:American Voices
DESCRIPTION:The Arizona Repertory Singers celebrates the 250th birthday of the United States with their spring program\, American Voices. The concerts assemble some of the most renowned composers from across genres and U.S. history in a program sure to engage\, enthrall\, and illuminate. \nFrom American Spirituals to 21st-century classics\, the program spans the breadth of American musical history and styles. Highlights include Moses Hogan’s I’m Gonna Sing ‘Til the Spirit Moves In My Heart\, Stacey Gibbs’ Didn’ My Lord Deliver Daniel\, Aaron Copland’s Zion’s Walls\, and Rene Clausen’s arrangement of the familiar Shaker tune\, Simple Gifts. \nAudiences will also recognize beloved pop selections such as Paul Simon’s Bridge Over Troubled Water alongside 21st-century choral works by Eric Whitacre and Stephen Paulus. \nAmerican Voices is a musical time capsule of the American experiment—always in progress\, never relenting\, tackling the challenges and obstacles\, paving the way for a bright and brighter future. \nTickets are $22 online and $25 at the door. Students are admitted free.
URL:https://onstageaz.com/event/american-voices-3/
LOCATION:St. Mark Catholic Church\, 2727 W. Tangerine Rd\, Oro Valley\, 85742
CATEGORIES:Music
ATTACH;FMTTYPE=image/png:https://onstageaz.com/wp-content/uploads/2026/03/AmericanVoices-copy-1.png
ORGANIZER;CN="Arizona Repertory Singers":MAILTO:tickets@arsingers.org
END:VEVENT
BEGIN:VEVENT
DTSTART;TZID=America/Phoenix:20260426T190000
DTEND;TZID=America/Phoenix:20260426T210000
DTSTAMP:20260424T084131
CREATED:20250706T222433Z
LAST-MODIFIED:20250706T222433Z
UID:10012886-1777230000-1777237200@onstageaz.com
SUMMARY:Dracula
DESCRIPTION:Dracula: A Comedy of Terrors at Temple of Music and Art in Tucson\, Arizona\nArizona Theatre Company presents Dracula: A Comedy of Terrors at the Temple of Music and Art in Tucson. Straight from its smash Off-Broadway engagement\, this adaptation reinvents Bram Stoker’s classic with riotous humor. \nA band of quirky actors brings Dracula to life in madcap style. The show blends horror\, farce\, and modern pop culture references. Each scene races forward with non-stop energy and unexpected jokes. Clever wit peppers the dialogue\, keeping audiences laughing in every moment. \nQuick-change costumes add to the theatrical hilarity. Actors transform from vampire to victim in seconds. These rapid shifts fuel the show’s outrageous pace. The set design captures a gothic atmosphere with playful twists. Fog machines\, dramatic lighting\, and spooky props enhance the comedic effect. \nDracula: A Comedy of Terrors guarantees screams—of laughter! Perfect for audiences of all blood types and all ages. The production balances spooky chills with uproarious fun. It invites both horror fans and comedy lovers to the theater. \nThe Temple of Music and Art in downtown Tucson provides an ideal setting. This historic venue offers excellent sound\, clear sightlines\, and comfortable seating. Its intimate stage amplifies the show’s theatrical antics. Located steps from popular Tucson restaurants and parking\, the theater is easy to access. \nArizona Theatre Company’s stellar cast delivers spot-on comedic timing. Every actor embraces the absurdity of the script. Their chemistry on stage brings new life to a centuries-old tale. Audiences will roar with laughter at every turn.
URL:https://onstageaz.com/event/dracula-2/2026-04-26/
LOCATION:Temple of Music and Art\, 330 S Scott Ave\, Tucson\, AZ\, 85701\, United States
CATEGORIES:Stage,Theatrical
ATTACH;FMTTYPE=image/jpeg:https://onstageaz.com/wp-content/uploads/2025/07/DbkRZjhw-1.jpg
ORGANIZER;CN="Arizona Theatre Company":MAILTO:boxoffice@atc.org
END:VEVENT
BEGIN:VEVENT
DTSTART;TZID=America/Phoenix:20260426T190000
DTEND;TZID=America/Phoenix:20260426T210000
DTSTAMP:20260424T084131
CREATED:20260321T011756Z
LAST-MODIFIED:20260325T213349Z
UID:10016858-1777230000-1777237200@onstageaz.com
SUMMARY:The Robert Cray Band
DESCRIPTION:Blues icon. Soul man. Rock and roller. Robert Cray is all these things – and more. The Georgia- born\, Washington-raised musician first picked up a guitar after seeing The Beatles on TV then\, having witnessed Jimi Hendrix perform in Seattle\, determined that his destiny would also follow a similar path. And so he has: across the past half century Robert Cray’s developed into one of American music’s most singular artists.
URL:https://onstageaz.com/event/the-robert-cray-band/
LOCATION:Fox Tucson Theatre\, 17 W Congress St\, Tucson\, AZ\, 85701\, United States
CATEGORIES:Music,Stage
ATTACH;FMTTYPE=image/png:https://onstageaz.com/wp-content/uploads/2026/03/Screenshot-2026-03-20-at-6.07.08-PM-1.png
ORGANIZER;CN="Fox Tucson Theatre":MAILTO:foxinfo@foxtucson.com
END:VEVENT
END:VCALENDAR