BEGIN:VCALENDAR
VERSION:2.0
PRODID:-//ON Stage Arizona - ECPv6.15.18//NONSGML v1.0//EN
CALSCALE:GREGORIAN
METHOD:PUBLISH
X-WR-CALNAME:ON Stage Arizona
X-ORIGINAL-URL:https://onstageaz.com
X-WR-CALDESC:Events for ON Stage Arizona
REFRESH-INTERVAL;VALUE=DURATION:PT1H
X-Robots-Tag:noindex
X-PUBLISHED-TTL:PT1H
BEGIN:VTIMEZONE
TZID:America/Phoenix
BEGIN:STANDARD
TZOFFSETFROM:-0700
TZOFFSETTO:-0700
TZNAME:MST
DTSTART:20250101T000000
END:STANDARD
END:VTIMEZONE
BEGIN:VEVENT
DTSTART;TZID=America/Phoenix:20260425T133000
DTEND;TZID=America/Phoenix:20260425T153000
DTSTAMP:20260424T084131
CREATED:20250710T031332Z
LAST-MODIFIED:20250710T031332Z
UID:10013908-1777123800-1777131000@onstageaz.com
SUMMARY:Jerry's Girls
DESCRIPTION:This dynamic revue celebrates the music of Jerry Herman\, highlighting the broad spectrum of thrilling material he wrote specifically for female performers. This fast-paced revue features all the best songs and crowd favorites from such immortal musicals as Mame\, Hello Dolly!\, Milk and Honey\, Mack and Mabel\, A Day in Hollywood/A Night in the Ukraine and La Cage Aux Folles.
URL:https://onstageaz.com/event/jerrys-girls/2026-04-25/1/
LOCATION:Marroney Theatre\, 1025 N Olive Rd\, Tucson\, AZ\, 85721\, United States
CATEGORIES:Stage,Theatrical
ATTACH;FMTTYPE=image/jpeg:https://onstageaz.com/wp-content/uploads/2025/07/Zqmdwe4g.jpg
END:VEVENT
BEGIN:VEVENT
DTSTART;TZID=America/Phoenix:20260425T140000
DTEND;TZID=America/Phoenix:20260425T160000
DTSTAMP:20260424T084131
CREATED:20250623T231255Z
LAST-MODIFIED:20250623T231255Z
UID:10013226-1777125600-1777132800@onstageaz.com
SUMMARY:Cinderella (La Cenerentola)
DESCRIPTION:Step into the magic of Rossini’s Cinderella in this delightful semi-staged production brimming with humor\, charm\, and enchanting melodies. AngelinaÑmistreated by her stepfather Don Magnifico and his scheming daughtersÑdares to dream of a brighter future. With help from Prince RamiroÕs clever valet and a sparkling twist involving a pair of bracelets\, Angelina must navigate royal intrigue to capture the princeÕs heart. Perfect for audiences of all ages\, this vibrant retelling of the beloved fairytale promises laughter\, romance\, and soaring arias the whole family will adore.
URL:https://onstageaz.com/event/cinderella-la-cenerentola-2/
LOCATION:The Linda Ronstadt Music Hall\, 260 S Church Ave\, Tucson\, AZ\, 85701\, United States
CATEGORIES:Music,Stage
ATTACH;FMTTYPE=image/png:https://onstageaz.com/wp-content/uploads/2025/05/2lX6s7Io.png
ORGANIZER;CN="Arizona Opera":MAILTO:INFO@AZOPERA.ORG
END:VEVENT
BEGIN:VEVENT
DTSTART;TZID=America/Phoenix:20260425T140000
DTEND;TZID=America/Phoenix:20260425T160000
DTSTAMP:20260424T084131
CREATED:20250917T233933Z
LAST-MODIFIED:20250917T233933Z
UID:10014844-1777125600-1777132800@onstageaz.com
SUMMARY:Newsies
DESCRIPTION:Now is the time to SEIZE THE DAY with Newsies! They delivered the papers\, and then they made the headlines. This smash-hit\, Tony Award- winning musical has an extraordinary story\, inspired by actual events. When a band of underdogs became unlikely heroes that stood up to the most powerful men in New York\, it shook the world. It’s an energetic tale about fighting for what’s right… and staying true to who you are. The music will energize you\, the dancing will astound you and their story will inspire you.
URL:https://onstageaz.com/event/newsies/2026-04-25/1/
LOCATION:Arts Express Theatre\, 5870 E. Broadway Blvd.\, Ste. 214\, Tucson\,\, AZ\, 85737\, United States
CATEGORIES:Stage,Theatrical
ATTACH;FMTTYPE=image/png:https://onstageaz.com/wp-content/uploads/2025/09/Screenshot-2025-09-17-at-4.36.48-PM.png
ORGANIZER;CN="Arts Express":MAILTO:info@arts-express.org
END:VEVENT
BEGIN:VEVENT
DTSTART;TZID=America/Phoenix:20260425T140000
DTEND;TZID=America/Phoenix:20260425T160000
DTSTAMP:20260424T084131
CREATED:20251020T035431Z
LAST-MODIFIED:20251020T035431Z
UID:10016250-1777125600-1777132800@onstageaz.com
SUMMARY:The Tempest
DESCRIPTION:The classic tale of Prospero and his daughter Miranda and their effort to escape their enchanted island. The mature Shakespeare revisits magic with profound verse and invitations for striking theatrical effects.
URL:https://onstageaz.com/event/the-tempest/2026-04-25/1/
LOCATION:The Rogue Theatre\, 300 E University Blvd Suite #150\, Tucson\, AZ\, 85705\, United States
CATEGORIES:Stage,Theatrical
ATTACH;FMTTYPE=image/jpeg:https://onstageaz.com/wp-content/uploads/2025/10/5ya0xWH8.jpg
ORGANIZER;CN="The Rogue Theatre":MAILTO:ticket@TheRogueTheatre.org
END:VEVENT
BEGIN:VEVENT
DTSTART;TZID=America/Phoenix:20260425T140000
DTEND;TZID=America/Phoenix:20260425T160000
DTSTAMP:20260424T084131
CREATED:20260413T055155Z
LAST-MODIFIED:20260413T055155Z
UID:10017538-1777125600-1777132800@onstageaz.com
SUMMARY:A Salute to John Williams: Star Wars & More at 50
DESCRIPTION:John Williams has transported us beyond our imagination to new worlds through heart-pounding adventures. This 50th Anniversary celebration will feature all your favorites: Jaws\, Raiders of the Lost Ark\, Jurassic Park\, Harry Potter\, E.T.\, Close Encounters of the Third Kind\, and of course\, Star Wars. The force will be with you for this once-in-a-lifetime event.
URL:https://onstageaz.com/event/a-salute-to-john-williams-star-wars-more-at-50/2026-04-25/
LOCATION:The Linda Ronstadt Music Hall\, 260 S Church Ave\, Tucson\, AZ\, 85701\, United States
CATEGORIES:Music,Stage
ATTACH;FMTTYPE=image/png:https://onstageaz.com/wp-content/uploads/2026/04/Screenshot-2026-04-12-at-10.50.07-PM.png
END:VEVENT
BEGIN:VEVENT
DTSTART;TZID=America/Phoenix:20260425T150000
DTEND;TZID=America/Phoenix:20260425T170000
DTSTAMP:20260424T084131
CREATED:20251020T042754Z
LAST-MODIFIED:20251020T042754Z
UID:10016184-1777129200-1777136400@onstageaz.com
SUMMARY:Memories of Concerts Past
DESCRIPTION:Variations on a Theme by Haydn ~ Johannes BrahmsPiano Concerto No. 1\, Mvt. 1 ~ Edvard Grieg (April 26)\nwith YAC Winner Ben Teller\, soloist\nPeer Gynt Suite ~ Edvard Grieg (April 26\, May 3)\nAfro-American Symphony\, Mvt. 1 ~ William Grant Still\n“Nimrod” from Enigma Variations ~ Edward Elgar\nLibertango ~ Astor Piazolla\nHow to Train Your Dragon ~ John Powell\n“Phantom of the Opera” Medley ~ Andrew Lloyd Webber\n“Cats” Medley ~ Andrew Lloyd Webber
URL:https://onstageaz.com/event/memories-of-concerts-past/
LOCATION:AZ
CATEGORIES:Music,Stage
ATTACH;FMTTYPE=image/png:https://onstageaz.com/wp-content/uploads/2025/10/QWPL17o.png
ORGANIZER;CN="Civic Orchestra Of Tucson":MAILTO:info@cotmusic.org
END:VEVENT
BEGIN:VEVENT
DTSTART;TZID=America/Phoenix:20260425T190000
DTEND;TZID=America/Phoenix:20260425T210000
DTSTAMP:20260424T084132
CREATED:20250917T233933Z
LAST-MODIFIED:20250917T233933Z
UID:10014845-1777143600-1777150800@onstageaz.com
SUMMARY:Newsies
DESCRIPTION:Now is the time to SEIZE THE DAY with Newsies! They delivered the papers\, and then they made the headlines. This smash-hit\, Tony Award- winning musical has an extraordinary story\, inspired by actual events. When a band of underdogs became unlikely heroes that stood up to the most powerful men in New York\, it shook the world. It’s an energetic tale about fighting for what’s right… and staying true to who you are. The music will energize you\, the dancing will astound you and their story will inspire you.
URL:https://onstageaz.com/event/newsies/2026-04-25/2/
LOCATION:Arts Express Theatre\, 5870 E. Broadway Blvd.\, Ste. 214\, Tucson\,\, AZ\, 85737\, United States
CATEGORIES:Stage,Theatrical
ATTACH;FMTTYPE=image/png:https://onstageaz.com/wp-content/uploads/2025/09/Screenshot-2025-09-17-at-4.36.48-PM.png
ORGANIZER;CN="Arts Express":MAILTO:info@arts-express.org
END:VEVENT
BEGIN:VEVENT
DTSTART;TZID=America/Phoenix:20260425T190000
DTEND;TZID=America/Phoenix:20260425T210000
DTSTAMP:20260424T084132
CREATED:20251123T231739Z
LAST-MODIFIED:20251123T231739Z
UID:10016490-1777143600-1777150800@onstageaz.com
SUMMARY:Pima Theater: Fairview
DESCRIPTION:Pima Community College Theater presents “Fairview\,” the 2019 Pulitzer Prize-winning play by Jackie Sibblies Drury. This groundbreaking work starts as a seemingly familiar family dramedy before evolving into a provocative examination of race\, privilege\, and the white gaze in both theater and society. Through unexpected shifts in perspective\, Fairview challenges audiences to confront their own roles in systems of oppression and reconsider who controls the narrative. This thought-provoking production promises to spark important conversations and offers a powerful theatrical experience. [Director TBD]
URL:https://onstageaz.com/event/pima-theater-fairview/2026-04-25/
LOCATION:Pima Community College Center for the Arts\, 2202 W Anklam Rd.\, Tucson\, AZ\, 85709\, United States
CATEGORIES:Stage,Theatrical
ATTACH;FMTTYPE=image/jpeg:https://onstageaz.com/wp-content/uploads/2025/11/MnafDTaE.jpg
ORGANIZER;CN="Pima Arts":MAILTO:centerforthearts@pima.edu
END:VEVENT
BEGIN:VEVENT
DTSTART;TZID=America/Phoenix:20260425T193000
DTEND;TZID=America/Phoenix:20260425T213000
DTSTAMP:20260424T084132
CREATED:20250710T031332Z
LAST-MODIFIED:20250710T031332Z
UID:10013909-1777145400-1777152600@onstageaz.com
SUMMARY:Jerry's Girls
DESCRIPTION:This dynamic revue celebrates the music of Jerry Herman\, highlighting the broad spectrum of thrilling material he wrote specifically for female performers. This fast-paced revue features all the best songs and crowd favorites from such immortal musicals as Mame\, Hello Dolly!\, Milk and Honey\, Mack and Mabel\, A Day in Hollywood/A Night in the Ukraine and La Cage Aux Folles.
URL:https://onstageaz.com/event/jerrys-girls/2026-04-25/2/
LOCATION:Marroney Theatre\, 1025 N Olive Rd\, Tucson\, AZ\, 85721\, United States
CATEGORIES:Stage,Theatrical
ATTACH;FMTTYPE=image/jpeg:https://onstageaz.com/wp-content/uploads/2025/07/Zqmdwe4g.jpg
END:VEVENT
BEGIN:VEVENT
DTSTART;TZID=America/Phoenix:20260425T193000
DTEND;TZID=America/Phoenix:20260425T213000
DTSTAMP:20260424T084132
CREATED:20251020T035431Z
LAST-MODIFIED:20251020T035431Z
UID:10016251-1777145400-1777152600@onstageaz.com
SUMMARY:The Tempest
DESCRIPTION:The classic tale of Prospero and his daughter Miranda and their effort to escape their enchanted island. The mature Shakespeare revisits magic with profound verse and invitations for striking theatrical effects.
URL:https://onstageaz.com/event/the-tempest/2026-04-25/2/
LOCATION:The Rogue Theatre\, 300 E University Blvd Suite #150\, Tucson\, AZ\, 85705\, United States
CATEGORIES:Stage,Theatrical
ATTACH;FMTTYPE=image/jpeg:https://onstageaz.com/wp-content/uploads/2025/10/5ya0xWH8.jpg
ORGANIZER;CN="The Rogue Theatre":MAILTO:ticket@TheRogueTheatre.org
END:VEVENT
END:VCALENDAR