BEGIN:VCALENDAR
VERSION:2.0
PRODID:-//ON Stage Arizona - ECPv6.15.18//NONSGML v1.0//EN
CALSCALE:GREGORIAN
METHOD:PUBLISH
X-WR-CALNAME:ON Stage Arizona
X-ORIGINAL-URL:https://onstageaz.com
X-WR-CALDESC:Events for ON Stage Arizona
REFRESH-INTERVAL;VALUE=DURATION:PT1H
X-Robots-Tag:noindex
X-PUBLISHED-TTL:PT1H
BEGIN:VTIMEZONE
TZID:America/Phoenix
BEGIN:STANDARD
TZOFFSETFROM:-0700
TZOFFSETTO:-0700
TZNAME:MST
DTSTART:20250101T000000
END:STANDARD
END:VTIMEZONE
BEGIN:VEVENT
DTSTART;TZID=America/Phoenix:20260422T190000
DTEND;TZID=America/Phoenix:20260422T210000
DTSTAMP:20260424T084130
CREATED:20260304T211038Z
LAST-MODIFIED:20260304T211038Z
UID:10016819-1776884400-1776891600@onstageaz.com
SUMMARY:Cinema Tucsón - April 2026
DESCRIPTION:As Mexican cinema continues to generate world-wide enthusiasm\, the creative team behind the Tucson Cine Mexico film festival—which\, during seventeen years\, created a vital platform for the exhibition of Mexican cinema in the U.S—is presenting monthly screenings of a mix of classic films\, B movies\, and new cinema with exceptional filmmakers and special guests for dialogue with the Tucson community.
URL:https://onstageaz.com/event/cinema-tucson-%c2%b7-april-2026/
LOCATION:Fox Tucson Theatre\, 17 W Congress St\, Tucson\, AZ\, 85701\, United States
CATEGORIES:film
ATTACH;FMTTYPE=image/png:https://onstageaz.com/wp-content/uploads/2026/02/Screenshot-2026-02-18-at-5.55.31-PM.png
ORGANIZER;CN="Fox Tucson Theatre":MAILTO:foxinfo@foxtucson.com
END:VEVENT
BEGIN:VEVENT
DTSTART;TZID=America/Phoenix:20260422T190000
DTEND;TZID=America/Phoenix:20260422T210000
DTSTAMP:20260424T084130
CREATED:20260321T011201Z
LAST-MODIFIED:20260325T192849Z
UID:10016856-1776884400-1776891600@onstageaz.com
SUMMARY:La Reserva
DESCRIPTION:Cinema Tropical and the Center for Latin American Studies at the University of Arizona present Cinema Tucsón\, a cultural initiative launched in 2021\, featuring monthly screenings of Mexican films at the historic Fox Tucson Theatre. \nProgrammed by Carlos A. Gutiérrez and Vicky Westover. \nAs Mexican cinema continues to generate world-wide enthusiasm\, the creative team behind the Tucson Cine Mexico film festival—which\, during seventeen years\, created a vital platform for the exhibition of Mexican cinema in the U.S—is presenting monthly screenings of a mix of classic films\, B movies\, and new cinema with exceptional filmmakers and special guests for dialogue with the Tucson community.
URL:https://onstageaz.com/event/la-reserva/
LOCATION:Fox Tucson Theatre\, 17 W Congress St\, Tucson\, AZ\, 85701\, United States
CATEGORIES:Exhibits,film
ATTACH;FMTTYPE=image/png:https://onstageaz.com/wp-content/uploads/2026/03/Screenshot-2026-03-20-at-6.02.06-PM.png
ORGANIZER;CN="Fox Tucson Theatre":MAILTO:foxinfo@foxtucson.com
END:VEVENT
BEGIN:VEVENT
DTSTART;TZID=America/Phoenix:20260422T193000
DTEND;TZID=America/Phoenix:20260422T213000
DTSTAMP:20260424T084130
CREATED:20250710T031639Z
LAST-MODIFIED:20250710T031639Z
UID:10013906-1776886200-1776893400@onstageaz.com
SUMMARY:Jerry's Girls (Preview)
DESCRIPTION:This dynamic revue celebrates the music of Jerry Herman\, highlighting the broad spectrum of thrilling material he wrote specifically for female performers. This fast-paced revue features all the best songs and crowd favorites from such immortal musicals as Mame\, Hello Dolly!\, Milk and Honey\, Mack and Mabel\, A Day in Hollywood/A Night in the Ukraine and La Cage Aux Folles.
URL:https://onstageaz.com/event/jerrys-girls-preview/2026-04-22/
LOCATION:Marroney Theatre\, 1025 N Olive Rd\, Tucson\, AZ\, 85721\, United States
CATEGORIES:Stage,Theatrical
ATTACH;FMTTYPE=image/jpeg:https://onstageaz.com/wp-content/uploads/2025/07/Zqmdwe4g.jpg
END:VEVENT
END:VCALENDAR