BEGIN:VCALENDAR
VERSION:2.0
PRODID:-//ON Stage Arizona - ECPv6.15.18//NONSGML v1.0//EN
CALSCALE:GREGORIAN
METHOD:PUBLISH
X-WR-CALNAME:ON Stage Arizona
X-ORIGINAL-URL:https://onstageaz.com
X-WR-CALDESC:Events for ON Stage Arizona
REFRESH-INTERVAL;VALUE=DURATION:PT1H
X-Robots-Tag:noindex
X-PUBLISHED-TTL:PT1H
BEGIN:VTIMEZONE
TZID:America/Phoenix
BEGIN:STANDARD
TZOFFSETFROM:-0700
TZOFFSETTO:-0700
TZNAME:MST
DTSTART:20250101T000000
END:STANDARD
END:VTIMEZONE
BEGIN:VEVENT
DTSTART;TZID=America/Phoenix:20260417T160000
DTEND;TZID=America/Phoenix:20260417T180000
DTSTAMP:20260424T084048
CREATED:20250624T000008Z
LAST-MODIFIED:20250624T000008Z
UID:10012914-1776441600-1776448800@onstageaz.com
SUMMARY:West Side Story & The Great American Songbook
DESCRIPTION:Based on Romeo and Juliet\, West Side Story is one of the great classics of the 20th century. Conceived by Jerome Robbins with music by Leonard Bernstein and lyrics by Stephen Sondheim\, this work takes the classic tale into a relatable modern American context\, changing the landscape of American musicals. Bernstein’s evocative style brings to life the story of love in the face of division. Swing to The Great American Songbook\, the American pop music of the 1920’s to 50’s\, with sounds and songs that reflect who we were and where we came from. When you hear these songs\, you know them! This is the music that is in our cultural DNA.
URL:https://onstageaz.com/event/west-side-story-the-great-american-songbook/
LOCATION:Valley Presbyterian Church\, 2800 S Camino Del Sol\, Green Valley\, AZ\, 85622\, United States
CATEGORIES:Music
ATTACH;FMTTYPE=image/png:https://onstageaz.com/wp-content/uploads/2025/05/Screenshot-2025-06-23-at-4.48.45-PM.png
ORGANIZER;CN="True Concord Voices & Orchestra":MAILTO:info@TrueConcord.org
END:VEVENT
BEGIN:VEVENT
DTSTART;TZID=America/Phoenix:20260417T190000
DTEND;TZID=America/Phoenix:20260417T210000
DTSTAMP:20260424T084048
CREATED:20250623T225108Z
LAST-MODIFIED:20250623T225108Z
UID:10013231-1776452400-1776459600@onstageaz.com
SUMMARY:Ballet in Bloom
DESCRIPTION:
URL:https://onstageaz.com/event/ballet-in-bloom/2026-04-17/
LOCATION:AZ
CATEGORIES:Dance,Stage
ATTACH;FMTTYPE=image/jpeg:https://onstageaz.com/wp-content/uploads/2025/05/ZnrPaQBI.jpg
ORGANIZER;CN="Ballet Tucson":MAILTO:info@ballettucson.org
END:VEVENT
BEGIN:VEVENT
DTSTART;TZID=America/Phoenix:20260417T190000
DTEND;TZID=America/Phoenix:20260417T210000
DTSTAMP:20260424T084048
CREATED:20250917T233933Z
LAST-MODIFIED:20250917T233933Z
UID:10014410-1776452400-1776459600@onstageaz.com
SUMMARY:Newsies
DESCRIPTION:Now is the time to SEIZE THE DAY with Newsies! They delivered the papers\, and then they made the headlines. This smash-hit\, Tony Award- winning musical has an extraordinary story\, inspired by actual events. When a band of underdogs became unlikely heroes that stood up to the most powerful men in New York\, it shook the world. It’s an energetic tale about fighting for what’s right… and staying true to who you are. The music will energize you\, the dancing will astound you and their story will inspire you.
URL:https://onstageaz.com/event/newsies/2026-04-17/
LOCATION:Arts Express Theatre\, 5870 E. Broadway Blvd.\, Ste. 214\, Tucson\,\, AZ\, 85737\, United States
CATEGORIES:Stage,Theatrical
ATTACH;FMTTYPE=image/png:https://onstageaz.com/wp-content/uploads/2025/09/Screenshot-2025-09-17-at-4.36.48-PM.png
ORGANIZER;CN="Arts Express":MAILTO:info@arts-express.org
END:VEVENT
BEGIN:VEVENT
DTSTART;TZID=America/Phoenix:20260417T193000
DTEND;TZID=America/Phoenix:20260417T221000
DTSTAMP:20260424T084048
CREATED:20250527T205012Z
LAST-MODIFIED:20260325T191424Z
UID:10013189-1776454200-1776463800@onstageaz.com
SUMMARY:Back to the Future
DESCRIPTION:Back to the Future at Centennial Hall in Tucson\, Arizona\nBroadway in Tucson presents Back to the Future at Centennial Hall. This thrilling new musical adapts the beloved 1985 film for the stage. When Marty McFly steps into Doc Brown’s DeLorean time machine\, he’s thrust back to 1955. An accidental disruption of his parents’ first meeting puts his own existence at risk. Now Marty must repair history\, outsmart Biff Tannen\, and find a way home. \nWith high-voltage staging and dynamic choreography\, Back to the Future races through time. Iconic moments come to life as the DeLorean hits 88 mph. Electrifying live music and original songs power every twist and turn. Immersive set design recreates Hill Valley’s streets\, school\, and clock tower. The production combines classic nostalgia with cutting-edge theatrical effects. Audiences of all ages will cheer for Marty’s daring quest and Doc’s eccentric brilliance. \n\n\n\n\n\nTickets for Back to the Future sell quickly. Reserve your seats now. Plan your trip to the past\, present\, and future in one unforgettable night. \nDon’t miss Back to the Future—a high-speed adventure that changes musical theater history forever!
URL:https://onstageaz.com/event/back-to-the-future/2026-04-17/
LOCATION:Centennial Hall\, 1020 E. University Blvd\, Tucson\, AZ\, 85719\, United States
CATEGORIES:Music,Stage,Theatrical
ATTACH;FMTTYPE=image/jpeg:https://onstageaz.com/wp-content/uploads/2025/05/VdR-UD-M.jpg
ORGANIZER;CN="Broadway In Tucson":MAILTO:info@broadwayintucson.com
END:VEVENT
END:VCALENDAR