BEGIN:VCALENDAR
VERSION:2.0
PRODID:-//ON Stage Arizona - ECPv6.15.18//NONSGML v1.0//EN
CALSCALE:GREGORIAN
METHOD:PUBLISH
X-WR-CALNAME:ON Stage Arizona
X-ORIGINAL-URL:https://onstageaz.com
X-WR-CALDESC:Events for ON Stage Arizona
REFRESH-INTERVAL;VALUE=DURATION:PT1H
X-Robots-Tag:noindex
X-PUBLISHED-TTL:PT1H
BEGIN:VTIMEZONE
TZID:America/Phoenix
BEGIN:STANDARD
TZOFFSETFROM:-0700
TZOFFSETTO:-0700
TZNAME:MST
DTSTART:20250101T000000
END:STANDARD
END:VTIMEZONE
BEGIN:VEVENT
DTSTART;TZID=America/Phoenix:20260415T150000
DTEND;TZID=America/Phoenix:20260415T170000
DTSTAMP:20260424T085405
CREATED:20251123T231840Z
LAST-MODIFIED:20251123T231840Z
UID:10016429-1776265200-1776272400@onstageaz.com
SUMMARY:2026 Annual Juried Student Exhibition & Awards: Reception
DESCRIPTION:This annual exhibition brings together the jurors’ selections of the best works of student artists produced during the 2025 summer and fall semesters and spring 2026 semester from all of Pima Community College’s campuses. Jurors: TBD
URL:https://onstageaz.com/event/2026-annual-juried-student-exhibition-awards-reception/
LOCATION:Pima Community College Center for the Arts\, 2202 W Anklam Rd.\, Tucson\, AZ\, 85709\, United States
CATEGORIES:Exhibits,Stage
ATTACH;FMTTYPE=image/jpeg:https://onstageaz.com/wp-content/uploads/2025/11/bxAQdX-c.jpg
ORGANIZER;CN="Pima Arts":MAILTO:centerforthearts@pima.edu
END:VEVENT
BEGIN:VEVENT
DTSTART;TZID=America/Phoenix:20260415T180000
DTEND;TZID=America/Phoenix:20260415T200000
DTSTAMP:20260424T085405
CREATED:20260321T010959Z
LAST-MODIFIED:20260325T192820Z
UID:10016855-1776276000-1776283200@onstageaz.com
SUMMARY:Elmo's Got the Moves
DESCRIPTION:Make unforgettable memories with your little ones at Elmo’s Got the Moves — the all-new Sesame Street Live show coming to your neighborhood! \nThis exciting show will have kids and parents alike out of their seats and moving and dancing along with Elmo and his Sesame Street friends as they dance\, stretch\, and play along to fan-favorite songs\, including “Sunny Days\,” “Elmo’s Got the Moves\,” and “Letter of the Day.” \nFamilies will discover fun and playful ways to move — from yoga and jumping rope to cartwheeling and silly dance moves — all in a welcoming environment that brings the magic of Sesame Street from the screen to the stage.  More than just a show\, Elmo’s Got the Moves is a shared moment of laughter and learning — an experience you and your child will treasure long after the final song. \nMeet the Characters of ELMO’S GOT THE MOVES  \nIn this exclusive post show experience\, you and your family will have the opportunity to make a lasting memory of your visit by taking a photo alongside characters from ELMO’S GOT THE MOVES! \nHere’s how it works: Photo Experience ticket purchasers should go to the Will Call window at the Box Office on the show day to pick up their photo experience passes and after-show instructions. Each adult and child in a group must have a Photo Experience ticket to attend and participate in the Photo Experience. The Photo Experience will start shortly after the end of show. \nPlease make sure to bring your camera\, as you will want to capture every moment!
URL:https://onstageaz.com/event/elmos-got-the-moves/
LOCATION:Fox Tucson Theatre\, 17 W Congress St\, Tucson\, AZ\, 85701\, United States
CATEGORIES:Family,Music,Stage,Theatrical
ATTACH;FMTTYPE=image/png:https://onstageaz.com/wp-content/uploads/2026/03/Screenshot-2026-03-20-at-6.01.53-PM.png
ORGANIZER;CN="Fox Tucson Theatre":MAILTO:foxinfo@foxtucson.com
END:VEVENT
BEGIN:VEVENT
DTSTART;TZID=America/Phoenix:20260415T193000
DTEND;TZID=America/Phoenix:20260415T221000
DTSTAMP:20260424T085405
CREATED:20250527T205012Z
LAST-MODIFIED:20260325T191424Z
UID:10013187-1776281400-1776291000@onstageaz.com
SUMMARY:Back to the Future
DESCRIPTION:Back to the Future at Centennial Hall in Tucson\, Arizona\nBroadway in Tucson presents Back to the Future at Centennial Hall. This thrilling new musical adapts the beloved 1985 film for the stage. When Marty McFly steps into Doc Brown’s DeLorean time machine\, he’s thrust back to 1955. An accidental disruption of his parents’ first meeting puts his own existence at risk. Now Marty must repair history\, outsmart Biff Tannen\, and find a way home. \nWith high-voltage staging and dynamic choreography\, Back to the Future races through time. Iconic moments come to life as the DeLorean hits 88 mph. Electrifying live music and original songs power every twist and turn. Immersive set design recreates Hill Valley’s streets\, school\, and clock tower. The production combines classic nostalgia with cutting-edge theatrical effects. Audiences of all ages will cheer for Marty’s daring quest and Doc’s eccentric brilliance. \n\n\n\n\n\nTickets for Back to the Future sell quickly. Reserve your seats now. Plan your trip to the past\, present\, and future in one unforgettable night. \nDon’t miss Back to the Future—a high-speed adventure that changes musical theater history forever!
URL:https://onstageaz.com/event/back-to-the-future/2026-04-15/
LOCATION:Centennial Hall\, 1020 E. University Blvd\, Tucson\, AZ\, 85719\, United States
CATEGORIES:Music,Stage,Theatrical
ATTACH;FMTTYPE=image/jpeg:https://onstageaz.com/wp-content/uploads/2025/05/VdR-UD-M.jpg
ORGANIZER;CN="Broadway In Tucson":MAILTO:info@broadwayintucson.com
END:VEVENT
END:VCALENDAR