BEGIN:VCALENDAR
VERSION:2.0
PRODID:-//ON Stage Arizona - ECPv6.15.18//NONSGML v1.0//EN
CALSCALE:GREGORIAN
METHOD:PUBLISH
X-WR-CALNAME:ON Stage Arizona
X-ORIGINAL-URL:https://onstageaz.com
X-WR-CALDESC:Events for ON Stage Arizona
REFRESH-INTERVAL;VALUE=DURATION:PT1H
X-Robots-Tag:noindex
X-PUBLISHED-TTL:PT1H
BEGIN:VTIMEZONE
TZID:America/Phoenix
BEGIN:STANDARD
TZOFFSETFROM:-0700
TZOFFSETTO:-0700
TZNAME:MST
DTSTART:20250101T000000
END:STANDARD
END:VTIMEZONE
BEGIN:VEVENT
DTSTART;TZID=America/Phoenix:20260411T140000
DTEND;TZID=America/Phoenix:20260411T160000
DTSTAMP:20260424T084131
CREATED:20260413T055424Z
LAST-MODIFIED:20260413T055424Z
UID:10017537-1775916000-1775923200@onstageaz.com
SUMMARY:Ravel & Elgar
DESCRIPTION:The love of Daphnis and Chloe inspired Maurice Ravel produce his most intoxicating score\, and in the estimation of no less than Stravinsky\, it is “one of the most beautiful products of all French music.” Sphinx Competition winner Sterling Elliott has been hailed by New York Concert Review for his “perfect intonation\, style\, and total involvement.” Experience his artistry in Elgar’s achingly poignant Cello Concerto.
URL:https://onstageaz.com/event/ravel-elgar/2026-04-11/
LOCATION:The Linda Ronstadt Music Hall\, 260 S Church Ave\, Tucson\, AZ\, 85701\, United States
CATEGORIES:Music,Stage
ATTACH;FMTTYPE=image/png:https://onstageaz.com/wp-content/uploads/2026/04/Screenshot-2026-04-12-at-10.52.59-PM.png
END:VEVENT
END:VCALENDAR