BEGIN:VCALENDAR
VERSION:2.0
PRODID:-//ON Stage Arizona - ECPv6.15.18//NONSGML v1.0//EN
CALSCALE:GREGORIAN
METHOD:PUBLISH
X-WR-CALNAME:ON Stage Arizona
X-ORIGINAL-URL:https://onstageaz.com
X-WR-CALDESC:Events for ON Stage Arizona
REFRESH-INTERVAL;VALUE=DURATION:PT1H
X-Robots-Tag:noindex
X-PUBLISHED-TTL:PT1H
BEGIN:VTIMEZONE
TZID:America/Phoenix
BEGIN:STANDARD
TZOFFSETFROM:-0700
TZOFFSETTO:-0700
TZNAME:MST
DTSTART:20250101T000000
END:STANDARD
END:VTIMEZONE
BEGIN:VEVENT
DTSTART;TZID=America/Phoenix:20260403T140000
DTEND;TZID=America/Phoenix:20260403T160000
DTSTAMP:20260424T084130
CREATED:20260413T055646Z
LAST-MODIFIED:20260413T055658Z
UID:10017076-1775224800-1775232000@onstageaz.com
SUMMARY:Bach & Tchaikovsky
DESCRIPTION:The glory of Bach: the brilliant Double Violin Concerto. The passion of Tchaikovsky: the exquisite\, lilting Serenade for Strings. Both in concerts also featuring Respighi’s sparkling Ancient Airs and Dances. And music by Pulitzer Prize winner Ellen Reid\, her mystical\, searching West Coast Sky Eternal.
URL:https://onstageaz.com/event/bach-tchaikovsky/2026-04-03/
LOCATION:Catalina Foothills High School\, AZ\, United States
CATEGORIES:Music,Stage
ATTACH;FMTTYPE=image/png:https://onstageaz.com/wp-content/uploads/2026/04/Screenshot-2026-04-12-at-10.55.24-PM.png
END:VEVENT
BEGIN:VEVENT
DTSTART;TZID=America/Phoenix:20260403T193000
DTEND;TZID=America/Phoenix:20260403T213000
DTSTAMP:20260424T084130
CREATED:20250706T222546Z
LAST-MODIFIED:20250706T222546Z
UID:10013048-1775244600-1775251800@onstageaz.com
SUMMARY:The Roommate
DESCRIPTION:The Roommate at the Temple of Music and Art in Tucson\, Arizona\nArizona Theatre Company presents The Roommate\, a hilariously touching new comedy at the Temple of Music and Art. \nEmpty-nesting Minnesotan Mary Kinley needs extra income. She advertises for a lodger to share her Tucson home. An enigmatic East Coast visitor arrives with a mysterious past. Their unlikely friendship sparks reinvention\, risk\, and unexpected consequences. \nReminiscent of The Odd Couple and Netflix’s Grace and Frankie\, The Roommate blends laughter and heartache. It explores second chances\, self-discovery\, and the challenges of starting over. Each scene delivers witty dialogue\, surprising twists\, and genuine warmth. \nDirected by four-time Oscar–nominated actress and veteran theater director Marsha Mason\, The Roommate shines with her trademark comedic flair. Mason served as Associate Director on Broadway. She previously delighted ATC audiences with Chapter Two and An Act of God. \nVisit Arizona Theatre Company’s website to purchase tickets online today. Don’t miss this unforgettable blend of humor and heart. \nJoin us at the Temple of Music and Art in downtown Tucson for The Roommate. Experience a hilarious\, moving journey of laughter\, risk\, and second chances. Feel the magic of live theater in a classic Arizona venue.
URL:https://onstageaz.com/event/the-roommate/2026-04-03/
LOCATION:Temple of Music and Art\, 330 S Scott Ave\, Tucson\, AZ\, 85701\, United States
CATEGORIES:Stage,Theatrical
ATTACH;FMTTYPE=image/png:https://onstageaz.com/wp-content/uploads/2025/05/Screenshot-2025-07-06-at-3.18.05-PM.png
ORGANIZER;CN="Arizona Theatre Company":MAILTO:boxoffice@atc.org
END:VEVENT
END:VCALENDAR