BEGIN:VCALENDAR
VERSION:2.0
PRODID:-//ON Stage Arizona - ECPv6.15.18//NONSGML v1.0//EN
CALSCALE:GREGORIAN
METHOD:PUBLISH
X-WR-CALNAME:ON Stage Arizona
X-ORIGINAL-URL:https://onstageaz.com
X-WR-CALDESC:Events for ON Stage Arizona
REFRESH-INTERVAL;VALUE=DURATION:PT1H
X-Robots-Tag:noindex
X-PUBLISHED-TTL:PT1H
BEGIN:VTIMEZONE
TZID:America/Phoenix
BEGIN:STANDARD
TZOFFSETFROM:-0700
TZOFFSETTO:-0700
TZNAME:MST
DTSTART:20250101T000000
END:STANDARD
END:VTIMEZONE
BEGIN:VEVENT
DTSTART;TZID=America/Phoenix:20260401T140000
DTEND;TZID=America/Phoenix:20260401T160000
DTSTAMP:20260424T084046
CREATED:20250706T222546Z
LAST-MODIFIED:20250706T222546Z
UID:10013044-1775052000-1775059200@onstageaz.com
SUMMARY:The Roommate
DESCRIPTION:The Roommate at the Temple of Music and Art in Tucson\, Arizona\nArizona Theatre Company presents The Roommate\, a hilariously touching new comedy at the Temple of Music and Art. \nEmpty-nesting Minnesotan Mary Kinley needs extra income. She advertises for a lodger to share her Tucson home. An enigmatic East Coast visitor arrives with a mysterious past. Their unlikely friendship sparks reinvention\, risk\, and unexpected consequences. \nReminiscent of The Odd Couple and Netflix’s Grace and Frankie\, The Roommate blends laughter and heartache. It explores second chances\, self-discovery\, and the challenges of starting over. Each scene delivers witty dialogue\, surprising twists\, and genuine warmth. \nDirected by four-time Oscar–nominated actress and veteran theater director Marsha Mason\, The Roommate shines with her trademark comedic flair. Mason served as Associate Director on Broadway. She previously delighted ATC audiences with Chapter Two and An Act of God. \nVisit Arizona Theatre Company’s website to purchase tickets online today. Don’t miss this unforgettable blend of humor and heart. \nJoin us at the Temple of Music and Art in downtown Tucson for The Roommate. Experience a hilarious\, moving journey of laughter\, risk\, and second chances. Feel the magic of live theater in a classic Arizona venue.
URL:https://onstageaz.com/event/the-roommate/2026-04-01/1/
LOCATION:Temple of Music and Art\, 330 S Scott Ave\, Tucson\, AZ\, 85701\, United States
CATEGORIES:Stage,Theatrical
ATTACH;FMTTYPE=image/png:https://onstageaz.com/wp-content/uploads/2025/05/Screenshot-2025-07-06-at-3.18.05-PM.png
ORGANIZER;CN="Arizona Theatre Company":MAILTO:boxoffice@atc.org
END:VEVENT
BEGIN:VEVENT
DTSTART;TZID=America/Phoenix:20260401T193000
DTEND;TZID=America/Phoenix:20260401T213000
DTSTAMP:20260424T084046
CREATED:20250706T222546Z
LAST-MODIFIED:20250706T222546Z
UID:10013045-1775071800-1775079000@onstageaz.com
SUMMARY:The Roommate
DESCRIPTION:The Roommate at the Temple of Music and Art in Tucson\, Arizona\nArizona Theatre Company presents The Roommate\, a hilariously touching new comedy at the Temple of Music and Art. \nEmpty-nesting Minnesotan Mary Kinley needs extra income. She advertises for a lodger to share her Tucson home. An enigmatic East Coast visitor arrives with a mysterious past. Their unlikely friendship sparks reinvention\, risk\, and unexpected consequences. \nReminiscent of The Odd Couple and Netflix’s Grace and Frankie\, The Roommate blends laughter and heartache. It explores second chances\, self-discovery\, and the challenges of starting over. Each scene delivers witty dialogue\, surprising twists\, and genuine warmth. \nDirected by four-time Oscar–nominated actress and veteran theater director Marsha Mason\, The Roommate shines with her trademark comedic flair. Mason served as Associate Director on Broadway. She previously delighted ATC audiences with Chapter Two and An Act of God. \nVisit Arizona Theatre Company’s website to purchase tickets online today. Don’t miss this unforgettable blend of humor and heart. \nJoin us at the Temple of Music and Art in downtown Tucson for The Roommate. Experience a hilarious\, moving journey of laughter\, risk\, and second chances. Feel the magic of live theater in a classic Arizona venue.
URL:https://onstageaz.com/event/the-roommate/2026-04-01/2/
LOCATION:Temple of Music and Art\, 330 S Scott Ave\, Tucson\, AZ\, 85701\, United States
CATEGORIES:Stage,Theatrical
ATTACH;FMTTYPE=image/png:https://onstageaz.com/wp-content/uploads/2025/05/Screenshot-2025-07-06-at-3.18.05-PM.png
ORGANIZER;CN="Arizona Theatre Company":MAILTO:boxoffice@atc.org
END:VEVENT
BEGIN:VEVENT
DTSTART;TZID=America/Phoenix:20260401T193000
DTEND;TZID=America/Phoenix:20260401T213000
DTSTAMP:20260424T084046
CREATED:20260321T004133Z
LAST-MODIFIED:20260325T191059Z
UID:10016849-1775071800-1775079000@onstageaz.com
SUMMARY:Lucy Darling
DESCRIPTION:Award-winning performer Carisa Hendrix stars as charming socialite and cocktail enthusiast Lucy Darling as she continues her vivacious vagabond voyages with Simply Darling — a touring variety show featuring her razor-sharp wit\, unquestionable advice\, and skillful magic. Lucy is bringing her signature charm and mischief from screen to stage. Simply Darling is the perfect chance to take a break from reality and indulge in the mischief\, sarcasm\, and wonder that we all deserve.
URL:https://onstageaz.com/event/lucy-darling/
LOCATION:Fox Tucson Theatre\, 17 W Congress St\, Tucson\, AZ\, 85701\, United States
CATEGORIES:Comedy,speakers,Stage,Theatrical
ATTACH;FMTTYPE=image/png:https://onstageaz.com/wp-content/uploads/2026/03/Screenshot-2026-03-20-at-5.38.29-PM.png
ORGANIZER;CN="Fox Tucson Theatre":MAILTO:foxinfo@foxtucson.com
END:VEVENT
END:VCALENDAR