BEGIN:VCALENDAR
VERSION:2.0
PRODID:-//ON Stage Arizona - ECPv6.15.18//NONSGML v1.0//EN
CALSCALE:GREGORIAN
METHOD:PUBLISH
X-WR-CALNAME:ON Stage Arizona
X-ORIGINAL-URL:https://onstageaz.com
X-WR-CALDESC:Events for ON Stage Arizona
REFRESH-INTERVAL;VALUE=DURATION:PT1H
X-Robots-Tag:noindex
X-PUBLISHED-TTL:PT1H
BEGIN:VTIMEZONE
TZID:America/Phoenix
BEGIN:STANDARD
TZOFFSETFROM:-0700
TZOFFSETTO:-0700
TZNAME:MST
DTSTART:20250101T000000
END:STANDARD
END:VTIMEZONE
BEGIN:VEVENT
DTSTART;TZID=America/Phoenix:20260329T130000
DTEND;TZID=America/Phoenix:20260329T170000
DTSTAMP:20260424T085420
CREATED:20251123T232025Z
LAST-MODIFIED:20251123T232025Z
UID:10016427-1774789200-1774803600@onstageaz.com
SUMMARY:Spring Music Showcase
DESCRIPTION:Experience an afternoon immersed in the melody\, harmony and rhythm of Pima’s diverse music ensembles. From the harmonious voices of Chorale & College Singers to the dynamic performances of our Concert Band\, Symphonic Orchestra\, Jazz Ensemble\, Guitar Ensemble\, Mariachi and String Ensemble\, performances will offer an array of creative and skillful performances to revel in. Free Admission
URL:https://onstageaz.com/event/spring-music-showcase/
LOCATION:Pima Community College Center for the Arts\, 2202 W Anklam Rd.\, Tucson\, AZ\, 85709\, United States
CATEGORIES:Music,Stage
ATTACH;FMTTYPE=image/jpeg:https://onstageaz.com/wp-content/uploads/2025/11/mg6LR-KU.jpg
ORGANIZER;CN="Pima Arts":MAILTO:centerforthearts@pima.edu
END:VEVENT
BEGIN:VEVENT
DTSTART;TZID=America/Phoenix:20260329T133000
DTEND;TZID=America/Phoenix:20260329T153000
DTSTAMP:20260424T085420
CREATED:20250710T031039Z
LAST-MODIFIED:20250710T031039Z
UID:10013905-1774791000-1774798200@onstageaz.com
SUMMARY:New Directions Festival
DESCRIPTION:New directions\, new voices. Annual festival of new works by TFTV students. A collection new short plays written\, dramaturged\, acted and directed by students in the School of Theatre\, Film & Television.
URL:https://onstageaz.com/event/new-directions-festival-4/2026-03-29/
LOCATION:Tornabene Theatre\, 1025 N. Olive Rd.\, Tucson\, AZ\, 85721\, United States
CATEGORIES:Stage,Theatrical
ATTACH;FMTTYPE=image/jpeg:https://onstageaz.com/wp-content/uploads/2025/07/kNzjVeNU.jpg
END:VEVENT
BEGIN:VEVENT
DTSTART;TZID=America/Phoenix:20260329T140000
DTEND;TZID=America/Phoenix:20260329T160000
DTSTAMP:20260424T085420
CREATED:20250917T233804Z
LAST-MODIFIED:20250917T233804Z
UID:10014839-1774792800-1774800000@onstageaz.com
SUMMARY:All Shook Up
DESCRIPTION:ELVIS IS IN THE BUILDING! The legendary songs of Elvis Presley ignite a rockin’ romp set in the Fabulous ’50s. When a guitar-playing stranger on a motorcycle roars into a sleepy town\, nothing will be the same. Boy meets girl and soon everybody can’t help falling in love. Mistaken identity\, mismatched lovers and the magic of romance come together in a free- wheeling rock and roll comedy with non-stop classics\, from “Heartbreak Hotel” and “Hound Dog\,” to “Love Me Tender” and “Don’t Be Cruel.”
URL:https://onstageaz.com/event/all-shook-up/2026-03-29/
LOCATION:Arts Express Theatre\, 5870 E. Broadway Blvd.\, Ste. 214\, Tucson\,\, AZ\, 85737\, United States
CATEGORIES:Stage,Theatrical
ATTACH;FMTTYPE=image/png:https://onstageaz.com/wp-content/uploads/2025/09/Screenshot-2025-09-17-at-4.35.56-PM.png
ORGANIZER;CN="Arts Express":MAILTO:info@arts-express.org
END:VEVENT
BEGIN:VEVENT
DTSTART;TZID=America/Phoenix:20260329T140000
DTEND;TZID=America/Phoenix:20260329T160000
DTSTAMP:20260424T085420
CREATED:20251020T001335Z
LAST-MODIFIED:20251020T001335Z
UID:10016247-1774792800-1774800000@onstageaz.com
SUMMARY:Stage Reading of "Crime and Punishment"
DESCRIPTION:Adapted from one of the greatest works of world literature––the harrowing story of an impoverished young man in 1860s Saint Petersburg who sets out to kill an old pawnbroker in order to liberate himself from extreme poverty.
URL:https://onstageaz.com/event/stage-reading-of-crime-and-punishment/2026-03-29/
LOCATION:The Rogue Theatre\, 300 E University Blvd Suite #150\, Tucson\, AZ\, 85705\, United States
CATEGORIES:Stage,Theatrical
ATTACH;FMTTYPE=image/jpeg:https://onstageaz.com/wp-content/uploads/2025/10/Rd35IiPM.jpg
ORGANIZER;CN="The Rogue Theatre":MAILTO:ticket@TheRogueTheatre.org
END:VEVENT
BEGIN:VEVENT
DTSTART;TZID=America/Phoenix:20260329T150000
DTEND;TZID=America/Phoenix:20260329T170000
DTSTAMP:20260424T085420
CREATED:20260130T191533Z
LAST-MODIFIED:20260204T232847Z
UID:10016673-1774796400-1774803600@onstageaz.com
SUMMARY:The Telephone and The Impressario
DESCRIPTION:A Bill of One-Act Comedic Operas with Full Orchestra!\nGian Carlo Menotti’s The Telephone rings true in the age of constant connection. When Ben drops by to propose to Lucy\, he finds himself in a battle—not with a rival suitor\, but with her ever-ringing telephone. Menotti’s fast-paced score and clever libretto turn this everyday interruption into a hilarious commentary on love and modern technology. A perfect bite-sized opera brimming with humor and heart.\nW. A. Mozart’s Der Schauspieldirektor (The Impresario) playfully lifts the curtain on the backstage dramas of the theater world. A hilarious tale of rival divas\, artistic egos\, and the chaos of casting\, this spicy satire blends brilliant music with razor-sharp wit. Whether you’re a seasoned opera lover or new to the genre\, Der Schauspieldirektor promises laughter\, charm\, and a delightful glimpse behind the scenes. Sung in German with English supertitles.
URL:https://onstageaz.com/event/student-night-at-the-opera/2026-03-29/
LOCATION:Crowder Hall\, University of Arizona\, Fred Fox School of Music\, 1017 N. Olive Rd\, Tucson\, 85719
CATEGORIES:Exhibits,Family,Music
ATTACH;FMTTYPE=image/png:https://onstageaz.com/wp-content/uploads/2026/01/ua-opera-grpahic.png
ORGANIZER;CN="University of Arizona School of Music":MAILTO:musicweb@cfa.arizona.edu
END:VEVENT
BEGIN:VEVENT
DTSTART;TZID=America/Phoenix:20260329T150000
DTEND;TZID=America/Phoenix:20260329T170000
DTSTAMP:20260424T085420
CREATED:20260325T205159Z
LAST-MODIFIED:20260325T205200Z
UID:10013042-1774796400-1774803600@onstageaz.com
SUMMARY:The Roommate
DESCRIPTION:The Roommate at the Temple of Music and Art in Tucson\, Arizona\nArizona Theatre Company presents The Roommate\, a hilariously touching new comedy at the Temple of Music and Art. \nEmpty-nesting Minnesotan Mary Kinley needs extra income. She advertises for a lodger to share her Tucson home. An enigmatic East Coast visitor arrives with a mysterious past. Their unlikely friendship sparks reinvention\, risk\, and unexpected consequences. \nReminiscent of The Odd Couple and Netflix’s Grace and Frankie\, The Roommate blends laughter and heartache. It explores second chances\, self-discovery\, and the challenges of starting over. Each scene delivers witty dialogue\, surprising twists\, and genuine warmth. \nDirected by four-time Oscar–nominated actress and veteran theater director Marsha Mason\, The Roommate shines with her trademark comedic flair. Mason served as Associate Director on Broadway. She previously delighted ATC audiences with Chapter Two and An Act of God. \nVisit Arizona Theatre Company’s website to purchase tickets online today. Don’t miss this unforgettable blend of humor and heart. \nJoin us at the Temple of Music and Art in downtown Tucson for The Roommate. Experience a hilarious\, moving journey of laughter\, risk\, and second chances. Feel the magic of live theater in a classic Arizona venue.
URL:https://onstageaz.com/event/the-roommate-5/
LOCATION:Temple of Music and Art\, 330 S Scott Ave\, Tucson\, AZ\, 85701\, United States
CATEGORIES:Stage,Theatrical
ATTACH;FMTTYPE=image/png:https://onstageaz.com/wp-content/uploads/2025/05/Screenshot-2025-07-06-at-3.18.05-PM.png
ORGANIZER;CN="Arizona Theatre Company":MAILTO:boxoffice@atc.org
END:VEVENT
BEGIN:VEVENT
DTSTART;TZID=America/Phoenix:20260329T190000
DTEND;TZID=America/Phoenix:20260329T210000
DTSTAMP:20260424T085420
CREATED:20260222T015944Z
LAST-MODIFIED:20260325T190912Z
UID:10016737-1774810800-1774818000@onstageaz.com
SUMMARY:David Foster & Katharine McPhee
DESCRIPTION:David Fosteris one of the most illustrious composers of our time. With 16 Grammy Awards\, including three for Producer of the Year\, an Emmy Award\, a Golden Globe\, and Three Oscar nominations for “Best Original Songs\,” Foster has earned a reputation as a keen spotter of new talent\, playing a key role in the discovery and career launches of Celine Dion\, Josh Groban\, and Michael Bublé. \n\nFew other individuals can claim to have their fingerprints on more major moments in all of popular music than DAVID FOSTER. He has created hit songs for a diverse array of artists including Barbra Streisand\, Celine Dion\, Whitney Houston\, Michael Jackson\, Madonna\, Andrea Bocelli\, Michael Bublé\, Josh Groban\, Chicago\, Rod Stewart\, Stevie Wonder\, Earth\, Wind Fire\, Tony Braxton\, Natalie Cole\, Michael Bolton\, Seal\, Chaka Khan\, Kenny Rogers\, Dolly Parton\, Hall Oates\, Brandy\, ’N Sync\, Boz Scaggs\, and Gloria Estefan. \nIn 2008 and 2011\, Foster stepped out as a performer in his own right with Hitman\, David Foster and Friends PBS specials which became PBS’ highest-rated shows in decades. In 2018/19 Foster started touring with his show ‘An Intimate Evening with David Foster’. The shows garnered rave reviews and were so successful that he now devotes much of his time to selling out concerts around the world. \nFoster is gearing up to take on Broadway with several projects including writing the music for a new musical about the iconic animated character “Betty Boop.”  In 2023 David released a Christmas album with Katharine McPhee entitled Christmas Songs. \nFoster has made charitable work his life’s other priority. Meeting with a young girl from his hometown who was awaiting a liver transplant had a profound impact and led him to create The David Foster Foundation in 1986. Its mission is to provide financial support to Canadian families with children in need of live-saving organ transplants\, along with a new focus on organ donor awareness. \n  \n\nKatharine McPhee is one of a handful of artists who takes the lead in a career that includes film\, television\, Broadway\, recording and concert tours. Katharine first burst onto the scene in 2006\, during a successful run on Season 5 of AMERICAN IDOL\, that made her a household name. \n\nAs an actress\, she is well-known to television audiences for starring as ‘Paige Dineen’ on the CBS’ spy drama SCORPION (2014-2018)\, and also as one of the leads in the NBC musical drama SMASH (2012-2013)\, executive produced by Steven Spielberg. She also starred in the Netflix comedy series\, COUNTRY COMFORT (2021). She has also guest-starred in the series CSI: NY\, Community\, Family Guy\, and Ugly Betty. \nAs a singer\, Katharine is renowned for her powerhouse presence\, and show-stopping performances.  Her recordings have topped the charts in multiple genres including pop\, jazz and adult contemporary.  A sought-after performer\, Katharine has taken the stage for various PBS broadcasts throughout the years\, including Foster and Friends\, Chris Botti In Boston\, and headlining her own SoundStage special. \nIn Spring 2018\, McPhee made her Broadway debut starring as Jenna in the hit musical WAITRESS\, featuring music and lyrics by Sara Bareilles. She then originated the leading role in the West End production and then returned to Broadway to perform in the shows final weeks. \nIn addition to her acting and singing career\, McPhee is a passionate philanthropist\, having served as an ambassador for organizations such as BuildOn\, Malaria No More\, and Feeding America. Katharine continues to perform at many charitable events including The David Foster Foundation of which is an avid supporter. \nA veteran of the concert stage\, Katharine performs to sold out audiences around the world.  Most recently Katharine paired with David Foster to create a show called ‘An Intimate Evening with David Foster and Katharine McPhee’.  This in demand show has garnered rave reviews and they perform to sold out concert venues around the world.  Christmas 2022 Katharine released Part 1 of her Christmas album called Christmas Songs. A collection of Christmas classics produced by David Foster. Part 2 was released Christmas 2023.
URL:https://onstageaz.com/event/david-foster-katharine-mcphee/
LOCATION:Fox Tucson Theatre\, 17 W Congress St\, Tucson\, AZ\, 85701\, United States
CATEGORIES:Music,Stage,Theatrical
ATTACH;FMTTYPE=image/png:https://onstageaz.com/wp-content/uploads/2026/02/Screenshot-2026-02-21-at-6.57.11-PM.png
ORGANIZER;CN="Fox Tucson Theatre":MAILTO:foxinfo@foxtucson.com
END:VEVENT
END:VCALENDAR