BEGIN:VCALENDAR
VERSION:2.0
PRODID:-//ON Stage Arizona - ECPv6.15.18//NONSGML v1.0//EN
CALSCALE:GREGORIAN
METHOD:PUBLISH
X-WR-CALNAME:ON Stage Arizona
X-ORIGINAL-URL:https://onstageaz.com
X-WR-CALDESC:Events for ON Stage Arizona
REFRESH-INTERVAL;VALUE=DURATION:PT1H
X-Robots-Tag:noindex
X-PUBLISHED-TTL:PT1H
BEGIN:VTIMEZONE
TZID:America/Phoenix
BEGIN:STANDARD
TZOFFSETFROM:-0700
TZOFFSETTO:-0700
TZNAME:MST
DTSTART:20250101T000000
END:STANDARD
END:VTIMEZONE
BEGIN:VEVENT
DTSTART;TZID=America/Phoenix:20260328T133000
DTEND;TZID=America/Phoenix:20260328T153000
DTSTAMP:20260424T100927
CREATED:20250710T031039Z
LAST-MODIFIED:20250710T031039Z
UID:10013903-1774704600-1774711800@onstageaz.com
SUMMARY:New Directions Festival
DESCRIPTION:New directions\, new voices. Annual festival of new works by TFTV students. A collection new short plays written\, dramaturged\, acted and directed by students in the School of Theatre\, Film & Television.
URL:https://onstageaz.com/event/new-directions-festival-4/2026-03-28/1/
LOCATION:Tornabene Theatre\, 1025 N. Olive Rd.\, Tucson\, AZ\, 85721\, United States
CATEGORIES:Stage,Theatrical
ATTACH;FMTTYPE=image/jpeg:https://onstageaz.com/wp-content/uploads/2025/07/kNzjVeNU.jpg
END:VEVENT
BEGIN:VEVENT
DTSTART;TZID=America/Phoenix:20260328T140000
DTEND;TZID=America/Phoenix:20260328T160000
DTSTAMP:20260424T100927
CREATED:20250917T233804Z
LAST-MODIFIED:20250917T233804Z
UID:10014837-1774706400-1774713600@onstageaz.com
SUMMARY:All Shook Up
DESCRIPTION:ELVIS IS IN THE BUILDING! The legendary songs of Elvis Presley ignite a rockin’ romp set in the Fabulous ’50s. When a guitar-playing stranger on a motorcycle roars into a sleepy town\, nothing will be the same. Boy meets girl and soon everybody can’t help falling in love. Mistaken identity\, mismatched lovers and the magic of romance come together in a free- wheeling rock and roll comedy with non-stop classics\, from “Heartbreak Hotel” and “Hound Dog\,” to “Love Me Tender” and “Don’t Be Cruel.”
URL:https://onstageaz.com/event/all-shook-up/2026-03-28/1/
LOCATION:Arts Express Theatre\, 5870 E. Broadway Blvd.\, Ste. 214\, Tucson\,\, AZ\, 85737\, United States
CATEGORIES:Stage,Theatrical
ATTACH;FMTTYPE=image/png:https://onstageaz.com/wp-content/uploads/2025/09/Screenshot-2025-09-17-at-4.35.56-PM.png
ORGANIZER;CN="Arts Express":MAILTO:info@arts-express.org
END:VEVENT
BEGIN:VEVENT
DTSTART;TZID=America/Phoenix:20260328T140000
DTEND;TZID=America/Phoenix:20260328T160000
DTSTAMP:20260424T100927
CREATED:20251020T001335Z
LAST-MODIFIED:20251020T001335Z
UID:10016202-1774706400-1774713600@onstageaz.com
SUMMARY:Stage Reading of "Crime and Punishment"
DESCRIPTION:Adapted from one of the greatest works of world literature––the harrowing story of an impoverished young man in 1860s Saint Petersburg who sets out to kill an old pawnbroker in order to liberate himself from extreme poverty.
URL:https://onstageaz.com/event/stage-reading-of-crime-and-punishment/2026-03-28/
LOCATION:The Rogue Theatre\, 300 E University Blvd Suite #150\, Tucson\, AZ\, 85705\, United States
CATEGORIES:Stage,Theatrical
ATTACH;FMTTYPE=image/jpeg:https://onstageaz.com/wp-content/uploads/2025/10/Rd35IiPM.jpg
ORGANIZER;CN="The Rogue Theatre":MAILTO:ticket@TheRogueTheatre.org
END:VEVENT
BEGIN:VEVENT
DTSTART;TZID=America/Phoenix:20260328T140000
DTEND;TZID=America/Phoenix:20260328T160000
DTSTAMP:20260424T100927
CREATED:20260325T204513Z
LAST-MODIFIED:20260325T204514Z
UID:10013040-1774706400-1774713600@onstageaz.com
SUMMARY:The Roommate
DESCRIPTION:The Roommate at the Temple of Music and Art in Tucson\, Arizona\nArizona Theatre Company presents The Roommate\, a hilariously touching new comedy at the Temple of Music and Art. \nEmpty-nesting Minnesotan Mary Kinley needs extra income. She advertises for a lodger to share her Tucson home. An enigmatic East Coast visitor arrives with a mysterious past. Their unlikely friendship sparks reinvention\, risk\, and unexpected consequences. \nReminiscent of The Odd Couple and Netflix’s Grace and Frankie\, The Roommate blends laughter and heartache. It explores second chances\, self-discovery\, and the challenges of starting over. Each scene delivers witty dialogue\, surprising twists\, and genuine warmth. \nDirected by four-time Oscar–nominated actress and veteran theater director Marsha Mason\, The Roommate shines with her trademark comedic flair. Mason served as Associate Director on Broadway. She previously delighted ATC audiences with Chapter Two and An Act of God. \nVisit Arizona Theatre Company’s website to purchase tickets online today. Don’t miss this unforgettable blend of humor and heart. \nJoin us at the Temple of Music and Art in downtown Tucson for The Roommate. Experience a hilarious\, moving journey of laughter\, risk\, and second chances. Feel the magic of live theater in a classic Arizona venue.
URL:https://onstageaz.com/event/the-roommate-4/
LOCATION:Temple of Music and Art\, 330 S Scott Ave\, Tucson\, AZ\, 85701\, United States
CATEGORIES:Stage,Theatrical
ATTACH;FMTTYPE=image/png:https://onstageaz.com/wp-content/uploads/2025/05/Screenshot-2025-07-06-at-3.18.05-PM.png
ORGANIZER;CN="Arizona Theatre Company":MAILTO:boxoffice@atc.org
END:VEVENT
BEGIN:VEVENT
DTSTART;TZID=America/Phoenix:20260328T143000
DTEND;TZID=America/Phoenix:20260328T160000
DTSTAMP:20260424T100927
CREATED:20260222T014758Z
LAST-MODIFIED:20260222T014758Z
UID:10016736-1774708200-1774713600@onstageaz.com
SUMMARY:Stories from the Warrior Society
DESCRIPTION:We invite you to join us for Stories from the Warrior Society\, a live storytelling event that explores the evolution of warrior societies in Tribal communities through the voices of Indigenous veterans and active duty military across three generations. \nEach site will feature stories from six Native people who are veterans or active duty— two of whom will be drawn from each site’s local Tribal communities as well as the directors who are Navajo storytellers themselves. \nThis is a community event rooted in the practice of oral tradition. Stories will be shared in the spirit of Indigenous storytelling—creating space to gather\, witness\, and honor those who protect\, serve\, and care for our people. The evening includes storytelling alongside contemporary and archival images and music. \nEach gathering opens with a traditional blessing from local Indigenous culture bearers. A facilitated community conversation\, led by Indigenous journalists or cultural workers\, will follow to invite shared reflection and dialogue.
URL:https://onstageaz.com/event/stories-from-the-warrior-society/
LOCATION:Fox Tucson Theatre\, 17 W Congress St\, Tucson\, AZ\, 85701\, United States
CATEGORIES:Exhibits,Music,speakers
ATTACH;FMTTYPE=image/png:https://onstageaz.com/wp-content/uploads/2026/02/Screenshot-2026-02-21-at-6.45.48-PM.png
ORGANIZER;CN="Fox Tucson Theatre":MAILTO:foxinfo@foxtucson.com
END:VEVENT
BEGIN:VEVENT
DTSTART;TZID=America/Phoenix:20260328T150000
DTEND;TZID=America/Phoenix:20260328T170000
DTSTAMP:20260424T100927
CREATED:20260130T191533Z
LAST-MODIFIED:20260204T232847Z
UID:10016672-1774710000-1774717200@onstageaz.com
SUMMARY:The Telephone and The Impressario
DESCRIPTION:A Bill of One-Act Comedic Operas with Full Orchestra!\nGian Carlo Menotti’s The Telephone rings true in the age of constant connection. When Ben drops by to propose to Lucy\, he finds himself in a battle—not with a rival suitor\, but with her ever-ringing telephone. Menotti’s fast-paced score and clever libretto turn this everyday interruption into a hilarious commentary on love and modern technology. A perfect bite-sized opera brimming with humor and heart.\nW. A. Mozart’s Der Schauspieldirektor (The Impresario) playfully lifts the curtain on the backstage dramas of the theater world. A hilarious tale of rival divas\, artistic egos\, and the chaos of casting\, this spicy satire blends brilliant music with razor-sharp wit. Whether you’re a seasoned opera lover or new to the genre\, Der Schauspieldirektor promises laughter\, charm\, and a delightful glimpse behind the scenes. Sung in German with English supertitles.
URL:https://onstageaz.com/event/student-night-at-the-opera/2026-03-28/
LOCATION:Crowder Hall\, University of Arizona\, Fred Fox School of Music\, 1017 N. Olive Rd\, Tucson\, 85719
CATEGORIES:Exhibits,Family,Music
ATTACH;FMTTYPE=image/png:https://onstageaz.com/wp-content/uploads/2026/01/ua-opera-grpahic.png
ORGANIZER;CN="University of Arizona School of Music":MAILTO:musicweb@cfa.arizona.edu
END:VEVENT
BEGIN:VEVENT
DTSTART;TZID=America/Phoenix:20260328T190000
DTEND;TZID=America/Phoenix:20260328T210000
DTSTAMP:20260424T100927
CREATED:20250917T233804Z
LAST-MODIFIED:20250917T233804Z
UID:10014838-1774724400-1774731600@onstageaz.com
SUMMARY:All Shook Up
DESCRIPTION:ELVIS IS IN THE BUILDING! The legendary songs of Elvis Presley ignite a rockin’ romp set in the Fabulous ’50s. When a guitar-playing stranger on a motorcycle roars into a sleepy town\, nothing will be the same. Boy meets girl and soon everybody can’t help falling in love. Mistaken identity\, mismatched lovers and the magic of romance come together in a free- wheeling rock and roll comedy with non-stop classics\, from “Heartbreak Hotel” and “Hound Dog\,” to “Love Me Tender” and “Don’t Be Cruel.”
URL:https://onstageaz.com/event/all-shook-up/2026-03-28/2/
LOCATION:Arts Express Theatre\, 5870 E. Broadway Blvd.\, Ste. 214\, Tucson\,\, AZ\, 85737\, United States
CATEGORIES:Stage,Theatrical
ATTACH;FMTTYPE=image/png:https://onstageaz.com/wp-content/uploads/2025/09/Screenshot-2025-09-17-at-4.35.56-PM.png
ORGANIZER;CN="Arts Express":MAILTO:info@arts-express.org
END:VEVENT
BEGIN:VEVENT
DTSTART;TZID=America/Phoenix:20260328T193000
DTEND;TZID=America/Phoenix:20260328T213000
DTSTAMP:20260424T100927
CREATED:20250706T222546Z
LAST-MODIFIED:20250706T222546Z
UID:10013041-1774726200-1774733400@onstageaz.com
SUMMARY:The Roommate
DESCRIPTION:The Roommate at the Temple of Music and Art in Tucson\, Arizona\nArizona Theatre Company presents The Roommate\, a hilariously touching new comedy at the Temple of Music and Art. \nEmpty-nesting Minnesotan Mary Kinley needs extra income. She advertises for a lodger to share her Tucson home. An enigmatic East Coast visitor arrives with a mysterious past. Their unlikely friendship sparks reinvention\, risk\, and unexpected consequences. \nReminiscent of The Odd Couple and Netflix’s Grace and Frankie\, The Roommate blends laughter and heartache. It explores second chances\, self-discovery\, and the challenges of starting over. Each scene delivers witty dialogue\, surprising twists\, and genuine warmth. \nDirected by four-time Oscar–nominated actress and veteran theater director Marsha Mason\, The Roommate shines with her trademark comedic flair. Mason served as Associate Director on Broadway. She previously delighted ATC audiences with Chapter Two and An Act of God. \nVisit Arizona Theatre Company’s website to purchase tickets online today. Don’t miss this unforgettable blend of humor and heart. \nJoin us at the Temple of Music and Art in downtown Tucson for The Roommate. Experience a hilarious\, moving journey of laughter\, risk\, and second chances. Feel the magic of live theater in a classic Arizona venue.
URL:https://onstageaz.com/event/the-roommate/2026-03-28/
LOCATION:Temple of Music and Art\, 330 S Scott Ave\, Tucson\, AZ\, 85701\, United States
CATEGORIES:Stage,Theatrical
ATTACH;FMTTYPE=image/png:https://onstageaz.com/wp-content/uploads/2025/05/Screenshot-2025-07-06-at-3.18.05-PM.png
ORGANIZER;CN="Arizona Theatre Company":MAILTO:boxoffice@atc.org
END:VEVENT
BEGIN:VEVENT
DTSTART;TZID=America/Phoenix:20260328T193000
DTEND;TZID=America/Phoenix:20260328T213000
DTSTAMP:20260424T100927
CREATED:20250710T031039Z
LAST-MODIFIED:20250710T031039Z
UID:10013904-1774726200-1774733400@onstageaz.com
SUMMARY:New Directions Festival
DESCRIPTION:New directions\, new voices. Annual festival of new works by TFTV students. A collection new short plays written\, dramaturged\, acted and directed by students in the School of Theatre\, Film & Television.
URL:https://onstageaz.com/event/new-directions-festival-4/2026-03-28/2/
LOCATION:Tornabene Theatre\, 1025 N. Olive Rd.\, Tucson\, AZ\, 85721\, United States
CATEGORIES:Stage,Theatrical
ATTACH;FMTTYPE=image/jpeg:https://onstageaz.com/wp-content/uploads/2025/07/kNzjVeNU.jpg
END:VEVENT
END:VCALENDAR