BEGIN:VCALENDAR
VERSION:2.0
PRODID:-//ON Stage Arizona - ECPv6.15.18//NONSGML v1.0//EN
CALSCALE:GREGORIAN
METHOD:PUBLISH
X-WR-CALNAME:ON Stage Arizona
X-ORIGINAL-URL:https://onstageaz.com
X-WR-CALDESC:Events for ON Stage Arizona
REFRESH-INTERVAL;VALUE=DURATION:PT1H
X-Robots-Tag:noindex
X-PUBLISHED-TTL:PT1H
BEGIN:VTIMEZONE
TZID:America/Phoenix
BEGIN:STANDARD
TZOFFSETFROM:-0700
TZOFFSETTO:-0700
TZNAME:MST
DTSTART:20250101T000000
END:STANDARD
END:VTIMEZONE
BEGIN:VEVENT
DTSTART;TZID=America/Phoenix:20260326T180000
DTEND;TZID=America/Phoenix:20260326T200000
DTSTAMP:20260424T101346
CREATED:20260222T014121Z
LAST-MODIFIED:20260222T014121Z
UID:10016734-1774548000-1774555200@onstageaz.com
SUMMARY:Descendants • The Musical: Guest Presenter
DESCRIPTION:Mesquite Elementary School held their first performance of Disney’s: Newsies Jr. three years ago. This year\, Mesquite Elementary School will return to the Fox stage to present Disney’s Descendants: The Musical! Mesquite’s Drama program works hard all year for their performances at the Fox. Students that come through the drama program see the Fox from the audiences perspective\, from a performer’s view\, and culminate their learning by standing in the spotlight for their very own performance! \nStudents in Mesquite’s Drama program are in 5th grade\, their final year at Mesquite\, and spend all year learning to speak\, act\, move and think like their characters. This show has a little something for everyone. Humor\, heart\, and the classic battle between good and evil. Please join us for an evening of fun\, laughter and hard choices as our Descendants figure out who they want to be!
URL:https://onstageaz.com/event/descendants-the-musical-guest-presenter/
LOCATION:Fox Tucson Theatre\, 17 W Congress St\, Tucson\, AZ\, 85701\, United States
CATEGORIES:Music,Stage,Theatrical
ATTACH;FMTTYPE=image/png:https://onstageaz.com/wp-content/uploads/2026/02/Screenshot-2026-02-21-at-6.39.21-PM.png
ORGANIZER;CN="Fox Tucson Theatre":MAILTO:foxinfo@foxtucson.com
END:VEVENT
BEGIN:VEVENT
DTSTART;TZID=America/Phoenix:20260326T193000
DTEND;TZID=America/Phoenix:20260326T213000
DTSTAMP:20260424T101346
CREATED:20250710T031039Z
LAST-MODIFIED:20250710T031039Z
UID:10013836-1774553400-1774560600@onstageaz.com
SUMMARY:New Directions Festival
DESCRIPTION:New directions\, new voices. Annual festival of new works by TFTV students. A collection new short plays written\, dramaturged\, acted and directed by students in the School of Theatre\, Film & Television.
URL:https://onstageaz.com/event/new-directions-festival-4/2026-03-26/
LOCATION:Tornabene Theatre\, 1025 N. Olive Rd.\, Tucson\, AZ\, 85721\, United States
CATEGORIES:Stage,Theatrical
ATTACH;FMTTYPE=image/jpeg:https://onstageaz.com/wp-content/uploads/2025/07/kNzjVeNU.jpg
END:VEVENT
BEGIN:VEVENT
DTSTART;TZID=America/Phoenix:20260326T193000
DTEND;TZID=America/Phoenix:20260326T213000
DTSTAMP:20260424T101346
CREATED:20260130T191533Z
LAST-MODIFIED:20260204T232847Z
UID:10016671-1774553400-1774560600@onstageaz.com
SUMMARY:The Telephone and The Impressario
DESCRIPTION:A Bill of One-Act Comedic Operas with Full Orchestra!\nGian Carlo Menotti’s The Telephone rings true in the age of constant connection. When Ben drops by to propose to Lucy\, he finds himself in a battle—not with a rival suitor\, but with her ever-ringing telephone. Menotti’s fast-paced score and clever libretto turn this everyday interruption into a hilarious commentary on love and modern technology. A perfect bite-sized opera brimming with humor and heart.\nW. A. Mozart’s Der Schauspieldirektor (The Impresario) playfully lifts the curtain on the backstage dramas of the theater world. A hilarious tale of rival divas\, artistic egos\, and the chaos of casting\, this spicy satire blends brilliant music with razor-sharp wit. Whether you’re a seasoned opera lover or new to the genre\, Der Schauspieldirektor promises laughter\, charm\, and a delightful glimpse behind the scenes. Sung in German with English supertitles.
URL:https://onstageaz.com/event/student-night-at-the-opera/2026-03-26/
LOCATION:Crowder Hall\, University of Arizona\, Fred Fox School of Music\, 1017 N. Olive Rd\, Tucson\, 85719
CATEGORIES:Exhibits,Family,Music
ATTACH;FMTTYPE=image/png:https://onstageaz.com/wp-content/uploads/2026/01/ua-opera-grpahic.png
ORGANIZER;CN="University of Arizona School of Music":MAILTO:musicweb@cfa.arizona.edu
END:VEVENT
BEGIN:VEVENT
DTSTART;TZID=America/Phoenix:20260326T193000
DTEND;TZID=America/Phoenix:20260326T213000
DTSTAMP:20260424T101346
CREATED:20260325T205631Z
LAST-MODIFIED:20260325T205632Z
UID:10013038-1774553400-1774560600@onstageaz.com
SUMMARY:The Roommate
DESCRIPTION:The Roommate at the Temple of Music and Art in Tucson\, Arizona\nArizona Theatre Company presents The Roommate\, a hilariously touching new comedy at the Temple of Music and Art. \nEmpty-nesting Minnesotan Mary Kinley needs extra income. She advertises for a lodger to share her Tucson home. An enigmatic East Coast visitor arrives with a mysterious past. Their unlikely friendship sparks reinvention\, risk\, and unexpected consequences. \nReminiscent of The Odd Couple and Netflix’s Grace and Frankie\, The Roommate blends laughter and heartache. It explores second chances\, self-discovery\, and the challenges of starting over. Each scene delivers witty dialogue\, surprising twists\, and genuine warmth. \nDirected by four-time Oscar–nominated actress and veteran theater director Marsha Mason\, The Roommate shines with her trademark comedic flair. Mason served as Associate Director on Broadway. She previously delighted ATC audiences with Chapter Two and An Act of God. \nVisit Arizona Theatre Company’s website to purchase tickets online today. Don’t miss this unforgettable blend of humor and heart. \nJoin us at the Temple of Music and Art in downtown Tucson for The Roommate. Experience a hilarious\, moving journey of laughter\, risk\, and second chances. Feel the magic of live theater in a classic Arizona venue.
URL:https://onstageaz.com/event/the-roommate-7/
LOCATION:Temple of Music and Art\, 330 S Scott Ave\, Tucson\, AZ\, 85701\, United States
CATEGORIES:Stage,Theatrical
ATTACH;FMTTYPE=image/png:https://onstageaz.com/wp-content/uploads/2025/05/Screenshot-2025-07-06-at-3.18.05-PM.png
ORGANIZER;CN="Arizona Theatre Company":MAILTO:boxoffice@atc.org
END:VEVENT
END:VCALENDAR