BEGIN:VCALENDAR
VERSION:2.0
PRODID:-//ON Stage Arizona - ECPv6.15.18//NONSGML v1.0//EN
CALSCALE:GREGORIAN
METHOD:PUBLISH
X-WR-CALNAME:ON Stage Arizona
X-ORIGINAL-URL:https://onstageaz.com
X-WR-CALDESC:Events for ON Stage Arizona
REFRESH-INTERVAL;VALUE=DURATION:PT1H
X-Robots-Tag:noindex
X-PUBLISHED-TTL:PT1H
BEGIN:VTIMEZONE
TZID:America/Phoenix
BEGIN:STANDARD
TZOFFSETFROM:-0700
TZOFFSETTO:-0700
TZNAME:MST
DTSTART:20250101T000000
END:STANDARD
END:VTIMEZONE
BEGIN:VEVENT
DTSTART;TZID=America/Phoenix:20260313T190000
DTEND;TZID=America/Phoenix:20260313T210000
DTSTAMP:20260424T101346
CREATED:20250917T233804Z
LAST-MODIFIED:20250917T233804Z
UID:10014828-1773428400-1773435600@onstageaz.com
SUMMARY:All Shook Up
DESCRIPTION:ELVIS IS IN THE BUILDING! The legendary songs of Elvis Presley ignite a rockin’ romp set in the Fabulous ’50s. When a guitar-playing stranger on a motorcycle roars into a sleepy town\, nothing will be the same. Boy meets girl and soon everybody can’t help falling in love. Mistaken identity\, mismatched lovers and the magic of romance come together in a free- wheeling rock and roll comedy with non-stop classics\, from “Heartbreak Hotel” and “Hound Dog\,” to “Love Me Tender” and “Don’t Be Cruel.”
URL:https://onstageaz.com/event/all-shook-up/2026-03-13/
LOCATION:Arts Express Theatre\, 5870 E. Broadway Blvd.\, Ste. 214\, Tucson\,\, AZ\, 85737\, United States
CATEGORIES:Stage,Theatrical
ATTACH;FMTTYPE=image/png:https://onstageaz.com/wp-content/uploads/2025/09/Screenshot-2025-09-17-at-4.35.56-PM.png
ORGANIZER;CN="Arts Express":MAILTO:info@arts-express.org
END:VEVENT
BEGIN:VEVENT
DTSTART;TZID=America/Phoenix:20260313T193000
DTEND;TZID=America/Phoenix:20260313T213000
DTSTAMP:20260424T101346
CREATED:20251020T001505Z
LAST-MODIFIED:20251020T001505Z
UID:10016243-1773430200-1773437400@onstageaz.com
SUMMARY:The River
DESCRIPTION:A piece of timeless and haunting chamber theatre\, The River captures a moment on a river\, a fisherman\, a woman\, another woman—but are they really there? Memories or ghosts?
URL:https://onstageaz.com/event/the-river/2026-03-13/
LOCATION:The Rogue Theatre\, 300 E University Blvd Suite #150\, Tucson\, AZ\, 85705\, United States
CATEGORIES:Stage,Theatrical
ATTACH;FMTTYPE=image/jpeg:https://onstageaz.com/wp-content/uploads/2025/10/Kws0dQvQ.jpg
ORGANIZER;CN="The Rogue Theatre":MAILTO:ticket@TheRogueTheatre.org
END:VEVENT
BEGIN:VEVENT
DTSTART;TZID=America/Phoenix:20260313T193000
DTEND;TZID=America/Phoenix:20260313T213000
DTSTAMP:20260424T101346
CREATED:20260219T004127Z
LAST-MODIFIED:20260219T004127Z
UID:10016724-1773430200-1773437400@onstageaz.com
SUMMARY:Danú
DESCRIPTION:Hailing from historic County Waterford\, Danú is one of the leading traditional Irish ensembles of today. The group’s standing room only concerts throughout Ireland are true events featuring high-energy performances and a glorious mix of ancient Irish music and new repertoire. \nFor over two decades\, Danú’s virtuosi players on flute\, tin whistle\, fiddle\, button accordion\, bouzouki\, and vocals (Irish and English)\, have performed around the globe and recorded seven critically acclaimed albums. Their live DVD\, One Night Stand\, was filmed at Vicar St. Dublin. Winners of numerous awards from the BBC and Irish Music Magazine\, Danú has toured throughout Europe\, the Middle East\, and North America with stops at The Hollywood Bowl in Los Angeles\, Symphony Space in New York City\, and major concert engagements in the United Kingdom\, India\, Israel\, and across Europe. Danú takes its audiences on a musical journey to their native Ireland\, offering a moving and memorable concert experience. Danú’s popular recordings are available on the Shanachie label and live performances are often broadcast on NPR\, the CBC\, and the BBC.
URL:https://onstageaz.com/event/danu/
LOCATION:Fox Tucson Theatre\, 17 W Congress St\, Tucson\, AZ\, 85701\, United States
CATEGORIES:Music,Stage
ATTACH;FMTTYPE=image/png:https://onstageaz.com/wp-content/uploads/2026/02/Screenshot-2026-02-18-at-5.39.43-PM.png
ORGANIZER;CN="Fox Tucson Theatre":MAILTO:foxinfo@foxtucson.com
END:VEVENT
END:VCALENDAR