BEGIN:VCALENDAR
VERSION:2.0
PRODID:-//ON Stage Arizona - ECPv6.15.18//NONSGML v1.0//EN
CALSCALE:GREGORIAN
METHOD:PUBLISH
X-WR-CALNAME:ON Stage Arizona
X-ORIGINAL-URL:https://onstageaz.com
X-WR-CALDESC:Events for ON Stage Arizona
REFRESH-INTERVAL;VALUE=DURATION:PT1H
X-Robots-Tag:noindex
X-PUBLISHED-TTL:PT1H
BEGIN:VTIMEZONE
TZID:America/Phoenix
BEGIN:STANDARD
TZOFFSETFROM:-0700
TZOFFSETTO:-0700
TZNAME:MST
DTSTART:20250101T000000
END:STANDARD
END:VTIMEZONE
BEGIN:VEVENT
DTSTART;TZID=America/Phoenix:20260312T193000
DTEND;TZID=America/Phoenix:20260312T213000
DTSTAMP:20260424T101346
CREATED:20260218T213010Z
LAST-MODIFIED:20260218T213010Z
UID:10016722-1773343800-1773351000@onstageaz.com
SUMMARY:On a Winter’s Night
DESCRIPTION:Presenting the Reunion Tour of “On A Winter’s Night” from veteran singer-songwriters that remain among the brightest stars of the singer-songwriter movement for the past three decades. In 1994 Christine Lavin gathered them together\, along with folk and Americana artists to showcase music of the Winter Season on the now-classic On A Winter’s Night CD\, followed by several years of touring collaborations. \nThese artists have released dozens of recordings and toured steadily through the decades\, with fond memories of their touring days together. The winter season is again celebrated by these unique and popular performers\, back together by popular demand.
URL:https://onstageaz.com/event/on-a-winters-night/
LOCATION:Fox Tucson Theatre\, 17 W Congress St\, Tucson\, AZ\, 85701\, United States
CATEGORIES:Music,Stage
ATTACH;FMTTYPE=image/png:https://onstageaz.com/wp-content/uploads/2026/02/Screenshot-2026-02-18-at-2.27.38-PM.png
ORGANIZER;CN="Fox Tucson Theatre":MAILTO:foxinfo@foxtucson.com
END:VEVENT
END:VCALENDAR