BEGIN:VCALENDAR
VERSION:2.0
PRODID:-//ON Stage Arizona - ECPv6.15.18//NONSGML v1.0//EN
CALSCALE:GREGORIAN
METHOD:PUBLISH
X-WR-CALNAME:ON Stage Arizona
X-ORIGINAL-URL:https://onstageaz.com
X-WR-CALDESC:Events for ON Stage Arizona
REFRESH-INTERVAL;VALUE=DURATION:PT1H
X-Robots-Tag:noindex
X-PUBLISHED-TTL:PT1H
BEGIN:VTIMEZONE
TZID:America/Phoenix
BEGIN:STANDARD
TZOFFSETFROM:-0700
TZOFFSETTO:-0700
TZNAME:MST
DTSTART:20250101T000000
END:STANDARD
END:VTIMEZONE
BEGIN:VEVENT
DTSTART;TZID=America/Phoenix:20260311T183000
DTEND;TZID=America/Phoenix:20260311T203000
DTSTAMP:20260424T101346
CREATED:20260218T212533Z
LAST-MODIFIED:20260218T212604Z
UID:10016721-1773253800-1773261000@onstageaz.com
SUMMARY:Zen and the Art of Matcha: Guest Presenter
DESCRIPTION:Enter into the world of matcha within the tea culture and spiritual matrix of Japan. \nJoin us for a special screening and celebration of matcha\, community\, and the stories behind this ancient tradition. This premiere highlights the journey of matcha tea from farm to cup\, honoring culture and craftsmanship.
URL:https://onstageaz.com/event/zen-and-the-art-of-matcha-guest-presenter/
LOCATION:Fox Tucson Theatre\, 17 W Congress St\, Tucson\, AZ\, 85701\, United States
CATEGORIES:Exhibits,speakers,Stage
ATTACH;FMTTYPE=image/png:https://onstageaz.com/wp-content/uploads/2026/02/Screenshot-2026-02-18-at-2.23.15-PM.png
ORGANIZER;CN="Fox Tucson Theatre":MAILTO:foxinfo@foxtucson.com
END:VEVENT
END:VCALENDAR