BEGIN:VCALENDAR
VERSION:2.0
PRODID:-//ON Stage Arizona - ECPv6.15.18//NONSGML v1.0//EN
CALSCALE:GREGORIAN
METHOD:PUBLISH
X-WR-CALNAME:ON Stage Arizona
X-ORIGINAL-URL:https://onstageaz.com
X-WR-CALDESC:Events for ON Stage Arizona
REFRESH-INTERVAL;VALUE=DURATION:PT1H
X-Robots-Tag:noindex
X-PUBLISHED-TTL:PT1H
BEGIN:VTIMEZONE
TZID:America/Phoenix
BEGIN:STANDARD
TZOFFSETFROM:-0700
TZOFFSETTO:-0700
TZNAME:MST
DTSTART:20250101T000000
END:STANDARD
END:VTIMEZONE
BEGIN:VEVENT
DTSTART;TZID=America/Phoenix:20260306T100000
DTEND;TZID=America/Phoenix:20260306T163000
DTSTAMP:20260424T100920
CREATED:20251119T233439Z
LAST-MODIFIED:20251119T233439Z
UID:10016450-1772791200-1772814600@onstageaz.com
SUMMARY:Exhibit Opening: Superdelic Psychonatural: Artworks by Lex Gjurasic
DESCRIPTION:A lush oasis in the heart of Tucson offering mature trees and expertly cultivated foliage\, specialty gardens such as the Cactus & Succulent Garden\, Barrio Garden\, and Herb Garden highlight the diversity of native plants. TBG also offers diverse exhibitions in their galleries.
URL:https://onstageaz.com/event/exhibit-opening-superdelic-psychonatural-artworks-by-lex-gjurasic/
LOCATION:Tucson Botanical Gardens\, 21500 N Alvernon Way\, Tucson\, AZ\, 85716\, United States
CATEGORIES:Exhibits
ATTACH;FMTTYPE=image/png:https://onstageaz.com/wp-content/uploads/2025/11/AIUj98Ec.png
END:VEVENT
BEGIN:VEVENT
DTSTART;TZID=America/Phoenix:20260306T190000
DTEND;TZID=America/Phoenix:20260306T210000
DTSTAMP:20260424T100920
CREATED:20250917T233804Z
LAST-MODIFIED:20250917T233804Z
UID:10014409-1772823600-1772830800@onstageaz.com
SUMMARY:All Shook Up
DESCRIPTION:ELVIS IS IN THE BUILDING! The legendary songs of Elvis Presley ignite a rockin’ romp set in the Fabulous ’50s. When a guitar-playing stranger on a motorcycle roars into a sleepy town\, nothing will be the same. Boy meets girl and soon everybody can’t help falling in love. Mistaken identity\, mismatched lovers and the magic of romance come together in a free- wheeling rock and roll comedy with non-stop classics\, from “Heartbreak Hotel” and “Hound Dog\,” to “Love Me Tender” and “Don’t Be Cruel.”
URL:https://onstageaz.com/event/all-shook-up/2026-03-06/
LOCATION:Arts Express Theatre\, 5870 E. Broadway Blvd.\, Ste. 214\, Tucson\,\, AZ\, 85737\, United States
CATEGORIES:Stage,Theatrical
ATTACH;FMTTYPE=image/png:https://onstageaz.com/wp-content/uploads/2025/09/Screenshot-2025-09-17-at-4.35.56-PM.png
ORGANIZER;CN="Arts Express":MAILTO:info@arts-express.org
END:VEVENT
BEGIN:VEVENT
DTSTART;TZID=America/Phoenix:20260306T190000
DTEND;TZID=America/Phoenix:20260306T210000
DTSTAMP:20260424T100920
CREATED:20251123T230946Z
LAST-MODIFIED:20251123T231010Z
UID:10016500-1772823600-1772830800@onstageaz.com
SUMMARY:Pima Theater: Urinetown
DESCRIPTION:Set in a near-future dystopia suffering from severe drought\, “Urinetown” follows the story of Bobby Strong\, a courageous young man who challenges the oppressive UrineGood Company. This corporation controls all public toilets and enforces high fees\, creating a society where access to basic needs comes at a steep price. Through sharp satire and witty humor\, the musical explores themes of corporate greed\, social injustice\, and rebellion. Directed by Maryann Green\, this lively show delivers a wild\, comedic ride with memorable songs and a thought-provoking message.
URL:https://onstageaz.com/event/pima-theater-urinetown/2026-03-06/
LOCATION:Pima Community College Center for the Arts\, 2202 W Anklam Rd.\, Tucson\, AZ\, 85709\, United States
CATEGORIES:Stage,Theatrical
ATTACH;FMTTYPE=image/jpeg:https://onstageaz.com/wp-content/uploads/2025/11/zpokn8P8.jpg
ORGANIZER;CN="Pima Arts":MAILTO:centerforthearts@pima.edu
END:VEVENT
BEGIN:VEVENT
DTSTART;TZID=America/Phoenix:20260306T193000
DTEND;TZID=America/Phoenix:20260306T213000
DTSTAMP:20260424T100920
CREATED:20250710T031150Z
LAST-MODIFIED:20250710T031150Z
UID:10013898-1772825400-1772832600@onstageaz.com
SUMMARY:Almost\, Maine
DESCRIPTION:Welcome to Almost\, Maine\, a place that’s so far north\, it’s almost not in the United States. And it’s not quite a town\, because its residents never gotaround to getting organized\, so it almost doesn’t exist. One cold\, clear\, winter night\, the residents of Almost\, Maine\, find themselves falling in and out of love in unexpected and hilarious ways. Knees are bruised. Hearts are broken. But the bruises heal\, and the hearts mend—almost—in this delightful midwinter night’s dream.
URL:https://onstageaz.com/event/almost-maine/2026-03-06/
LOCATION:Tornabene Theatre\, 1025 N. Olive Rd.\, Tucson\, AZ\, 85721\, United States
CATEGORIES:Stage,Theatrical
ATTACH;FMTTYPE=image/jpeg:https://onstageaz.com/wp-content/uploads/2025/07/a0ZIBUkw.jpg
END:VEVENT
BEGIN:VEVENT
DTSTART;TZID=America/Phoenix:20260306T193000
DTEND;TZID=America/Phoenix:20260306T213000
DTSTAMP:20260424T100920
CREATED:20251020T001505Z
LAST-MODIFIED:20251020T001505Z
UID:10016239-1772825400-1772832600@onstageaz.com
SUMMARY:The River
DESCRIPTION:A piece of timeless and haunting chamber theatre\, The River captures a moment on a river\, a fisherman\, a woman\, another woman—but are they really there? Memories or ghosts?
URL:https://onstageaz.com/event/the-river/2026-03-06/
LOCATION:The Rogue Theatre\, 300 E University Blvd Suite #150\, Tucson\, AZ\, 85705\, United States
CATEGORIES:Stage,Theatrical
ATTACH;FMTTYPE=image/jpeg:https://onstageaz.com/wp-content/uploads/2025/10/Kws0dQvQ.jpg
ORGANIZER;CN="The Rogue Theatre":MAILTO:ticket@TheRogueTheatre.org
END:VEVENT
END:VCALENDAR