BEGIN:VCALENDAR
VERSION:2.0
PRODID:-//ON Stage Arizona - ECPv6.15.18//NONSGML v1.0//EN
CALSCALE:GREGORIAN
METHOD:PUBLISH
X-WR-CALNAME:ON Stage Arizona
X-ORIGINAL-URL:https://onstageaz.com
X-WR-CALDESC:Events for ON Stage Arizona
REFRESH-INTERVAL;VALUE=DURATION:PT1H
X-Robots-Tag:noindex
X-PUBLISHED-TTL:PT1H
BEGIN:VTIMEZONE
TZID:America/Phoenix
BEGIN:STANDARD
TZOFFSETFROM:-0700
TZOFFSETTO:-0700
TZNAME:MST
DTSTART:20250101T000000
END:STANDARD
END:VTIMEZONE
BEGIN:VEVENT
DTSTART;TZID=America/Phoenix:20260227T160000
DTEND;TZID=America/Phoenix:20260227T180000
DTSTAMP:20260424T114226
CREATED:20250623T235725Z
LAST-MODIFIED:20250623T235725Z
UID:10012912-1772208000-1772215200@onstageaz.com
SUMMARY:I Dream a World
DESCRIPTION:Combining the musical forces of solo piano\, chorus and orchestra with powerful texts written by Iraq and Afghanistan War veteran and award-winning poet Brian Turner\, Jake Runestad’s Dreams of the Fallen explores a soldier’s experience of war and its lasting impact. Turner’s poetry conjures the reality of war and the post-traumatic stress syndrome that haunts our fighting men and women long after returning home. Runestad’s music evokes what “the other side” could be: a community of people embracing—with compassion and understanding—those who have endured armed combat and a world with no conflict or war. Peter Boyer’s gorgeous and uplifting Dreaming a World\, with texts from Langston Hughes\, Native American prayers and Walt Whitman\, plus references to Martin Luther King Jr.\, John F. Kennedy\, Cesar Chavez and more\, is a collection of American ideals focused on equality and the dream of all people living in harmony.
URL:https://onstageaz.com/event/i-dream-a-world/
LOCATION:Valley Presbyterian Church\, 2800 S Camino Del Sol\, Green Valley\, AZ\, 85622\, United States
CATEGORIES:Music
ATTACH;FMTTYPE=image/png:https://onstageaz.com/wp-content/uploads/2025/05/Screenshot-2025-06-23-at-4.48.37-PM.png
ORGANIZER;CN="True Concord Voices & Orchestra":MAILTO:info@TrueConcord.org
END:VEVENT
BEGIN:VEVENT
DTSTART;TZID=America/Phoenix:20260227T190000
DTEND;TZID=America/Phoenix:20260227T210000
DTSTAMP:20260424T114226
CREATED:20250623T230621Z
LAST-MODIFIED:20250623T230621Z
UID:10013230-1772218800-1772226000@onstageaz.com
SUMMARY:Desert Voices
DESCRIPTION:
URL:https://onstageaz.com/event/desert-voices/2026-02-27/
LOCATION:Temple of Music and Art\, 330 S Scott Ave\, Tucson\, AZ\, 85701\, United States
CATEGORIES:Dance,Stage
ATTACH;FMTTYPE=image/jpeg:https://onstageaz.com/wp-content/uploads/2025/05/FBP3JaEQ.jpg
ORGANIZER;CN="Ballet Tucson":MAILTO:info@ballettucson.org
END:VEVENT
BEGIN:VEVENT
DTSTART;TZID=America/Phoenix:20260227T190000
DTEND;TZID=America/Phoenix:20260227T210000
DTSTAMP:20260424T114226
CREATED:20251123T230946Z
LAST-MODIFIED:20251123T231010Z
UID:10016496-1772218800-1772226000@onstageaz.com
SUMMARY:Pima Theater: Urinetown
DESCRIPTION:Set in a near-future dystopia suffering from severe drought\, “Urinetown” follows the story of Bobby Strong\, a courageous young man who challenges the oppressive UrineGood Company. This corporation controls all public toilets and enforces high fees\, creating a society where access to basic needs comes at a steep price. Through sharp satire and witty humor\, the musical explores themes of corporate greed\, social injustice\, and rebellion. Directed by Maryann Green\, this lively show delivers a wild\, comedic ride with memorable songs and a thought-provoking message.
URL:https://onstageaz.com/event/pima-theater-urinetown/2026-02-27/
LOCATION:Pima Community College Center for the Arts\, 2202 W Anklam Rd.\, Tucson\, AZ\, 85709\, United States
CATEGORIES:Stage,Theatrical
ATTACH;FMTTYPE=image/jpeg:https://onstageaz.com/wp-content/uploads/2025/11/zpokn8P8.jpg
ORGANIZER;CN="Pima Arts":MAILTO:centerforthearts@pima.edu
END:VEVENT
BEGIN:VEVENT
DTSTART;TZID=America/Phoenix:20260227T193000
DTEND;TZID=America/Phoenix:20260227T213000
DTSTAMP:20260424T114226
CREATED:20250710T031150Z
LAST-MODIFIED:20250710T031150Z
UID:10013895-1772220600-1772227800@onstageaz.com
SUMMARY:Almost\, Maine
DESCRIPTION:Welcome to Almost\, Maine\, a place that’s so far north\, it’s almost not in the United States. And it’s not quite a town\, because its residents never gotaround to getting organized\, so it almost doesn’t exist. One cold\, clear\, winter night\, the residents of Almost\, Maine\, find themselves falling in and out of love in unexpected and hilarious ways. Knees are bruised. Hearts are broken. But the bruises heal\, and the hearts mend—almost—in this delightful midwinter night’s dream.
URL:https://onstageaz.com/event/almost-maine/2026-02-27/
LOCATION:Tornabene Theatre\, 1025 N. Olive Rd.\, Tucson\, AZ\, 85721\, United States
CATEGORIES:Stage,Theatrical
ATTACH;FMTTYPE=image/jpeg:https://onstageaz.com/wp-content/uploads/2025/07/a0ZIBUkw.jpg
END:VEVENT
BEGIN:VEVENT
DTSTART;TZID=America/Phoenix:20260227T193000
DTEND;TZID=America/Phoenix:20260227T213000
DTSTAMP:20260424T114226
CREATED:20251020T001505Z
LAST-MODIFIED:20251020T001505Z
UID:10016235-1772220600-1772227800@onstageaz.com
SUMMARY:The River
DESCRIPTION:A piece of timeless and haunting chamber theatre\, The River captures a moment on a river\, a fisherman\, a woman\, another woman—but are they really there? Memories or ghosts?
URL:https://onstageaz.com/event/the-river/2026-02-27/
LOCATION:The Rogue Theatre\, 300 E University Blvd Suite #150\, Tucson\, AZ\, 85705\, United States
CATEGORIES:Stage,Theatrical
ATTACH;FMTTYPE=image/jpeg:https://onstageaz.com/wp-content/uploads/2025/10/Kws0dQvQ.jpg
ORGANIZER;CN="The Rogue Theatre":MAILTO:ticket@TheRogueTheatre.org
END:VEVENT
BEGIN:VEVENT
DTSTART;TZID=America/Phoenix:20260227T193000
DTEND;TZID=America/Phoenix:20260227T220000
DTSTAMP:20260424T114226
CREATED:20250527T204805Z
LAST-MODIFIED:20250527T204805Z
UID:10012898-1772220600-1772229600@onstageaz.com
SUMMARY:The Book of Mormon
DESCRIPTION:The Book of Mormon at Centennial Hall in Tucson\, Arizona\nBroadway in Tucson presents The Book of Mormon\, the outrageous musical comedy sensation\, at Centennial Hall. Follow a mismatched pair of eager missionaries as they journey halfway around the world to spread the Good Word. Hailed for its sharp humor and unforgettable score\, this award-winning production boasts standing-room-only runs on Broadway\, in London’s West End\, and major cities across North America. \nPrepare for laugh-out-loud moments\, catchy songs\, and a heartfelt story of friendship and faith. With witty lyrics and bold satire\, The Book of Mormon pushes boundaries and sparks conversation. Please note: this production contains explicit language and mature themes. \nTickets sell quickly for this modern musical masterpiece. Reserve your seats now. Don’t miss your chance to see The Book of Mormon live in Tucson—an unforgettable theatrical experience that defies expectations and delivers nonstop entertainment!
URL:https://onstageaz.com/event/the-book-of-mormon/2026-02-27/
LOCATION:Centennial Hall\, 1020 E. University Blvd\, Tucson\, AZ\, 85719\, United States
CATEGORIES:Music,Stage,Theatrical
ATTACH;FMTTYPE=image/jpeg:https://onstageaz.com/wp-content/uploads/2025/05/UQ2jDCI.jpg
ORGANIZER;CN="Broadway In Tucson":MAILTO:info@broadwayintucson.com
END:VEVENT
END:VCALENDAR