BEGIN:VCALENDAR
VERSION:2.0
PRODID:-//ON Stage Arizona - ECPv6.15.18//NONSGML v1.0//EN
CALSCALE:GREGORIAN
METHOD:PUBLISH
X-WR-CALNAME:ON Stage Arizona
X-ORIGINAL-URL:https://onstageaz.com
X-WR-CALDESC:Events for ON Stage Arizona
REFRESH-INTERVAL;VALUE=DURATION:PT1H
X-Robots-Tag:noindex
X-PUBLISHED-TTL:PT1H
BEGIN:VTIMEZONE
TZID:America/Phoenix
BEGIN:STANDARD
TZOFFSETFROM:-0700
TZOFFSETTO:-0700
TZNAME:MST
DTSTART:20250101T000000
END:STANDARD
END:VTIMEZONE
BEGIN:VEVENT
DTSTART;TZID=America/Phoenix:20260225T140000
DTEND;TZID=America/Phoenix:20260225T160000
DTSTAMP:20260424T114226
CREATED:20251123T231147Z
LAST-MODIFIED:20251123T231147Z
UID:10016425-1772028000-1772035200@onstageaz.com
SUMMARY:Umbral/Threshold: Andrés Caballero\, Marcus Xavier Cormicle\, Beihua Guo\, Ulises Ramos and Vanessa Saavedra: Reception
DESCRIPTION:“Umbral/Threshold” brings together the diverse visions of Andrés Caballero\, Marcus Xavier Cormicle\, Beihua Guo\, Ulises Ramos and Vanessa Saavedra in a compelling exploration of boundaries\, transitions and points of passage. Through varied media and perspectives\, each artist invites viewers to reflect on moments of change\, whether physical\, emotional or cultural\, where one state transforms into another. The exhibition offers a dynamic interplay of form\, color and narrative\, encouraging audiences to step across the threshold into new ways of seeing and understanding. The five artists examine Bachelor’s and Master’s of fine arts programs. Three or the artists are current candidates for their M.F.A. degrees in the University of Arizona School of Art.
URL:https://onstageaz.com/event/umbral-threshold-andres-caballero-marcus-xavier-cormicle-beihua-guo-ulises-ramos-and-vanessa-saavedra-reception/
LOCATION:AZ
CATEGORIES:Exhibits,Stage
ATTACH;FMTTYPE=image/jpeg:https://onstageaz.com/wp-content/uploads/2025/11/yqN0KRm4.jpg
ORGANIZER;CN="Pima Arts":MAILTO:centerforthearts@pima.edu
END:VEVENT
BEGIN:VEVENT
DTSTART;TZID=America/Phoenix:20260225T190000
DTEND;TZID=America/Phoenix:20260225T210000
DTSTAMP:20260424T114226
CREATED:20260218T012809Z
LAST-MODIFIED:20260218T012809Z
UID:10016714-1772046000-1772053200@onstageaz.com
SUMMARY:OCA
DESCRIPTION:OCA \n(Karla Badillo\, Mexico/Argentina\, 2025\, 109 min. In Spanish with English subtitles) \nQ&A with the director \nWinner of the Silver Hugo Award in the New Directors Competition at the Chicago International Film Festival\, Oca is the atmospheric and mystical debut feature by Karla Badillo\, telling the story of Rafaela\, a young nun from a dwindling congregation who embarks on a pilgrimage after the arrival of a new archbishop. Along the way\, she encounters travelers from diverse walks of life\, and her journey becomes a lyrical and often poignant meditation on faith\, doubt\, and resilience in a world shaped by both spiritual and material forces. Featuring a stellar ensemble cast of professional actors—including Natalia Solián (Huesera: The Bone Woman)\, Cecilia Suárez (The House of Flowers)\, and Raúl Briones (La Cocina)—alongside non-professional performers\, the film offers a quietly critical lens on devotion and institutional life\, reimagining the spiritual cinema of Luis Buñuel through a contemporary\, distinctly female perspective and tracing the winding path between belief\, destiny\, and self-discovery. \n  \nOCA \n(Karla Badillo\, México/Argentina\, 2025\, 109 min. En español con subtítulos en inglés) \nCon la presencia de la directora \nGanadora del Premio Hugo de Plata en la Competencia de Nuevos Directores del Festival Internacional de Cine de Chicago\, Oca es la ópera prima atmosférica y mística de Karla Badillo\, que narra la historia de Rafaela\, una joven monja de una congregación en declive que emprende una peregrinación tras la llegada de un nuevo arzobispo. A lo largo del camino\, ella se irá encontrando con peregrinos de diversos ámbitos de la vida\, y su recorrido se convierte en una meditación lírica y a menudo conmovedora sobre la fe\, la duda y la resiliencia en un mundo moldeado tanto por fuerzas espirituales como materiales. Con un reparto estelar integrado por actores profesionales —incluyendo a Natalia Solián (Huesera)\, Cecilia Suárez (La casa de las flores) y Raúl Briones (La cocina)— junto con talentos no profesionales\, la película ofrece una mirada crítica pero sutil sobre la devoción y la vida institucional\, reimaginando el cine espiritual de Luis Buñuel desde una perspectiva contemporánea y claramente femenina\, y trazando el sinuoso camino entre la creencia\, el destino y el autodescubrimiento.
URL:https://onstageaz.com/event/oca/
LOCATION:Fox Tucson Theatre\, 17 W Congress St\, Tucson\, AZ\, 85701\, United States
CATEGORIES:film
ATTACH;FMTTYPE=image/png:https://onstageaz.com/wp-content/uploads/2026/02/Screenshot-2026-02-17-at-6.26.44-PM.png
ORGANIZER;CN="Fox Tucson Theatre":MAILTO:foxinfo@foxtucson.com
END:VEVENT
BEGIN:VEVENT
DTSTART;TZID=America/Phoenix:20260225T193000
DTEND;TZID=America/Phoenix:20260225T213000
DTSTAMP:20260424T114226
CREATED:20250710T031240Z
LAST-MODIFIED:20250710T031240Z
UID:10013894-1772047800-1772055000@onstageaz.com
SUMMARY:Almost\, Maine (Preview)
DESCRIPTION:Welcome to Almost\, Maine\, a place that’s so far north\, it’s almost not in the United States. And it’s not quite a town\, because its residents never gotaround to getting organized\, so it almost doesn’t exist. One cold\, clear\, winter night\, the residents of Almost\, Maine\, find themselves falling in and out of love in unexpected and hilarious ways. Knees are bruised. Hearts are broken. But the bruises heal\, and the hearts mend—almost—in this delightful midwinter night’s dream.
URL:https://onstageaz.com/event/almost-maine-preview/2026-02-25/
LOCATION:Tornabene Theatre\, 1025 N. Olive Rd.\, Tucson\, AZ\, 85721\, United States
CATEGORIES:Stage,Theatrical
ATTACH;FMTTYPE=image/jpeg:https://onstageaz.com/wp-content/uploads/2025/07/a0ZIBUkw.jpg
END:VEVENT
END:VCALENDAR