BEGIN:VCALENDAR
VERSION:2.0
PRODID:-//ON Stage Arizona - ECPv6.15.18//NONSGML v1.0//EN
CALSCALE:GREGORIAN
METHOD:PUBLISH
X-WR-CALNAME:ON Stage Arizona
X-ORIGINAL-URL:https://onstageaz.com
X-WR-CALDESC:Events for ON Stage Arizona
REFRESH-INTERVAL;VALUE=DURATION:PT1H
X-Robots-Tag:noindex
X-PUBLISHED-TTL:PT1H
BEGIN:VTIMEZONE
TZID:America/Phoenix
BEGIN:STANDARD
TZOFFSETFROM:-0700
TZOFFSETTO:-0700
TZNAME:MST
DTSTART:20250101T000000
END:STANDARD
END:VTIMEZONE
BEGIN:VEVENT
DTSTART;TZID=America/Phoenix:20260220T193000
DTEND;TZID=America/Phoenix:20260220T213000
DTSTAMP:20260424T114151
CREATED:20250623T002032Z
LAST-MODIFIED:20250623T002221Z
UID:10013254-1771615800-1771623000@onstageaz.com
SUMMARY:MahlerÕs Tragic
DESCRIPTION:MahlerÕs sixth symphony is one of great contrast. Although written at an incredibly happy period of his life\, the work itself is mostly dark. Mahler firmly believed in an artistÕs ability to predict or even influence future events\, and the Sixth\, his most personal work\, is also a prophetic one. The three blows of the epic hammer are said to represent the three great blows that came to Mahler after the premiere: the death of his child\, the diagnosis of his heart condition\, and his forced resignation from the Vienna Opera. ÒNo other work flowed so directly from his heart as this one\,Ó wrote his wife Alma. ÒWe both cried at the time; we felt so deeply what this music meant\, what it forebodingly told us.Ó The Sixth is a tour-de-force\, an intense eighty minutes of music performed by a large scale orchestra where every detail\, from the smallest\, gentlest moment to the largest crash of the hammer is intensely thought through.
URL:https://onstageaz.com/event/mahleros-tragic/
LOCATION:AZ
CATEGORIES:Music,Stage
ATTACH;FMTTYPE=image/jpeg:https://onstageaz.com/wp-content/uploads/2025/06/unspecified-5.20.34-PM.jpg
END:VEVENT
BEGIN:VEVENT
DTSTART;TZID=America/Phoenix:20260220T193000
DTEND;TZID=America/Phoenix:20260220T213000
DTSTAMP:20260424T114151
CREATED:20251020T001505Z
LAST-MODIFIED:20251020T001505Z
UID:10016201-1771615800-1771623000@onstageaz.com
SUMMARY:The River
DESCRIPTION:A piece of timeless and haunting chamber theatre\, The River captures a moment on a river\, a fisherman\, a woman\, another woman—but are they really there? Memories or ghosts?
URL:https://onstageaz.com/event/the-river/2026-02-20/
LOCATION:The Rogue Theatre\, 300 E University Blvd Suite #150\, Tucson\, AZ\, 85705\, United States
CATEGORIES:Stage,Theatrical
ATTACH;FMTTYPE=image/jpeg:https://onstageaz.com/wp-content/uploads/2025/10/Kws0dQvQ.jpg
ORGANIZER;CN="The Rogue Theatre":MAILTO:ticket@TheRogueTheatre.org
END:VEVENT
END:VCALENDAR